BEGIN:VCALENDAR
VERSION:2.0
PRODID:-//wp-events-plugin.com//7.2.3.1//EN
TZID:Europe/Ljubljana
X-WR-TIMEZONE:Europe/Ljubljana
BEGIN:VEVENT
UID:562@kjuc.si
DTSTART;TZID=Europe/Ljubljana;VALUE=DATE:20180109
DTEND;TZID=Europe/Ljubljana;VALUE=DATE:20180203
DTSTAMP:20250331T102628Z
URL:https://www.kjuc.si/dogodki/160-let-juzne-zeleznice-razstava-vedut/
SUMMARY:160 let južne železnice - razstava vedut
DESCRIPTION:\n\n&nbsp\;\n\n[gallery link="file" columns="2" size="full" ids
 ="eyJ1cmwiOiJodHRwczpcL1wvd3d3LmtqdWMuc2lcL3dwLWNvbnRlbnRcL3VwbG9hZHNcLzIw
 MThcLzAxXC8yMDE4MDEwOV8xNzEzMjYuanBnIiwidGl0bGUiOiIyMDE4MDEwOV8xNzEzMjYiLC
 JjYXB0aW9uIjoiIiwiYWx0IjoiIiwiZGVzY3JpcHRpb24iOiIifQ==\,eyJ1cmwiOiJodHRwcz
 pcL1wvd3d3LmtqdWMuc2lcL3dwLWNvbnRlbnRcL3VwbG9hZHNcLzIwMThcLzAxXC8yMDE4MDEw
 OV8xNzE0NDguanBnIiwidGl0bGUiOiIyMDE4MDEwOV8xNzE0NDgiLCJjYXB0aW9uIjoiIiwiYW
 x0IjoiIiwiZGVzY3JpcHRpb24iOiIifQ==\,eyJ1cmwiOiJodHRwczpcL1wvd3d3LmtqdWMuc2
 lcL3dwLWNvbnRlbnRcL3VwbG9hZHNcLzIwMThcLzAxXC8yMDE4MDEwOV8xNzE0NTYuanBnIiwi
 dGl0bGUiOiIyMDE4MDEwOV8xNzE0NTYiLCJjYXB0aW9uIjoiIiwiYWx0IjoiIiwiZGVzY3JpcH
 Rpb24iOiIifQ==\,eyJ1cmwiOiJodHRwczpcL1wvd3d3LmtqdWMuc2lcL3dwLWNvbnRlbnRcL3
 VwbG9hZHNcLzIwMThcLzAxXC8yMDE4MDEwOV8xNzE1MDQuanBnIiwidGl0bGUiOiIyMDE4MDEw
 OV8xNzE1MDQiLCJjYXB0aW9uIjoiIiwiYWx0IjoiIiwiZGVzY3JpcHRpb24iOiIifQ==\,eyJ1
 cmwiOiJodHRwczpcL1wvd3d3LmtqdWMuc2lcL3dwLWNvbnRlbnRcL3VwbG9hZHNcLzIwMThcLz
 AxXC8yMDE4MDEwOV8xNzE1MzEuanBnIiwidGl0bGUiOiIyMDE4MDEwOV8xNzE1MzEiLCJjYXB0
 aW9uIjoiIiwiYWx0IjoiIiwiZGVzY3JpcHRpb24iOiIifQ==\,eyJ1cmwiOiJodHRwczpcL1wv
 d3d3LmtqdWMuc2lcL3dwLWNvbnRlbnRcL3VwbG9hZHNcLzIwMThcLzAxXC8yMDE4MDEwOV8xNz
 E1NTguanBnIiwidGl0bGUiOiIyMDE4MDEwOV8xNzE1NTgiLCJjYXB0aW9uIjoiIiwiYWx0Ijoi
 IiwiZGVzY3JpcHRpb24iOiIifQ==\,eyJ1cmwiOiJodHRwczpcL1wvd3d3LmtqdWMuc2lcL3dw
 LWNvbnRlbnRcL3VwbG9hZHNcLzIwMThcLzAxXC8yMDE4MDEwOV8xNzE2MDguanBnIiwidGl0bG
 UiOiIyMDE4MDEwOV8xNzE2MDgiLCJjYXB0aW9uIjoiIiwiYWx0IjoiIiwiZGVzY3JpcHRpb24i
 OiIifQ==\,eyJ1cmwiOiJodHRwczpcL1wvd3d3LmtqdWMuc2lcL3dwLWNvbnRlbnRcL3VwbG9h
 ZHNcLzIwMThcLzAxXC8yMDE4MDEwOV8xNzE2MTQuanBnIiwidGl0bGUiOiIyMDE4MDEwOV8xNz
 E2MTQiLCJjYXB0aW9uIjoiIiwiYWx0IjoiIiwiZGVzY3JpcHRpb24iOiIifQ==\,eyJ1cmwiOi
 JodHRwczpcL1wvd3d3LmtqdWMuc2lcL3dwLWNvbnRlbnRcL3VwbG9hZHNcLzIwMThcLzAxXC8y
 MDE4MDEwOV8xNzE4MTEuanBnIiwidGl0bGUiOiIyMDE4MDEwOV8xNzE4MTEiLCJjYXB0aW9uIj
 oiIiwiYWx0IjoiIiwiZGVzY3JpcHRpb24iOiIifQ=="]
ATTACH;FMTTYPE=image/jpeg:https://www.kjuc.si/wp-content/uploads/2025/03/p
 lakat-juzna-zeleznica_rakek-1.jpg
CATEGORIES:Razstave
LOCATION:Enota Ivana Matičiča Rakek\, Partizanska cesta 8a\, Rakek\, Slov
 enia
GEO:45.8127;14.319238
X-APPLE-STRUCTURED-LOCATION;VALUE=URI;X-ADDRESS=Partizanska cesta 8a\, Rake
 k\, Slovenia;X-APPLE-RADIUS=100;X-TITLE=Enota Ivana Matičiča Rakek:geo:4
 5.8127,14.319238
END:VEVENT
BEGIN:VTIMEZONE
TZID:Europe/Ljubljana
X-LIC-LOCATION:Europe/Ljubljana
BEGIN:STANDARD
DTSTART:20171029T020000
TZOFFSETFROM:+0200
TZOFFSETTO:+0100
TZNAME:CET
END:STANDARD
END:VTIMEZONE
END:VCALENDAR