BEGIN:VCALENDAR
VERSION:2.0
PRODID:-//wp-events-plugin.com//7.2.3.1//EN
TZID:Europe/Ljubljana
X-WR-TIMEZONE:Europe/Ljubljana
BEGIN:VEVENT
UID:1507@kjuc.si
DTSTART;TZID=Europe/Ljubljana;VALUE=DATE:20230518
DTEND;TZID=Europe/Ljubljana;VALUE=DATE:20230617
DTSTAMP:20250331T104245Z
URL:https://www.kjuc.si/dogodki/18-slikarski-ex-tempore-rak-rakek-razstava
 -del-na-temo-140-letnica-rojstva-maksima-gasparija-in-lepote-notranjske/
SUMMARY:18. slikarski ex-tempore Rak Rakek – razstava del na temo 140-let
 nica rojstva Maksima Gasparija in lepote Notranjske
DESCRIPTION:&nbsp\;\n\nvabilo_raz\n\n[gallery link="none" size="full" ids="
 eyJ1cmwiOiJodHRwczpcL1wvd3d3LmtqdWMuc2lcL3dwLWNvbnRlbnRcL3VwbG9hZHNcLzIwMj
 NcLzA1XC8yMDIzMDUxOV8wNzMwMDQuanBnIiwidGl0bGUiOiIyMDIzMDUxOV8wNzMwMDQiLCJj
 YXB0aW9uIjoiIiwiYWx0IjoiIiwiZGVzY3JpcHRpb24iOiIifQ==\,eyJ1cmwiOiJodHRwczpc
 L1wvd3d3LmtqdWMuc2lcL3dwLWNvbnRlbnRcL3VwbG9hZHNcLzIwMjNcLzA1XC8yMDIzMDUxOV
 8wNzMwNDMuanBnIiwidGl0bGUiOiIyMDIzMDUxOV8wNzMwNDMiLCJjYXB0aW9uIjoiIiwiYWx0
 IjoiIiwiZGVzY3JpcHRpb24iOiIifQ==\,eyJ1cmwiOiJodHRwczpcL1wvd3d3LmtqdWMuc2lc
 L3dwLWNvbnRlbnRcL3VwbG9hZHNcLzIwMjNcLzA1XC8yMDIzMDUxOV8wNzMxMDAuanBnIiwidG
 l0bGUiOiIyMDIzMDUxOV8wNzMxMDAiLCJjYXB0aW9uIjoiIiwiYWx0IjoiIiwiZGVzY3JpcHRp
 b24iOiIifQ==\,eyJ1cmwiOiJodHRwczpcL1wvd3d3LmtqdWMuc2lcL3dwLWNvbnRlbnRcL3Vw
 bG9hZHNcLzIwMjNcLzA1XC8yMDIzMDUxOV8wNzMxMTEuanBnIiwidGl0bGUiOiIyMDIzMDUxOV
 8wNzMxMTEiLCJjYXB0aW9uIjoiIiwiYWx0IjoiIiwiZGVzY3JpcHRpb24iOiIifQ==\,eyJ1cm
 wiOiJodHRwczpcL1wvd3d3LmtqdWMuc2lcL3dwLWNvbnRlbnRcL3VwbG9hZHNcLzIwMjNcLzA1
 XC8yMDIzMDUxOV8wNzMxNDcuanBnIiwidGl0bGUiOiIyMDIzMDUxOV8wNzMxNDciLCJjYXB0aW
 9uIjoiIiwiYWx0IjoiIiwiZGVzY3JpcHRpb24iOiIifQ==\,eyJ1cmwiOiJodHRwczpcL1wvd3
 d3LmtqdWMuc2lcL3dwLWNvbnRlbnRcL3VwbG9hZHNcLzIwMjNcLzA1XC8yMDIzMDUxOV8wNzMy
 MTkuanBnIiwidGl0bGUiOiIyMDIzMDUxOV8wNzMyMTkiLCJjYXB0aW9uIjoiIiwiYWx0IjoiIi
 wiZGVzY3JpcHRpb24iOiIifQ==\,eyJ1cmwiOiJodHRwczpcL1wvd3d3LmtqdWMuc2lcL3dwLW
 NvbnRlbnRcL3VwbG9hZHNcLzIwMjNcLzA1XC8yMDIzMDUxOV8wNzMwMTYuanBnIiwidGl0bGUi
 OiIyMDIzMDUxOV8wNzMwMTYiLCJjYXB0aW9uIjoiIiwiYWx0IjoiIiwiZGVzY3JpcHRpb24iOi
 IifQ=="]\n\n[gallery link="none" size="full" ids="eyJ1cmwiOiJodHRwczpcL1wv
 d3d3LmtqdWMuc2lcL3dwLWNvbnRlbnRcL3VwbG9hZHNcLzIwMjNcLzA1XC8yMDIzMDUxOV8wNz
 MwNDMtMS5qcGciLCJ0aXRsZSI6IjIwMjMwNTE5XzA3MzA0MyIsImNhcHRpb24iOiIiLCJhbHQi
 OiIiLCJkZXNjcmlwdGlvbiI6IiJ9\,eyJ1cmwiOiJodHRwczpcL1wvd3d3LmtqdWMuc2lcL3dw
 LWNvbnRlbnRcL3VwbG9hZHNcLzIwMjNcLzA1XC8yMDIzMDUxOV8wNzMyNDEtMS5qcGciLCJ0aX
 RsZSI6IjIwMjMwNTE5XzA3MzI0MSIsImNhcHRpb24iOiIiLCJhbHQiOiIiLCJkZXNjcmlwdGlv
 biI6IiJ9\,eyJ1cmwiOiJodHRwczpcL1wvd3d3LmtqdWMuc2lcL3dwLWNvbnRlbnRcL3VwbG9h
 ZHNcLzIwMjNcLzA1XC8yMDIzMDUxOV8wNzMyNTMtMS5qcGciLCJ0aXRsZSI6IjIwMjMwNTE5Xz
 A3MzI1MyIsImNhcHRpb24iOiIiLCJhbHQiOiIiLCJkZXNjcmlwdGlvbiI6IiJ9"]
ATTACH;FMTTYPE=image/jpeg:https://www.kjuc.si/wp-content/uploads/2025/03/v
 abilo_raz-page-001.jpg
CATEGORIES:Razstave
LOCATION:Enota Ivana Matičiča Rakek\, Partizanska cesta 8a\, Rakek\, Slov
 enia
GEO:45.8127;14.319238
X-APPLE-STRUCTURED-LOCATION;VALUE=URI;X-ADDRESS=Partizanska cesta 8a\, Rake
 k\, Slovenia;X-APPLE-RADIUS=100;X-TITLE=Enota Ivana Matičiča Rakek:geo:4
 5.8127,14.319238
END:VEVENT
BEGIN:VTIMEZONE
TZID:Europe/Ljubljana
X-LIC-LOCATION:Europe/Ljubljana
BEGIN:DAYLIGHT
DTSTART:20230326T030000
TZOFFSETFROM:+0100
TZOFFSETTO:+0200
TZNAME:CEST
END:DAYLIGHT
END:VTIMEZONE
END:VCALENDAR