BEGIN:VCALENDAR
VERSION:2.0
PRODID:-//wp-events-plugin.com//7.2.3.1//EN
TZID:Europe/Ljubljana
X-WR-TIMEZONE:Europe/Ljubljana
BEGIN:VEVENT
UID:1330@kjuc.si
DTSTART;TZID=Europe/Ljubljana;VALUE=DATE:20220916
DTEND;TZID=Europe/Ljubljana;VALUE=DATE:20221001
DTSTAMP:20250331T104007Z
URL:https://www.kjuc.si/dogodki/21286/
SUMMARY:Povej mi zgodbo – razstava del Društva likovnikov Ljubljana – 
 2. del
DESCRIPTION:\n\nod 2. do 16. septembra 2022:&nbsp\;Narava opominja\n\nod 17
 . do 30. septembra 2022:&nbsp\;Povej mi zgodbo\n\nVabilo 1\n\n[gallery lin
 k="none" size="full" ids="eyJ1cmwiOiJodHRwczpcL1wvd3d3LmtqdWMuc2lcL3dwLWNv
 bnRlbnRcL3VwbG9hZHNcLzIwMjJcLzA5XC8yMDIyMDkxNl8xODQ3MjEuanBnIiwidGl0bGUiOi
 IyMDIyMDkxNl8xODQ3MjEiLCJjYXB0aW9uIjoiIiwiYWx0IjoiIiwiZGVzY3JpcHRpb24iOiIi
 fQ==\,eyJ1cmwiOiJodHRwczpcL1wvd3d3LmtqdWMuc2lcL3dwLWNvbnRlbnRcL3VwbG9hZHNc
 LzIwMjJcLzA5XC8yMDIyMDkxNl8xODQ3MzQuanBnIiwidGl0bGUiOiIyMDIyMDkxNl8xODQ3Mz
 QiLCJjYXB0aW9uIjoiIiwiYWx0IjoiIiwiZGVzY3JpcHRpb24iOiIifQ==\,eyJ1cmwiOiJodH
 RwczpcL1wvd3d3LmtqdWMuc2lcL3dwLWNvbnRlbnRcL3VwbG9hZHNcLzIwMjJcLzA5XC8yMDIy
 MDkxNl8xODQ3NDQuanBnIiwidGl0bGUiOiIyMDIyMDkxNl8xODQ3NDQiLCJjYXB0aW9uIjoiIi
 wiYWx0IjoiIiwiZGVzY3JpcHRpb24iOiIifQ==\,eyJ1cmwiOiJodHRwczpcL1wvd3d3LmtqdW
 Muc2lcL3dwLWNvbnRlbnRcL3VwbG9hZHNcLzIwMjJcLzA5XC8yMDIyMDkxNl8xODQ3NTEuanBn
 IiwidGl0bGUiOiIyMDIyMDkxNl8xODQ3NTEiLCJjYXB0aW9uIjoiIiwiYWx0IjoiIiwiZGVzY3
 JpcHRpb24iOiIifQ==\,eyJ1cmwiOiJodHRwczpcL1wvd3d3LmtqdWMuc2lcL3dwLWNvbnRlbn
 RcL3VwbG9hZHNcLzIwMjJcLzA5XC8yMDIyMDkxNl8xODQ4MDIuanBnIiwidGl0bGUiOiIyMDIy
 MDkxNl8xODQ4MDIiLCJjYXB0aW9uIjoiIiwiYWx0IjoiIiwiZGVzY3JpcHRpb24iOiIifQ==\,
 eyJ1cmwiOiJodHRwczpcL1wvd3d3LmtqdWMuc2lcL3dwLWNvbnRlbnRcL3VwbG9hZHNcLzIwMj
 JcLzA5XC8yMDIyMDkxNl8xODQ4MDguanBnIiwidGl0bGUiOiIyMDIyMDkxNl8xODQ4MDgiLCJj
 YXB0aW9uIjoiIiwiYWx0IjoiIiwiZGVzY3JpcHRpb24iOiIifQ==\,eyJ1cmwiOiJodHRwczpc
 L1wvd3d3LmtqdWMuc2lcL3dwLWNvbnRlbnRcL3VwbG9hZHNcLzIwMjJcLzA5XC8yMDIyMDkxNl
 8xODQ4MTYuanBnIiwidGl0bGUiOiIyMDIyMDkxNl8xODQ4MTYiLCJjYXB0aW9uIjoiIiwiYWx0
 IjoiIiwiZGVzY3JpcHRpb24iOiIifQ=="]
ATTACH;FMTTYPE=image/jpeg:https://www.kjuc.si/wp-content/uploads/2025/03/p
 lakat-prosta-tema-2022-Rakek-page-0011.jpg
CATEGORIES:Razstave
LOCATION:Enota Ivana Matičiča Rakek\, Partizanska cesta 8a\, Rakek\, Slov
 enia
GEO:45.8127;14.319238
X-APPLE-STRUCTURED-LOCATION;VALUE=URI;X-ADDRESS=Partizanska cesta 8a\, Rake
 k\, Slovenia;X-APPLE-RADIUS=100;X-TITLE=Enota Ivana Matičiča Rakek:geo:4
 5.8127,14.319238
END:VEVENT
BEGIN:VTIMEZONE
TZID:Europe/Ljubljana
X-LIC-LOCATION:Europe/Ljubljana
BEGIN:DAYLIGHT
DTSTART:20220327T030000
TZOFFSETFROM:+0100
TZOFFSETTO:+0200
TZNAME:CEST
END:DAYLIGHT
END:VTIMEZONE
END:VCALENDAR