BEGIN:VCALENDAR
VERSION:2.0
PRODID:-//wp-events-plugin.com//7.2.3.1//EN
TZID:Europe/Ljubljana
X-WR-TIMEZONE:Europe/Ljubljana
BEGIN:VEVENT
UID:56@kjuc.si
DTSTART;TZID=Europe/Ljubljana:20150318T190000
DTEND;TZID=Europe/Ljubljana:20150410T190000
DTSTAMP:20250331T094649Z
URL:https://www.kjuc.si/dogodki/aleksander-kuslan-cas-ki-ga-vec-ni-fotogra
 fska-razstava/
SUMMARY:Aleksander Kušlan: Čas\, ki ga več ni - fotografska razstava
DESCRIPTION:\n\n&nbsp\;\n\nOtvoritev fotografske razstave sreda\, 18. marec
  2015\, ob 19:00\n\n\n\n&nbsp\;\n\nFotografija je postala danes vsakodnevn
 a spremljevalka mnogih\, saj nas obkroža ves čas in na vsakem koraku. Do
 sega nas skozi različne medije\, se nas dotakne ali pa v naslednjem hipu 
 izgine iz naše zaznave in spomina. V primerjavi z gibljivimi slikami se l
 ahko globlje zasidra v našo zavest in spomin\, ker deluje kot jasno odrej
 en izsek nekega časa - trenutek in ne tok časa oziroma zaporedje slik do
 godka\, ujetega na filmski trak. Nekateri le zapisujejo dogodke\, drugi se
  s fotoaparatom spogledujejo kot z umetniškim priborom. Za dobro fotograf
 ijo je pomemben predvsem pravi trenutek\, ki ustvari sporočilo in zgodbo.
  Samo izostreno fotografsko oko želi odkriti in povedati znotraj le-te š
 e nekaj več. Nemalokrat pod prstom sprožilca dobrih ljubiteljskih fotogr
 afov nastajajo slike\, vredne pogleda\, slike\, ki so pravi zapis življen
 ja. Med takšne fotografe v zadnjih letih sodi tudi Aleksander Kušlan iz 
 Pivke. Najprej ga lahko prepoznavamo kot dolgoletnega multimedijskega ustv
 arjalca\, glasbenika\, tehničnega konstruktorja\, jadralca in letalca\, k
 i ga žene nemir raziskovanja in spoznavanja\, kjer se prepletajo številn
 a področja\; poklicno pa se je zapisal predvsem delu avdio-vizualnih vseb
 in (televizijska dejavnost). Veliko doživetij vztrajno zapisuje na filmsk
 i trak\, a je v teh letih ugotovil\, da mu je še večji izziv fotografija
 . Navduševala ga je že v mladosti\, a se ji spričo kasnejših obveznost
 i ni uspel posvečati\, kolikor si je želel. V zadnjih sedmih letih se ji
  je ponovno posvetil z še večjo vnemo in prizadevnim delom. Sicer ima v 
 svojem arhivu zelo bogato zbirko fotografij z različnimi motivi\; med dru
 gim je uspešno sodeloval na raznih fotografskih natečajih\, nekatere fot
 ografije so bile med izbranimi\, najboljše ocenjenimi in nagrajenimi ter 
 predstavljene na več razstavah.\nMnogo časa je namenil spoznavanju stari
 h avtentičnih in nasploh zgodovinskih ambientov v podobi in besedi. V vel
 iki želji\, da bi v fotografski izpovedi obudil etnološko dediščino do
 mače dežele\, je postal v tej vlogi svojevrsten kronist. Te podobe in zg
 odbe sta stoletja v sožitju sooblikovala narava in človek. Pot ga je pel
 jala od Primorske preko Krasa na Notranjsko\, kjer je odkrival različne k
 raje in ljudi\, ki ohranjajo v svojih bivanjskih okoljih in hišah stoletn
 o tradicijo\, obrt in izročilo. Stavbna dediščina starih vasi in nasplo
 h podeželja živi v zanimivi pripovedi\, ki je hkrati najbolj neposredna 
 avtorjeva naklonjenost do življenjskih vrednot nekdanje kulture bivanja i
 n načina preživetja. To so zgodbe o delu o in življenju ljudi\, ki se v
  mnogih desetletjih po svoji materialni in duhovni naravi niso kaj dosti s
 premenile. Z objektivom je obiskal Godnje na Krasu\, dvorec Turn\, Narin i
 n Knežak ... Poln otroških spominov se je vrnil tudi v hišo svojih pred
 nikov na rob Planinskega polja. Nastala je vrsta impresivnih fotografij\, 
 izbor pa zaokrožuje potujočo razstavo\, ki jo je pomenljivo naslovil Ča
 s\, ki ga več ni.\nTematika zajema tri sklope z etnološkega področja\, 
 kot so: preja volne na kolovratu\, peka kruha v črni kuhinji\, kovač v s
 voji kovačnici in kot posebna tema še serija o vinogradniku\, ki ga spre
 mljamo od trgatve do kletarjenja. V slikah niza prizore\, ki gledalcu na p
 reprost način povedo veliko. Značilnost vseh fotografij je naravna svetl
 obna atmosfera\, ki daje vsaki fotografiji poseben čar in pristnost. Foto
 grafije so tako po svoji tehnični kot vsebinski plati izpovedno jasne\, o
 dlikuje jih tudi kompozicijsko ravnotežje planov. Avtor torej ne dodaja n
 ikakršne umetne svetlobe in se ne poslužuje kasnejših posegov ali inter
 vencij\, ker želi uloviti izvirne\, posebne trenutke. Svetlobni žarki\, 
 ki prodirajo skozi stara kmečka okna ali vrata obrtnih in drugih prostoro
 v\, osvetljujejo celoto\, fragmente in detajle ne glede na motiv oziroma p
 rizor. Svetloba in senca sta torej bistvenega pomena\, saj izmenjaje nagla
 šujeta\, mehčata in izostrujeta pogled.\nFotografska prizadevanja Aleksa
 ndra Kušlana so živopisna odstiranja včerajšnjega in današnjega dne\,
  so spomini in nostalgija\, so trenutki in stoletja\, ki jih skrbno ohranj
 a v svojih foto zapisih kot dragoceno resničnost zadnjih pričevalcev\, k
 i še ohranjajo vez preteklosti s sedanjostjo … To so slike o času\, ki
  izginja\, o času\, ki ostaja zaustavljen v trenutkih kot sila spomina in
  moč doživetja.\nPolona Škodič\n\n[gallery ids="eyJ1cmwiOiJodHRwczpcL1
 wvd3d3LmtqdWMuc2lcL3dwLWNvbnRlbnRcL3VwbG9hZHNcLzIwMTVcLzA2XC84MjlfMy5qcGci
 LCJ0aXRsZSI6IjgyOV8zIiwiY2FwdGlvbiI6IiIsImFsdCI6IiIsImRlc2NyaXB0aW9uIjoiIn
 0=\,eyJ1cmwiOiJodHRwczpcL1wvd3d3LmtqdWMuc2lcL3dwLWNvbnRlbnRcL3VwbG9hZHNcLz
 IwMTVcLzA2XC84MjlfNC5qcGciLCJ0aXRsZSI6IjgyOV80IiwiY2FwdGlvbiI6IiIsImFsdCI6
 IiIsImRlc2NyaXB0aW9uIjoiIn0=\,eyJ1cmwiOiJodHRwczpcL1wvd3d3LmtqdWMuc2lcL3dw
 LWNvbnRlbnRcL3VwbG9hZHNcLzIwMTVcLzA2XC84MjlfNS5qcGciLCJ0aXRsZSI6IjgyOV81Ii
 wiY2FwdGlvbiI6IiIsImFsdCI6IiIsImRlc2NyaXB0aW9uIjoiIn0=\,eyJ1cmwiOiJodHRwcz
 pcL1wvd3d3LmtqdWMuc2lcL3dwLWNvbnRlbnRcL3VwbG9hZHNcLzIwMTVcLzA2XC84MjlfNi5q
 cGciLCJ0aXRsZSI6IjgyOV82IiwiY2FwdGlvbiI6IiIsImFsdCI6IiIsImRlc2NyaXB0aW9uIj
 oiIn0=\,eyJ1cmwiOiJodHRwczpcL1wvd3d3LmtqdWMuc2lcL3dwLWNvbnRlbnRcL3VwbG9hZH
 NcLzIwMTVcLzA2XC84MjlfNy5qcGciLCJ0aXRsZSI6IjgyOV83IiwiY2FwdGlvbiI6IiIsImFs
 dCI6IiIsImRlc2NyaXB0aW9uIjoiIn0=\,eyJ1cmwiOiJodHRwczpcL1wvd3d3LmtqdWMuc2lc
 L3dwLWNvbnRlbnRcL3VwbG9hZHNcLzIwMTVcLzA2XC84MjlfOC5qcGciLCJ0aXRsZSI6IjgyOV
 84IiwiY2FwdGlvbiI6IiIsImFsdCI6IiIsImRlc2NyaXB0aW9uIjoiIn0=\,eyJ1cmwiOiJodH
 RwczpcL1wvd3d3LmtqdWMuc2lcL3dwLWNvbnRlbnRcL3VwbG9hZHNcLzIwMTVcLzA2XC84Mjlf
 OS5qcGciLCJ0aXRsZSI6IjgyOV85IiwiY2FwdGlvbiI6IiIsImFsdCI6IiIsImRlc2NyaXB0aW
 9uIjoiIn0=\,eyJ1cmwiOiJodHRwczpcL1wvd3d3LmtqdWMuc2lcL3dwLWNvbnRlbnRcL3VwbG
 9hZHNcLzIwMTVcLzA2XC84MjlfMTAuanBnIiwidGl0bGUiOiI4MjlfMTAiLCJjYXB0aW9uIjoi
 IiwiYWx0IjoiIiwiZGVzY3JpcHRpb24iOiIifQ=="]\n\nvabilo: kuslan_mar2015
ATTACH;FMTTYPE=image/jpeg:https://www.kjuc.si/wp-content/uploads/2025/03/8
 29_1.jpg
CATEGORIES:Razstave
LOCATION:Knjižnica Jožeta Udoviča Cerknica\, Partizanska cesta 22\, Cerk
 nica\, Slovenia
GEO:45.795484;14.362483
X-APPLE-STRUCTURED-LOCATION;VALUE=URI;X-ADDRESS=Partizanska cesta 22\, Cerk
 nica\, Slovenia;X-APPLE-RADIUS=100;X-TITLE=Knjižnica Jožeta Udoviča Cer
 knica:geo:45.795484,14.362483
END:VEVENT
BEGIN:VTIMEZONE
TZID:Europe/Ljubljana
X-LIC-LOCATION:Europe/Ljubljana
BEGIN:STANDARD
DTSTART:20141026T020000
TZOFFSETFROM:+0200
TZOFFSETTO:+0100
TZNAME:CET
END:STANDARD
BEGIN:DAYLIGHT
DTSTART:20150329T030000
TZOFFSETFROM:+0100
TZOFFSETTO:+0200
TZNAME:CEST
END:DAYLIGHT
END:VTIMEZONE
END:VCALENDAR