BEGIN:VCALENDAR
VERSION:2.0
PRODID:-//wp-events-plugin.com//7.2.3.1//EN
TZID:Europe/Ljubljana
X-WR-TIMEZONE:Europe/Ljubljana
BEGIN:VEVENT
UID:501@kjuc.si
DTSTART;TZID=Europe/Ljubljana:20170927T190000
DTEND;TZID=Europe/Ljubljana:20170927T200000
DTSTAMP:20250331T101033Z
URL:https://www.kjuc.si/dogodki/alenka-veber-stoji-tam-beli-grad-predavanj
 a/
SUMMARY:Alenka Veber: Stoji tam beli grad - predavanje
DESCRIPTION:\n\nJesen v rakovški knjižnici\n\nPo poletnem premoru so v ra
 kovški knjižnici 27. septembra jesen pričakali s predavanjem Stoji tam 
 beli grad. Gostili so Alenko Veber\, urednico pri Celjski Mohorjevi družb
 i. V naših krajih jo poznamo tudi po delu v družinskem Zavodu Rihtarjeva
  domačija\, kjer deluje kot fotografinja\, etnologinja\, predavateljica i
 n turistična vodnica.\n\nZbranim obiskovalcem je predstavila številne sl
 ovenske gradove bližnje in daljne okolice ter z njimi povezano ljudsko iz
 ročilo.\n\nPredavanje je vsebinsko povezano tudi s knjižico notranjskega
  izseljenskega pisatelja Franka Trohe Rihtarjevega Življenje v širnem go
 zdu v okolici Snežnika\, ki je izšla ob 200-letnici dokumenta rodbine Tr
 oha iz Babnega Polja z&nbsp\;lastnoročnim podpisom&nbsp\;in&nbsp\;pečato
 m grofa Lichtenberga. Originalne listine so bile tudi na ogled.\n\nNevena 
 Savić\n\n[gallery link="none" columns="2" size="full" ids="eyJ1cmwiOiJodH
 RwczpcL1wvd3d3LmtqdWMuc2lcL3dwLWNvbnRlbnRcL3VwbG9hZHNcLzIwMTdcLzA5XC8yMDE3
 MDkyN18xOTA0MDcuanBnIiwidGl0bGUiOiIyMDE3MDkyN18xOTA0MDciLCJjYXB0aW9uIjoiIi
 wiYWx0IjoiIiwiZGVzY3JpcHRpb24iOiIifQ==\,eyJ1cmwiOiJodHRwczpcL1wvd3d3LmtqdW
 Muc2lcL3dwLWNvbnRlbnRcL3VwbG9hZHNcLzIwMTdcLzA5XC8yMDE3MDkyN18xOTA0NTkuanBn
 IiwidGl0bGUiOiIyMDE3MDkyN18xOTA0NTkiLCJjYXB0aW9uIjoiIiwiYWx0IjoiIiwiZGVzY3
 JpcHRpb24iOiIifQ==\,eyJ1cmwiOiJodHRwczpcL1wvd3d3LmtqdWMuc2lcL3dwLWNvbnRlbn
 RcL3VwbG9hZHNcLzIwMTdcLzA5XC8yMDE3MDkyN18xOTA1MjMuanBnIiwidGl0bGUiOiIyMDE3
 MDkyN18xOTA1MjMiLCJjYXB0aW9uIjoiIiwiYWx0IjoiIiwiZGVzY3JpcHRpb24iOiIifQ==\,
 eyJ1cmwiOiJodHRwczpcL1wvd3d3LmtqdWMuc2lcL3dwLWNvbnRlbnRcL3VwbG9hZHNcLzIwMT
 dcLzA5XC8yMDE3MDkyN18xOTA1NDUuanBnIiwidGl0bGUiOiIyMDE3MDkyN18xOTA1NDUiLCJj
 YXB0aW9uIjoiIiwiYWx0IjoiIiwiZGVzY3JpcHRpb24iOiIifQ==\,eyJ1cmwiOiJodHRwczpc
 L1wvd3d3LmtqdWMuc2lcL3dwLWNvbnRlbnRcL3VwbG9hZHNcLzIwMTdcLzA5XC8yMDE3MDkyN1
 8xOTA1NTkuanBnIiwidGl0bGUiOiIyMDE3MDkyN18xOTA1NTkiLCJjYXB0aW9uIjoiIiwiYWx0
 IjoiIiwiZGVzY3JpcHRpb24iOiIifQ==\,eyJ1cmwiOiJodHRwczpcL1wvd3d3LmtqdWMuc2lc
 L3dwLWNvbnRlbnRcL3VwbG9hZHNcLzIwMTdcLzA5XC8yMDE3MDkyN18yMDExMTEuanBnIiwidG
 l0bGUiOiIyMDE3MDkyN18yMDExMTEiLCJjYXB0aW9uIjoiIiwiYWx0IjoiIiwiZGVzY3JpcHRp
 b24iOiIifQ==\,eyJ1cmwiOiJodHRwczpcL1wvd3d3LmtqdWMuc2lcL3dwLWNvbnRlbnRcL3Vw
 bG9hZHNcLzIwMTdcLzA5XC8yMDE3MDkyN18yMDI0MzMuanBnIiwidGl0bGUiOiIyMDE3MDkyN1
 8yMDI0MzMiLCJjYXB0aW9uIjoiIiwiYWx0IjoiIiwiZGVzY3JpcHRpb24iOiIifQ==\,eyJ1cm
 wiOiJodHRwczpcL1wvd3d3LmtqdWMuc2lcL3dwLWNvbnRlbnRcL3VwbG9hZHNcLzIwMTdcLzA5
 XC8yMDE3MDkyN18yMDI4NTUuanBnIiwidGl0bGUiOiIyMDE3MDkyN18yMDI4NTUiLCJjYXB0aW
 9uIjoiIiwiYWx0IjoiIiwiZGVzY3JpcHRpb24iOiIifQ=="]
ATTACH;FMTTYPE=image/jpeg:https://www.kjuc.si/wp-content/uploads/2025/03/g
 rad.jpg
CATEGORIES:Predavanja,Predstavitve,Prireditev
LOCATION:Enota Ivana Matičiča Rakek\, Partizanska cesta 8a\, Rakek\, Slov
 enia
GEO:45.8127;14.319238
X-APPLE-STRUCTURED-LOCATION;VALUE=URI;X-ADDRESS=Partizanska cesta 8a\, Rake
 k\, Slovenia;X-APPLE-RADIUS=100;X-TITLE=Enota Ivana Matičiča Rakek:geo:4
 5.8127,14.319238
END:VEVENT
BEGIN:VTIMEZONE
TZID:Europe/Ljubljana
X-LIC-LOCATION:Europe/Ljubljana
BEGIN:DAYLIGHT
DTSTART:20170326T030000
TZOFFSETFROM:+0100
TZOFFSETTO:+0200
TZNAME:CEST
END:DAYLIGHT
END:VTIMEZONE
END:VCALENDAR