BEGIN:VCALENDAR
VERSION:2.0
PRODID:-//wp-events-plugin.com//7.2.3.1//EN
TZID:Europe/Ljubljana
X-WR-TIMEZONE:Europe/Ljubljana
BEGIN:VEVENT
UID:674@kjuc.si
DTSTART;TZID=Europe/Ljubljana:20180613T190000
DTEND;TZID=Europe/Ljubljana:20180613T210000
DTSTAMP:20250331T102953Z
URL:https://www.kjuc.si/dogodki/asiimwe-ronald-iz-ugande-v-pogovoru-z-dr-d
 usanom-barago/
SUMMARY:Asiimwe Ronald v pogovoru z dr. Dušanom Barago
DESCRIPTION:\n\nVabilo\n\n[gallery link="file" size="medium" ids="eyJ1cmwiO
 iJodHRwczpcL1wvd3d3LmtqdWMuc2lcL3dwLWNvbnRlbnRcL3VwbG9hZHNcLzIwMThcLzA2XC9
 za3VwbmEuanBnIiwidGl0bGUiOiJza3VwbmEiLCJjYXB0aW9uIjoiIiwiYWx0IjoiIiwiZGVzY
 3JpcHRpb24iOiIifQ==\,eyJ1cmwiOiJodHRwczpcL1wvd3d3LmtqdWMuc2lcL3dwLWNvbnRlb
 nRcL3VwbG9hZHNcLzIwMThcLzA2XC9JTUdfMjAxODA2MTNfMjAzNzE4LmpwZyIsInRpdGxlIjo
 iSU1HXzIwMTgwNjEzXzIwMzcxOCIsImNhcHRpb24iOiIiLCJhbHQiOiIiLCJkZXNjcmlwdGlvb
 iI6IiJ9\,eyJ1cmwiOiJodHRwczpcL1wvd3d3LmtqdWMuc2lcL3dwLWNvbnRlbnRcL3VwbG9hZ
 HNcLzIwMThcLzA2XC9JTUdfMjAxODA2MTNfMTkwNTM3LmpwZyIsInRpdGxlIjoiSU1HXzIwMTg
 wNjEzXzE5MDUzNyIsImNhcHRpb24iOiIiLCJhbHQiOiIiLCJkZXNjcmlwdGlvbiI6IiJ9\,eyJ
 1cmwiOiJodHRwczpcL1wvd3d3LmtqdWMuc2lcL3dwLWNvbnRlbnRcL3VwbG9hZHNcLzIwMThcL
 zA2XC9JTUdfMjAxODA2MTNfMTkwNTU0LTEuanBnIiwidGl0bGUiOiJJTUdfMjAxODA2MTNfMTk
 wNTU0IiwiY2FwdGlvbiI6IiIsImFsdCI6IiIsImRlc2NyaXB0aW9uIjoiIn0=\,eyJ1cmwiOiJ
 odHRwczpcL1wvd3d3LmtqdWMuc2lcL3dwLWNvbnRlbnRcL3VwbG9hZHNcLzIwMThcLzA2XC9JT
 UdfMjAxODA2MTNfMTkwODUxLmpwZyIsInRpdGxlIjoiSU1HXzIwMTgwNjEzXzE5MDg1MSIsImN
 hcHRpb24iOiIiLCJhbHQiOiIiLCJkZXNjcmlwdGlvbiI6IiJ9"]
ATTACH;FMTTYPE=image/jpeg:https://www.kjuc.si/wp-content/uploads/2025/03/v
 abilo-893x1024-1.jpg
CATEGORIES:Predavanja,Predstavitve,Prireditev
LOCATION:Enota Maričke Žnidaršič Stari trg\, Cesta Notranjskega odreda 
 32\, Stari trg pri Ložu\, Slovenia
GEO:45.712702;14.472784
X-APPLE-STRUCTURED-LOCATION;VALUE=URI;X-ADDRESS=Cesta Notranjskega odreda 3
 2\, Stari trg pri Ložu\, Slovenia;X-APPLE-RADIUS=100;X-TITLE=Enota Marič
 ke Žnidaršič Stari trg:geo:45.712702,14.472784
END:VEVENT
BEGIN:VTIMEZONE
TZID:Europe/Ljubljana
X-LIC-LOCATION:Europe/Ljubljana
BEGIN:DAYLIGHT
DTSTART:20180325T030000
TZOFFSETFROM:+0100
TZOFFSETTO:+0200
TZNAME:CEST
END:DAYLIGHT
END:VTIMEZONE
END:VCALENDAR