BEGIN:VCALENDAR
VERSION:2.0
PRODID:-//wp-events-plugin.com//7.2.3.1//EN
TZID:Europe/Ljubljana
X-WR-TIMEZONE:Europe/Ljubljana
BEGIN:VEVENT
UID:767@kjuc.si
DTSTART;TZID=Europe/Ljubljana:20181212T170000
DTEND;TZID=Europe/Ljubljana:20181212T180000
DTSTAMP:20250331T103201Z
URL:https://www.kjuc.si/dogodki/babica-sonja-pripoveduje-pravljicna-urica-
 z-ustvarjalno-delavnico-za-otroke-od-4-leta-dalje/
SUMMARY:Babica Sonja pripoveduje - pravljična urica  z ustvarjalno delavni
 co za otroke od 4. leta dalje
DESCRIPTION:\n\nVabilo
CATEGORIES:Za otroke
LOCATION:Enota Maričke Žnidaršič Stari trg\, Cesta Notranjskega odreda 
 32\, Stari trg pri Ložu\, Slovenia
GEO:45.712702;14.472784
X-APPLE-STRUCTURED-LOCATION;VALUE=URI;X-ADDRESS=Cesta Notranjskega odreda 3
 2\, Stari trg pri Ložu\, Slovenia;X-APPLE-RADIUS=100;X-TITLE=Enota Marič
 ke Žnidaršič Stari trg:geo:45.712702,14.472784
END:VEVENT
BEGIN:VTIMEZONE
TZID:Europe/Ljubljana
X-LIC-LOCATION:Europe/Ljubljana
BEGIN:STANDARD
DTSTART:20181028T020000
TZOFFSETFROM:+0200
TZOFFSETTO:+0100
TZNAME:CET
END:STANDARD
END:VTIMEZONE
END:VCALENDAR