BEGIN:VCALENDAR
VERSION:2.0
PRODID:-//wp-events-plugin.com//7.2.3.1//EN
TZID:Europe/Ljubljana
X-WR-TIMEZONE:Europe/Ljubljana
BEGIN:VEVENT
UID:1631@kjuc.si
DTSTART;TZID=Europe/Ljubljana;VALUE=DATE:20231208
DTEND;TZID=Europe/Ljubljana;VALUE=DATE:20240109
DTSTAMP:20250331T104421Z
URL:https://www.kjuc.si/dogodki/bozicni-okraski-zgodovinskega-zdruzenja-be
 le-hise-razstava-zbirke-anite-leskovec/
SUMMARY:Božični okraski Zgodovinskega združenja Bele hiše - razstava zb
 irke Anite Leskovec
DESCRIPTION:&nbsp\;\n\nvabilo_okraski\n\n[gallery link="none" size="full" i
 ds="eyJ1cmwiOiJodHRwczpcL1wvd3d3LmtqdWMuc2lcL3dwLWNvbnRlbnRcL3VwbG9hZHNcLz
 IwMjNcLzEyXC8yMDIzMTIwNl8xNTAxMDMtZTE3MDQyNjg1Nzk3NjQuanBnIiwidGl0bGUiOiIy
 MDIzMTIwNl8xNTAxMDMiLCJjYXB0aW9uIjoiIiwiYWx0IjoiIiwiZGVzY3JpcHRpb24iOiIifQ
 ==\,eyJ1cmwiOiJodHRwczpcL1wvd3d3LmtqdWMuc2lcL3dwLWNvbnRlbnRcL3VwbG9hZHNcLz
 IwMjNcLzEyXC8yMDIzMTIwNl8xNTAxMTAuanBnIiwidGl0bGUiOiIyMDIzMTIwNl8xNTAxMTAi
 LCJjYXB0aW9uIjoiIiwiYWx0IjoiIiwiZGVzY3JpcHRpb24iOiIifQ==\,eyJ1cmwiOiJodHRw
 czpcL1wvd3d3LmtqdWMuc2lcL3dwLWNvbnRlbnRcL3VwbG9hZHNcLzIwMjNcLzEyXC8yMDIzMT
 IwNl8xNTAxMjAuanBnIiwidGl0bGUiOiIyMDIzMTIwNl8xNTAxMjAiLCJjYXB0aW9uIjoiIiwi
 YWx0IjoiIiwiZGVzY3JpcHRpb24iOiIifQ==\,eyJ1cmwiOiJodHRwczpcL1wvd3d3LmtqdWMu
 c2lcL3dwLWNvbnRlbnRcL3VwbG9hZHNcLzIwMjNcLzEyXC8yMDIzMTIwNl8xNTAxNDQuanBnIi
 widGl0bGUiOiIyMDIzMTIwNl8xNTAxNDQiLCJjYXB0aW9uIjoiIiwiYWx0IjoiIiwiZGVzY3Jp
 cHRpb24iOiIifQ==\,eyJ1cmwiOiJodHRwczpcL1wvd3d3LmtqdWMuc2lcL3dwLWNvbnRlbnRc
 L3VwbG9hZHNcLzIwMjNcLzEyXC8yMDIzMTIwNl8xNTAyMDAuanBnIiwidGl0bGUiOiIyMDIzMT
 IwNl8xNTAyMDAiLCJjYXB0aW9uIjoiIiwiYWx0IjoiIiwiZGVzY3JpcHRpb24iOiIifQ==\,ey
 J1cmwiOiJodHRwczpcL1wvd3d3LmtqdWMuc2lcL3dwLWNvbnRlbnRcL3VwbG9hZHNcLzIwMjNc
 LzEyXC8yMDIzMTIwNl8xNTAyMjIuanBnIiwidGl0bGUiOiIyMDIzMTIwNl8xNTAyMjIiLCJjYX
 B0aW9uIjoiIiwiYWx0IjoiIiwiZGVzY3JpcHRpb24iOiIifQ==\,eyJ1cmwiOiJodHRwczpcL1
 wvd3d3LmtqdWMuc2lcL3dwLWNvbnRlbnRcL3VwbG9hZHNcLzIwMjNcLzEyXC8yMDIzMTIwNl8x
 NTAyNDMuanBnIiwidGl0bGUiOiIyMDIzMTIwNl8xNTAyNDMiLCJjYXB0aW9uIjoiIiwiYWx0Ij
 oiIiwiZGVzY3JpcHRpb24iOiIifQ==\,eyJ1cmwiOiJodHRwczpcL1wvd3d3LmtqdWMuc2lcL3
 dwLWNvbnRlbnRcL3VwbG9hZHNcLzIwMjNcLzEyXC8yMDIzMTIwNl8xNTAyNTEuanBnIiwidGl0
 bGUiOiIyMDIzMTIwNl8xNTAyNTEiLCJjYXB0aW9uIjoiIiwiYWx0IjoiIiwiZGVzY3JpcHRpb2
 4iOiIifQ==\,eyJ1cmwiOiJodHRwczpcL1wvd3d3LmtqdWMuc2lcL3dwLWNvbnRlbnRcL3VwbG
 9hZHNcLzIwMjNcLzEyXC8yMDIzMTIwNl8xNTAzMDEuanBnIiwidGl0bGUiOiIyMDIzMTIwNl8x
 NTAzMDEiLCJjYXB0aW9uIjoiIiwiYWx0IjoiIiwiZGVzY3JpcHRpb24iOiIifQ=="]
ATTACH;FMTTYPE=image/jpeg:https://www.kjuc.si/wp-content/uploads/2025/03/v
 abilo_okraski-page-001.jpg
CATEGORIES:Razstave
LOCATION:Enota Ivana Matičiča Rakek\, Partizanska cesta 8a\, Rakek\, Slov
 enia
GEO:45.8127;14.319238
X-APPLE-STRUCTURED-LOCATION;VALUE=URI;X-ADDRESS=Partizanska cesta 8a\, Rake
 k\, Slovenia;X-APPLE-RADIUS=100;X-TITLE=Enota Ivana Matičiča Rakek:geo:4
 5.8127,14.319238
END:VEVENT
BEGIN:VTIMEZONE
TZID:Europe/Ljubljana
X-LIC-LOCATION:Europe/Ljubljana
BEGIN:STANDARD
DTSTART:20231029T020000
TZOFFSETFROM:+0200
TZOFFSETTO:+0100
TZNAME:CET
END:STANDARD
END:VTIMEZONE
END:VCALENDAR