BEGIN:VCALENDAR
VERSION:2.0
PRODID:-//wp-events-plugin.com//7.2.3.1//EN
TZID:Europe/Ljubljana
X-WR-TIMEZONE:Europe/Ljubljana
BEGIN:VEVENT
UID:1850@kjuc.si
DTSTART;TZID=Europe/Ljubljana:20241212T173000
DTEND;TZID=Europe/Ljubljana:20241212T190000
DTSTAMP:20250331T104714Z
URL:https://www.kjuc.si/dogodki/bralni-klub-24/
SUMMARY:Bralni klub
DESCRIPTION:\n\nKratke zgodbe argentinskega avtorja Andrésa Neumana: Stvar
 i\, ki jih ne narediva\n&nbsp\;\n\n\n"Nikakor se ne izogibam odgovornosti.
  Samo razlikujem njene delce. Radovednost ni odločitev. Vzgib ni dokončn
 ost. Nemir ni sovraštvo. Ker nisem upošteval teh odtenkov\, sem storil\,
  kar sem."\n\n\nAndrés Neuman\n
ATTACH;FMTTYPE=image/jpeg:https://www.kjuc.si/wp-content/uploads/2025/03/d
 ec-2024.jpg
CATEGORIES:Bralni klub,Prireditev
END:VEVENT
BEGIN:VTIMEZONE
TZID:Europe/Ljubljana
X-LIC-LOCATION:Europe/Ljubljana
BEGIN:STANDARD
DTSTART:20241027T020000
TZOFFSETFROM:+0200
TZOFFSETTO:+0100
TZNAME:CET
END:STANDARD
END:VTIMEZONE
END:VCALENDAR