BEGIN:VCALENDAR
VERSION:2.0
PRODID:-//wp-events-plugin.com//7.2.3.1//EN
TZID:Europe/Ljubljana
X-WR-TIMEZONE:Europe/Ljubljana
BEGIN:VEVENT
UID:1910@kjuc.si
DTSTART;TZID=Europe/Ljubljana:20250305T173000
DTEND;TZID=Europe/Ljubljana:20250305T190000
DTSTAMP:20250331T104804Z
URL:https://www.kjuc.si/dogodki/bralni-klub-27/
SUMMARY:Bralni klub
DESCRIPTION:\n\n"Na gomili se je zazibal križ in iz nje se je tiho dvigal 
 izsušen mrtvec. Brada mu je segala do pasu\, na prstih so se videli dolgi
  nohti\, daljši ko prsti sami./.../ Zamajal se je drugi križ in spet se 
 je dvignil mrtvec\, še strašnejši in večji od prvega. Bil je ves pora
 ščen\, brada mu je segala do kolen\, koščeni nohti so se skoraj dotika
 li zemlje. /.../ Zagugal se je tretji križ ..."
ATTACH;FMTTYPE=image/jpeg:https://www.kjuc.si/wp-content/uploads/2025/03/m
 ar-2025.jpg
CATEGORIES:Bralni klub,Prireditev
LOCATION:Knjižnica Jožeta Udoviča Cerknica\, Partizanska cesta 22\, Cerk
 nica\, Slovenia
GEO:45.795484;14.362483
X-APPLE-STRUCTURED-LOCATION;VALUE=URI;X-ADDRESS=Partizanska cesta 22\, Cerk
 nica\, Slovenia;X-APPLE-RADIUS=100;X-TITLE=Knjižnica Jožeta Udoviča Cer
 knica:geo:45.795484,14.362483
END:VEVENT
BEGIN:VTIMEZONE
TZID:Europe/Ljubljana
X-LIC-LOCATION:Europe/Ljubljana
BEGIN:STANDARD
DTSTART:20241027T020000
TZOFFSETFROM:+0200
TZOFFSETTO:+0100
TZNAME:CET
END:STANDARD
END:VTIMEZONE
END:VCALENDAR