BEGIN:VCALENDAR
VERSION:2.0
PRODID:-//wp-events-plugin.com//7.2.3.1//EN
TZID:Europe/Ljubljana
X-WR-TIMEZONE:Europe/Ljubljana
BEGIN:VEVENT
UID:1938@kjuc.si
DTSTART;TZID=Europe/Ljubljana:20250402T173000
DTEND;TZID=Europe/Ljubljana:20250402T190000
DTSTAMP:20250331T104824Z
URL:https://www.kjuc.si/dogodki/bralni-klub-28/
SUMMARY:Bralni klub
DESCRIPTION:\n"Razmišljal sem samo o svojem delu in o vsem\, kar sem poče
 l tisti trenutek\, pri čemer sem pustil za seboj vso preteklost in si nis
 em znal predstavljati prihodnosti. Smrt je namreč maščevalna ženska\, 
 ki te ujame\, če jo dražiš\, misleč\, da jo boš prelisičil z življe
 njem v spominih."\n&nbsp\;
ATTACH;FMTTYPE=image/jpeg:https://www.kjuc.si/wp-content/uploads/2025/03/a
 pr-2025.jpg
CATEGORIES:Bralni klub
LOCATION:Knjižnica Jožeta Udoviča Cerknica\, Partizanska cesta 22\, Cerk
 nica\, Slovenia
GEO:45.795484;14.362483
X-APPLE-STRUCTURED-LOCATION;VALUE=URI;X-ADDRESS=Partizanska cesta 22\, Cerk
 nica\, Slovenia;X-APPLE-RADIUS=100;X-TITLE=Knjižnica Jožeta Udoviča Cer
 knica:geo:45.795484,14.362483
END:VEVENT
BEGIN:VTIMEZONE
TZID:Europe/Ljubljana
X-LIC-LOCATION:Europe/Ljubljana
BEGIN:DAYLIGHT
DTSTART:20250330T030000
TZOFFSETFROM:+0100
TZOFFSETTO:+0200
TZNAME:CEST
END:DAYLIGHT
END:VTIMEZONE
END:VCALENDAR