BEGIN:VCALENDAR
VERSION:2.0
PRODID:-//wp-events-plugin.com//7.2.3.1//EN
TZID:Europe/Ljubljana
X-WR-TIMEZONE:Europe/Ljubljana
BEGIN:VEVENT
UID:1986@kjuc.si
DTSTART;TZID=Europe/Ljubljana:20250604T173000
DTEND;TZID=Europe/Ljubljana:20250604T190000
DTSTAMP:20250521T115706Z
URL:https://www.kjuc.si/dogodki/bralni-klub-30/
SUMMARY:Bralni klub
DESCRIPTION:\n"Verjetno so okapija odkrili že davno\, a so ob pogledu nanj
  mislili\, da sanjajo ali da so ob pamet\, ker okapi\, če ga zagledaš ne
 nadoma in nepričakovano\, dejansko deluje kot bitje\, sestavljeno iz razl
 ičnih delov\, ki so se združili le v sanjah."\n&nbsp\;\n"Vse mogoče lah
 ko narediš z ljubeznijo. Lahko jo bolj ali manj uspešno skrivaš\, lahko
  jo vlečeš s seboj\, lahko jo povzdiguješ\, nosiš skozi vse dežele te
 ga sveta ali vpletaš v cvetlične aranžmaje\, lahko jo položiš&nbsp\;v
  zemljo in pošlješ&nbsp\;v nebo. Vse to ljubezen zdrži\, potrpežljiva 
 in prilagodljiva\, kakršna je\, a preobraziti je ne moreš."
ATTACH;FMTTYPE=image/jpeg:https://www.kjuc.si/wp-content/uploads/2025/05/j
 un-2025-bralni-ana.jpg
CATEGORIES:Bralni klub,Prireditev
LOCATION:Knjižnica Jožeta Udoviča Cerknica\, Partizanska cesta 22\, Cerk
 nica\, Slovenia
GEO:45.795484;14.362483
X-APPLE-STRUCTURED-LOCATION;VALUE=URI;X-ADDRESS=Partizanska cesta 22\, Cerk
 nica\, Slovenia;X-APPLE-RADIUS=100;X-TITLE=Knjižnica Jožeta Udoviča Cer
 knica:geo:45.795484,14.362483
END:VEVENT
BEGIN:VTIMEZONE
TZID:Europe/Ljubljana
X-LIC-LOCATION:Europe/Ljubljana
BEGIN:DAYLIGHT
DTSTART:20250330T030000
TZOFFSETFROM:+0100
TZOFFSETTO:+0200
TZNAME:CEST
END:DAYLIGHT
END:VTIMEZONE
END:VCALENDAR