BEGIN:VCALENDAR
VERSION:2.0
PRODID:-//wp-events-plugin.com//7.2.3.1//EN
TZID:Europe/Ljubljana
X-WR-TIMEZONE:Europe/Ljubljana
BEGIN:VEVENT
UID:1447@kjuc.si
DTSTART;TZID=Europe/Ljubljana:20230308T180000
DTEND;TZID=Europe/Ljubljana:20230308T200000
DTSTAMP:20250331T104157Z
URL:https://www.kjuc.si/dogodki/bralni-klub-7/
SUMMARY:Bralni klub
DESCRIPTION:\nČebele\, ki so mu bile nekoč samo radost in pozneje spomin 
 na mladost\, so postale nekaj zelo pomembnega. Vsemu njegovemu prizadevanj
 u so dale smisel. Po njegovi zaslugi bodo v kmečkih hišah stali korci st
 rdi in namesto bakel in trsk\, ki malo svetijo in samo kadijo\, bodo povso
 d gorele voščenke. V mršave kmečke mošnjičke se bodo stekali tolarji
  in šmarne petice in pred čebelnjaki bodo postavali možje v črnih hla
 čah in belih srajcah\, kot je nekdaj stal pred čebelnjakom njegov oče.\
 n&nbsp\;\n- Mimi Malenšek: Zlati roj
ATTACH;FMTTYPE=image/jpeg:https://www.kjuc.si/wp-content/uploads/2025/03/m
 arec-2023.jpg
CATEGORIES:Bralni klub,Prireditev
LOCATION:Knjižnica Jožeta Udoviča Cerknica\, Partizanska cesta 22\, Cerk
 nica\, Slovenia
GEO:45.795484;14.362483
X-APPLE-STRUCTURED-LOCATION;VALUE=URI;X-ADDRESS=Partizanska cesta 22\, Cerk
 nica\, Slovenia;X-APPLE-RADIUS=100;X-TITLE=Knjižnica Jožeta Udoviča Cer
 knica:geo:45.795484,14.362483
END:VEVENT
BEGIN:VTIMEZONE
TZID:Europe/Ljubljana
X-LIC-LOCATION:Europe/Ljubljana
BEGIN:STANDARD
DTSTART:20221030T020000
TZOFFSETFROM:+0200
TZOFFSETTO:+0100
TZNAME:CET
END:STANDARD
END:VTIMEZONE
END:VCALENDAR