BEGIN:VCALENDAR
VERSION:2.0
PRODID:-//wp-events-plugin.com//7.2.3.1//EN
TZID:Europe/Ljubljana
X-WR-TIMEZONE:Europe/Ljubljana
BEGIN:VEVENT
UID:1313@kjuc.si
DTSTART;TZID=Europe/Ljubljana:20220907T190000
DTEND;TZID=Europe/Ljubljana:20220907T203000
DTSTAMP:20250331T103953Z
URL:https://www.kjuc.si/dogodki/bralni-klub/
SUMMARY:Bralni klub
DESCRIPTION:\n\n"Takrat\, ko sta hiša in vrt še dajala zavetje družini\,
  se ti je lahko primerilo\, da si našel odprto knjigo\, ki je obležala n
 a tlaku ploščadi\, kolebnico\, ki se je vila kot kača po peščeni stez
 ici\, ali vrtičel\, obrobljen s kamenčki in posajen z odtrganimi cvetovi
  - znamenja\, ki so razodevala\, da žive v hiši otroci različnih let. T
 eh znamenj pa skoraj nikdar nista spremljala otroško vpitje in smeh\, tak
 o da je bil topli in polni dom čudno podoben tistim hišam\, ki jih konec
  počitnic v hipu oropa sleherne radosti. Bilo je\, kot da bi vse to - ti
 šina\, rahli vetrič v ograjenem vrtu\, strani knjige\, ki jih je obrača
 l nevidni palec škrata - vpraševalo: "Kje so otroci?" "\n\n(Colette:&nbs
 p\;Claudinin dom)\n\n&nbsp\;\n\n&nbsp\;
ATTACH;FMTTYPE=image/jpeg:https://www.kjuc.si/wp-content/uploads/2025/03/B
 ralni-klub-sept-2022.jpg
CATEGORIES:Bralni klub,Prireditev
LOCATION:Knjižnica Jožeta Udoviča Cerknica\, Partizanska cesta 22\, Cerk
 nica\, Slovenia
GEO:45.795484;14.362483
X-APPLE-STRUCTURED-LOCATION;VALUE=URI;X-ADDRESS=Partizanska cesta 22\, Cerk
 nica\, Slovenia;X-APPLE-RADIUS=100;X-TITLE=Knjižnica Jožeta Udoviča Cer
 knica:geo:45.795484,14.362483
END:VEVENT
BEGIN:VTIMEZONE
TZID:Europe/Ljubljana
X-LIC-LOCATION:Europe/Ljubljana
BEGIN:DAYLIGHT
DTSTART:20220327T030000
TZOFFSETFROM:+0100
TZOFFSETTO:+0200
TZNAME:CEST
END:DAYLIGHT
END:VTIMEZONE
END:VCALENDAR