BEGIN:VCALENDAR
VERSION:2.0
PRODID:-//wp-events-plugin.com//7.2.3.1//EN
TZID:Europe/Ljubljana
X-WR-TIMEZONE:Europe/Ljubljana
BEGIN:VEVENT
UID:513@kjuc.si
DTSTART;TZID=Europe/Ljubljana:20170911T000000
DTEND;TZID=Europe/Ljubljana:20171006T000000
DTSTAMP:20250331T101106Z
URL:https://www.kjuc.si/dogodki/butalci-razstava-knjiznih-izdaj-ob-150-let
 nici-rojstva-frana-milcinskega/
SUMMARY:Butalci - razstava knjižnih izdaj ob 150-letnici rojstva Frana Mil
 činskega
DESCRIPTION:  Vabilo\n\n[gallery link="file" columns="2" size="full" ids="e
 yJ1cmwiOiJodHRwczpcL1wvd3d3LmtqdWMuc2lcL3dwLWNvbnRlbnRcL3VwbG9hZHNcLzIwMTd
 cLzA5XC9JTUdfMjAxNzA5MjhfMTk0NDUyLmpwZyIsInRpdGxlIjoiSU1HXzIwMTcwOTI4XzE5N
 DQ1MiIsImNhcHRpb24iOiIiLCJhbHQiOiIiLCJkZXNjcmlwdGlvbiI6IiJ9\,eyJ1cmwiOiJod
 HRwczpcL1wvd3d3LmtqdWMuc2lcL3dwLWNvbnRlbnRcL3VwbG9hZHNcLzIwMTdcLzA5XC9JTUd
 fMjAxNzA5MjhfMTk0NTMzLmpwZyIsInRpdGxlIjoiSU1HXzIwMTcwOTI4XzE5NDUzMyIsImNhc
 HRpb24iOiIiLCJhbHQiOiIiLCJkZXNjcmlwdGlvbiI6IiJ9\,eyJ1cmwiOiJodHRwczpcL1wvd
 3d3LmtqdWMuc2lcL3dwLWNvbnRlbnRcL3VwbG9hZHNcLzIwMTdcLzA5XC9JTUdfMjAxNzA5Mjh
 fMTk0NjA3LmpwZyIsInRpdGxlIjoiSU1HXzIwMTcwOTI4XzE5NDYwNyIsImNhcHRpb24iOiIiL
 CJhbHQiOiIiLCJkZXNjcmlwdGlvbiI6IiJ9\,eyJ1cmwiOiJodHRwczpcL1wvd3d3LmtqdWMuc
 2lcL3dwLWNvbnRlbnRcL3VwbG9hZHNcLzIwMTdcLzA5XC9JTUdfMjAxNzA5MjhfMTk0NjE2Lmp
 wZyIsInRpdGxlIjoiSU1HXzIwMTcwOTI4XzE5NDYxNiIsImNhcHRpb24iOiIiLCJhbHQiOiIiL
 CJkZXNjcmlwdGlvbiI6IiJ9\,eyJ1cmwiOiJodHRwczpcL1wvd3d3LmtqdWMuc2lcL3dwLWNvb
 nRlbnRcL3VwbG9hZHNcLzIwMTdcLzA5XC9JTUdfMjAxNzA5MjhfMTk0NjIyLmpwZyIsInRpdGx
 lIjoiSU1HXzIwMTcwOTI4XzE5NDYyMiIsImNhcHRpb24iOiIiLCJhbHQiOiIiLCJkZXNjcmlwd
 GlvbiI6IiJ9"]
ATTACH;FMTTYPE=image/jpeg:https://www.kjuc.si/wp-content/uploads/2025/03/b
 olha.jpg
CATEGORIES:Razstave
LOCATION:Enota Maričke Žnidaršič Stari trg\, Cesta Notranjskega odreda 
 32\, Stari trg pri Ložu\, Slovenia
GEO:45.712702;14.472784
X-APPLE-STRUCTURED-LOCATION;VALUE=URI;X-ADDRESS=Cesta Notranjskega odreda 3
 2\, Stari trg pri Ložu\, Slovenia;X-APPLE-RADIUS=100;X-TITLE=Enota Marič
 ke Žnidaršič Stari trg:geo:45.712702,14.472784
END:VEVENT
BEGIN:VTIMEZONE
TZID:Europe/Ljubljana
X-LIC-LOCATION:Europe/Ljubljana
BEGIN:DAYLIGHT
DTSTART:20170326T030000
TZOFFSETFROM:+0100
TZOFFSETTO:+0200
TZNAME:CEST
END:DAYLIGHT
END:VTIMEZONE
END:VCALENDAR