BEGIN:VCALENDAR
VERSION:2.0
PRODID:-//wp-events-plugin.com//7.2.3.1//EN
TZID:Europe/Ljubljana
X-WR-TIMEZONE:Europe/Ljubljana
BEGIN:VEVENT
UID:1025@kjuc.si
DTSTART;TZID=Europe/Ljubljana;VALUE=DATE:20200213
DTEND;TZID=Europe/Ljubljana;VALUE=DATE:20200227
DTSTAMP:20250331T103531Z
URL:https://www.kjuc.si/dogodki/cerkljanski-laufarji-v-klekljanih-podobah/
SUMMARY:Cerkljanski laufarji v klekljanih podobah
DESCRIPTION:\n\n\nSlovenija se ponaša z izredno bogato pustno dediščino.
  Med najbolj znanimi pustnimi skupinami so tudi laufarji iz Cerknega. Skup
 ino sestavlja 25 likov. Razen enega vsi nosijo lesena naličja – larfe\,
  izrezljane iz lipovega lesa. Vsaka larfa skupaj z obleko in pripadajočim
 i rekviziti predstavlja določen lik. Nekateri od njih imajo svoj izvor v 
 predkrščanskem verovanju naših prednikov\, drugi predstavljajo človeš
 ke lastnosti in posebnosti\, tretji socialne ali poklicne skupine. Njihova
  skupna naloga pa je\, da preženejo zimo in prikličejo pomlad ter skozi 
 pustni obred obračunajo z vsem\, kar je bilo slabega in napačnega v pret
 eklem letu in s tem omogočijo prebivalcem nov začetek. Cerkljanska laufa
 rija je bila tako kot Klekljanje idrijske čipke razglašena za nesnovno d
 ediščino državnega pomena.\n\n
ATTACH;FMTTYPE=image/jpeg:https://www.kjuc.si/wp-content/uploads/2025/03/C
 erkljanski-laufarji-razstava-1024x735-1.jpg
CATEGORIES:Razstave
LOCATION:Knjižnica Jožeta Udoviča Cerknica\, Partizanska cesta 22\, Cerk
 nica\, Slovenia
GEO:45.795484;14.362483
X-APPLE-STRUCTURED-LOCATION;VALUE=URI;X-ADDRESS=Partizanska cesta 22\, Cerk
 nica\, Slovenia;X-APPLE-RADIUS=100;X-TITLE=Knjižnica Jožeta Udoviča Cer
 knica:geo:45.795484,14.362483
END:VEVENT
BEGIN:VTIMEZONE
TZID:Europe/Ljubljana
X-LIC-LOCATION:Europe/Ljubljana
BEGIN:STANDARD
DTSTART:20191027T020000
TZOFFSETFROM:+0200
TZOFFSETTO:+0100
TZNAME:CET
END:STANDARD
END:VTIMEZONE
END:VCALENDAR