BEGIN:VCALENDAR
VERSION:2.0
PRODID:-//wp-events-plugin.com//7.2.3.1//EN
TZID:Europe/Ljubljana
X-WR-TIMEZONE:Europe/Ljubljana
BEGIN:VEVENT
UID:1275@kjuc.si
DTSTART;TZID=Europe/Ljubljana;VALUE=DATE:20220519
DTEND;TZID=Europe/Ljubljana;VALUE=DATE:20220820
DTSTAMP:20250331T103902Z
URL:https://www.kjuc.si/dogodki/cerknica-v-umetnosti-skozi-oci-deklet-in-f
 antov-iz-varstveno-delovnega-centra-postojna-enota-cerknica-2/
SUMMARY:Cerknica v umetnosti skozi oči deklet in fantov iz Varstveno delov
 nega centra Postojna – Enota Cerknica
DESCRIPTION:\n\nST VDC razstava\n\n&nbsp\;\n\n[gallery link="none" size="fu
 ll" ids="eyJ1cmwiOiJodHRwczpcL1wvd3d3LmtqdWMuc2lcL3dwLWNvbnRlbnRcL3VwbG9hZ
 HNcLzIwMjJcLzA1XC8yODMwMDk5NzNfMTAyMTkzODAxOTc3OTExMDNfNDkyOTI4MTM4MjQ5OTc
 wMjE5NV9uLmpwZyIsInRpdGxlIjoiMjgzMDA5OTczXzEwMjE5MzgwMTk3NzkxMTAzXzQ5MjkyO
 DEzODI0OTk3MDIxOTVfbiIsImNhcHRpb24iOiIiLCJhbHQiOiIiLCJkZXNjcmlwdGlvbiI6IiJ
 9\,eyJ1cmwiOiJodHRwczpcL1wvd3d3LmtqdWMuc2lcL3dwLWNvbnRlbnRcL3VwbG9hZHNcLzI
 wMjJcLzA1XC8yODMwMjIyNzdfMTAyMTkzODAyMDI3MTEyMjZfMjc0NjUxMTg0OTU2OTc5MjgwN
 V9uLmpwZyIsInRpdGxlIjoiMjgzMDIyMjc3XzEwMjE5MzgwMjAyNzExMjI2XzI3NDY1MTE4NDk
 1Njk3OTI4MDVfbiIsImNhcHRpb24iOiIiLCJhbHQiOiIiLCJkZXNjcmlwdGlvbiI6IiJ9\,eyJ
 1cmwiOiJodHRwczpcL1wvd3d3LmtqdWMuc2lcL3dwLWNvbnRlbnRcL3VwbG9hZHNcLzIwMjJcL
 zA1XC8yODMwMjkyMTlfMTAyMTkzODAyMDgxMTEzNjFfMjcyOTMyMzQyNzI2MTYzMTU3NF9uLmp
 wZyIsInRpdGxlIjoiMjgzMDI5MjE5XzEwMjE5MzgwMjA4MTExMzYxXzI3MjkzMjM0MjcyNjE2M
 zE1NzRfbiIsImNhcHRpb24iOiIiLCJhbHQiOiIiLCJkZXNjcmlwdGlvbiI6IiJ9\,eyJ1cmwiO
 iJodHRwczpcL1wvd3d3LmtqdWMuc2lcL3dwLWNvbnRlbnRcL3VwbG9hZHNcLzIwMjJcLzA1XC8
 yODMwNjYwOTNfMTAyMTkzODAxOTgwMzExMDlfNDEzMjg2MTYyMDE0NzY2OTU1NF9uLmpwZyIsI
 nRpdGxlIjoiMjgzMDY2MDkzXzEwMjE5MzgwMTk4MDMxMTA5XzQxMzI4NjE2MjAxNDc2Njk1NTR
 fbiIsImNhcHRpb24iOiIiLCJhbHQiOiIiLCJkZXNjcmlwdGlvbiI6IiJ9\,eyJ1cmwiOiJodHR
 wczpcL1wvd3d3LmtqdWMuc2lcL3dwLWNvbnRlbnRcL3VwbG9hZHNcLzIwMjJcLzA1XC8yODMwO
 DMwMzJfMTAyMTkzODAyMDMzNTEyNDJfMzA4NTM5ODkxMjg5MTQwNTIwNV9uLmpwZyIsInRpdGx
 lIjoiMjgzMDgzMDMyXzEwMjE5MzgwMjAzMzUxMjQyXzMwODUzOTg5MTI4OTE0MDUyMDVfbiIsI
 mNhcHRpb24iOiIiLCJhbHQiOiIiLCJkZXNjcmlwdGlvbiI6IiJ9\,eyJ1cmwiOiJodHRwczpcL
 1wvd3d3LmtqdWMuc2lcL3dwLWNvbnRlbnRcL3VwbG9hZHNcLzIwMjJcLzA1XC8yODMxMDg4NDJ
 fMTAyMTkzODAyMDIwNzEyMTBfNTEzMzExODQ3NDM0OTE3NTAyNV9uLmpwZyIsInRpdGxlIjoiM
 jgzMTA4ODQyXzEwMjE5MzgwMjAyMDcxMjEwXzUxMzMxMTg0NzQzNDkxNzUwMjVfbiIsImNhcHR
 pb24iOiIiLCJhbHQiOiIiLCJkZXNjcmlwdGlvbiI6IiJ9"]\n\n
ATTACH;FMTTYPE=image/jpeg:https://www.kjuc.si/wp-content/uploads/2025/03/S
 T-VDC-razstava-page-001-654x1024-1.jpg
CATEGORIES:Razstave
LOCATION:Enota Maričke Žnidaršič Stari trg\, Cesta Notranjskega odreda 
 32\, Stari trg pri Ložu\, Slovenia
GEO:45.712702;14.472784
X-APPLE-STRUCTURED-LOCATION;VALUE=URI;X-ADDRESS=Cesta Notranjskega odreda 3
 2\, Stari trg pri Ložu\, Slovenia;X-APPLE-RADIUS=100;X-TITLE=Enota Marič
 ke Žnidaršič Stari trg:geo:45.712702,14.472784
END:VEVENT
BEGIN:VTIMEZONE
TZID:Europe/Ljubljana
X-LIC-LOCATION:Europe/Ljubljana
BEGIN:DAYLIGHT
DTSTART:20220327T030000
TZOFFSETFROM:+0100
TZOFFSETTO:+0200
TZNAME:CEST
END:DAYLIGHT
END:VTIMEZONE
END:VCALENDAR