BEGIN:VCALENDAR
VERSION:2.0
PRODID:-//wp-events-plugin.com//7.2.3.1//EN
TZID:Europe/Ljubljana
X-WR-TIMEZONE:Europe/Ljubljana
BEGIN:VEVENT
UID:1258@kjuc.si
DTSTART;TZID=Europe/Ljubljana;VALUE=DATE:20220429
DTEND;TZID=Europe/Ljubljana;VALUE=DATE:20220514
DTSTAMP:20250331T103844Z
URL:https://www.kjuc.si/dogodki/dan-prej-med-vojno-in-mirom-vojna-za-samos
 tojno-slovenijo-1991-razstava-zdruzenja-sever-za-primorsko-in-notranjsko/
SUMMARY:Dan prej - med vojno in mirom - Vojna za samostojno Slovenijo 1991 
 - razstava Združenja Sever za Primorsko in Notranjsko
DESCRIPTION:\n\nVabilo\n\n[gallery link="none" size="full" ids="eyJ1cmwiOiJ
 odHRwczpcL1wvd3d3LmtqdWMuc2lcL3dwLWNvbnRlbnRcL3VwbG9hZHNcLzIwMjJcLzA0XC8yM
 DIyMDQyOV8xNzE4MTEuanBnIiwidGl0bGUiOiIyMDIyMDQyOV8xNzE4MTEiLCJjYXB0aW9uIjo
 iIiwiYWx0IjoiIiwiZGVzY3JpcHRpb24iOiIifQ==\,eyJ1cmwiOiJodHRwczpcL1wvd3d3Lmt
 qdWMuc2lcL3dwLWNvbnRlbnRcL3VwbG9hZHNcLzIwMjJcLzA0XC8yMDIyMDQyOV8xNzE4Mjkua
 nBnIiwidGl0bGUiOiIyMDIyMDQyOV8xNzE4MjkiLCJjYXB0aW9uIjoiIiwiYWx0IjoiIiwiZGV
 zY3JpcHRpb24iOiIifQ==\,eyJ1cmwiOiJodHRwczpcL1wvd3d3LmtqdWMuc2lcL3dwLWNvbnR
 lbnRcL3VwbG9hZHNcLzIwMjJcLzA0XC8yMDIyMDQyOV8xNzE4MzYuanBnIiwidGl0bGUiOiIyM
 DIyMDQyOV8xNzE4MzYiLCJjYXB0aW9uIjoiIiwiYWx0IjoiIiwiZGVzY3JpcHRpb24iOiIifQ=
 =\,eyJ1cmwiOiJodHRwczpcL1wvd3d3LmtqdWMuc2lcL3dwLWNvbnRlbnRcL3VwbG9hZHNcLzI
 wMjJcLzA0XC8yMDIyMDQyOV8xNzE4NDAuanBnIiwidGl0bGUiOiIyMDIyMDQyOV8xNzE4NDAiL
 CJjYXB0aW9uIjoiIiwiYWx0IjoiIiwiZGVzY3JpcHRpb24iOiIifQ==\,eyJ1cmwiOiJodHRwc
 zpcL1wvd3d3LmtqdWMuc2lcL3dwLWNvbnRlbnRcL3VwbG9hZHNcLzIwMjJcLzA0XC8yMDIyMDQ
 yOV8xNzE4NTIuanBnIiwidGl0bGUiOiIyMDIyMDQyOV8xNzE4NTIiLCJjYXB0aW9uIjoiIiwiY
 Wx0IjoiIiwiZGVzY3JpcHRpb24iOiIifQ==\,eyJ1cmwiOiJodHRwczpcL1wvd3d3LmtqdWMuc
 2lcL3dwLWNvbnRlbnRcL3VwbG9hZHNcLzIwMjJcLzA0XC8yMDIyMDQyOV8xNzE5MDIuanBnIiw
 idGl0bGUiOiIyMDIyMDQyOV8xNzE5MDIiLCJjYXB0aW9uIjoiIiwiYWx0IjoiIiwiZGVzY3Jpc
 HRpb24iOiIifQ=="]
ATTACH;FMTTYPE=image/jpeg:https://www.kjuc.si/wp-content/uploads/2025/03/v
 abilo_sever-1024x701-1.jpg
CATEGORIES:Razstave
LOCATION:Enota Ivana Matičiča Rakek\, Partizanska cesta 8a\, Rakek\, Slov
 enia
GEO:45.8127;14.319238
X-APPLE-STRUCTURED-LOCATION;VALUE=URI;X-ADDRESS=Partizanska cesta 8a\, Rake
 k\, Slovenia;X-APPLE-RADIUS=100;X-TITLE=Enota Ivana Matičiča Rakek:geo:4
 5.8127,14.319238
END:VEVENT
BEGIN:VTIMEZONE
TZID:Europe/Ljubljana
X-LIC-LOCATION:Europe/Ljubljana
BEGIN:DAYLIGHT
DTSTART:20220327T030000
TZOFFSETFROM:+0100
TZOFFSETTO:+0200
TZNAME:CEST
END:DAYLIGHT
END:VTIMEZONE
END:VCALENDAR