BEGIN:VCALENDAR
VERSION:2.0
PRODID:-//wp-events-plugin.com//7.2.3.1//EN
TZID:Europe/Ljubljana
X-WR-TIMEZONE:Europe/Ljubljana
BEGIN:VEVENT
UID:1276@kjuc.si
DTSTART;TZID=Europe/Ljubljana;VALUE=DATE:20220516
DTEND;TZID=Europe/Ljubljana;VALUE=DATE:20220701
DTSTAMP:20250331T103904Z
URL:https://www.kjuc.si/dogodki/danica-plos-razstava-unikatnih-cipk-3/
SUMMARY:Danica Plos - razstava unikatnih čipk
DESCRIPTION:
ATTACH;FMTTYPE=image/jpeg:https://www.kjuc.si/wp-content/uploads/2025/03/D
 anica-Plos-maj-jun-22-694x1024-1.jpg
CATEGORIES:Razstave
LOCATION:Enota Maričke Žnidaršič Stari trg\, Cesta Notranjskega odreda 
 32\, Stari trg pri Ložu\, Slovenia
GEO:45.712702;14.472784
X-APPLE-STRUCTURED-LOCATION;VALUE=URI;X-ADDRESS=Cesta Notranjskega odreda 3
 2\, Stari trg pri Ložu\, Slovenia;X-APPLE-RADIUS=100;X-TITLE=Enota Marič
 ke Žnidaršič Stari trg:geo:45.712702,14.472784
END:VEVENT
BEGIN:VTIMEZONE
TZID:Europe/Ljubljana
X-LIC-LOCATION:Europe/Ljubljana
BEGIN:DAYLIGHT
DTSTART:20220327T030000
TZOFFSETFROM:+0100
TZOFFSETTO:+0200
TZNAME:CEST
END:DAYLIGHT
END:VTIMEZONE
END:VCALENDAR