BEGIN:VCALENDAR
VERSION:2.0
PRODID:-//wp-events-plugin.com//7.2.3.1//EN
TZID:Europe/Ljubljana
X-WR-TIMEZONE:Europe/Ljubljana
BEGIN:VEVENT
UID:815@kjuc.si
DTSTART;TZID=Europe/Ljubljana;VALUE=DATE:20190222
DTEND;TZID=Europe/Ljubljana;VALUE=DATE:20190323
DTSTAMP:20250331T103248Z
URL:https://www.kjuc.si/dogodki/darja-bajc-razstava-pletenih-in-kvackanih-
 izdelkov-za-najmlajse-4/
SUMMARY:Darja Bajc - razstava pletenih in kvačkanih izdelkov za najmlajše
DESCRIPTION:\n\n[gallery link="file" columns="2" size="full" ids="eyJ1cmwiO
 iJodHRwczpcL1wvd3d3LmtqdWMuc2lcL3dwLWNvbnRlbnRcL3VwbG9hZHNcLzIwMTlcLzAyXC8
 yMDE5MDIyNV8xMzIyMjkuanBnIiwidGl0bGUiOiIyMDE5MDIyNV8xMzIyMjkiLCJjYXB0aW9uI
 joiIiwiYWx0IjoiIiwiZGVzY3JpcHRpb24iOiIifQ==\,eyJ1cmwiOiJodHRwczpcL1wvd3d3L
 mtqdWMuc2lcL3dwLWNvbnRlbnRcL3VwbG9hZHNcLzIwMTlcLzAyXC8yMDE5MDIyNV8xMzIyNDE
 uanBnIiwidGl0bGUiOiIyMDE5MDIyNV8xMzIyNDEiLCJjYXB0aW9uIjoiIiwiYWx0IjoiIiwiZ
 GVzY3JpcHRpb24iOiIifQ==\,eyJ1cmwiOiJodHRwczpcL1wvd3d3LmtqdWMuc2lcL3dwLWNvb
 nRlbnRcL3VwbG9hZHNcLzIwMTlcLzAyXC8yMDE5MDIyNV8xMzIzMDIuanBnIiwidGl0bGUiOiI
 yMDE5MDIyNV8xMzIzMDIiLCJjYXB0aW9uIjoiIiwiYWx0IjoiIiwiZGVzY3JpcHRpb24iOiIif
 Q==\,eyJ1cmwiOiJodHRwczpcL1wvd3d3LmtqdWMuc2lcL3dwLWNvbnRlbnRcL3VwbG9hZHNcL
 zIwMTlcLzAyXC8yMDE5MDIyNV8xMzIzMTcuanBnIiwidGl0bGUiOiIyMDE5MDIyNV8xMzIzMTc
 iLCJjYXB0aW9uIjoiIiwiYWx0IjoiIiwiZGVzY3JpcHRpb24iOiIifQ==\,eyJ1cmwiOiJodHR
 wczpcL1wvd3d3LmtqdWMuc2lcL3dwLWNvbnRlbnRcL3VwbG9hZHNcLzIwMTlcLzAyXC8yMDE5M
 DIyNV8xMzIzNTUuanBnIiwidGl0bGUiOiIyMDE5MDIyNV8xMzIzNTUiLCJjYXB0aW9uIjoiIiw
 iYWx0IjoiIiwiZGVzY3JpcHRpb24iOiIifQ==\,eyJ1cmwiOiJodHRwczpcL1wvd3d3LmtqdWM
 uc2lcL3dwLWNvbnRlbnRcL3VwbG9hZHNcLzIwMTlcLzAyXC8yMDE5MDIyNV8xMzI0MTMuanBnI
 iwidGl0bGUiOiIyMDE5MDIyNV8xMzI0MTMiLCJjYXB0aW9uIjoiIiwiYWx0IjoiIiwiZGVzY3J
 pcHRpb24iOiIifQ=="]
ATTACH;FMTTYPE=image/jpeg:https://www.kjuc.si/wp-content/uploads/2025/03/c
 over-7-12.jpg
CATEGORIES:Razstave
LOCATION:Enota Ivana Matičiča Rakek\, Partizanska cesta 8a\, Rakek\, Slov
 enia
GEO:45.8127;14.319238
X-APPLE-STRUCTURED-LOCATION;VALUE=URI;X-ADDRESS=Partizanska cesta 8a\, Rake
 k\, Slovenia;X-APPLE-RADIUS=100;X-TITLE=Enota Ivana Matičiča Rakek:geo:4
 5.8127,14.319238
END:VEVENT
BEGIN:VTIMEZONE
TZID:Europe/Ljubljana
X-LIC-LOCATION:Europe/Ljubljana
BEGIN:STANDARD
DTSTART:20181028T020000
TZOFFSETFROM:+0200
TZOFFSETTO:+0100
TZNAME:CET
END:STANDARD
END:VTIMEZONE
END:VCALENDAR