BEGIN:VCALENDAR
VERSION:2.0
PRODID:-//wp-events-plugin.com//7.2.3.1//EN
TZID:Europe/Ljubljana
X-WR-TIMEZONE:Europe/Ljubljana
BEGIN:VEVENT
UID:1495@kjuc.si
DTSTART;TZID=Europe/Ljubljana:20230424T190000
DTEND;TZID=Europe/Ljubljana:20230424T200000
DTSTAMP:20250331T104237Z
URL:https://www.kjuc.si/dogodki/divja-prehrana-kot-terapevtska-hrana-delav
 nica-z-lili-mahne/
SUMMARY:Divja prehrana kot terapevtska hrana - delavnica z Lili Mahne
DESCRIPTION:&nbsp\;\n\nvabilo_TD Rakek\n\n[gallery link="none" size="full" 
 ids="eyJ1cmwiOiJodHRwczpcL1wvd3d3LmtqdWMuc2lcL3dwLWNvbnRlbnRcL3VwbG9hZHNcL
 zIwMjNcLzA0XC8yMDIzMDQyNF8yMDAzMTUuanBnIiwidGl0bGUiOiIyMDIzMDQyNF8yMDAzMTU
 iLCJjYXB0aW9uIjoiIiwiYWx0IjoiIiwiZGVzY3JpcHRpb24iOiIifQ==\,eyJ1cmwiOiJodHR
 wczpcL1wvd3d3LmtqdWMuc2lcL3dwLWNvbnRlbnRcL3VwbG9hZHNcLzIwMjNcLzA0XC8yMDIzM
 DQyNF8xOTUwMzQuanBnIiwidGl0bGUiOiIyMDIzMDQyNF8xOTUwMzQiLCJjYXB0aW9uIjoiIiw
 iYWx0IjoiIiwiZGVzY3JpcHRpb24iOiIifQ==\,eyJ1cmwiOiJodHRwczpcL1wvd3d3LmtqdWM
 uc2lcL3dwLWNvbnRlbnRcL3VwbG9hZHNcLzIwMjNcLzA0XC8yMDIzMDQyNF8xOTAwNTguanBnI
 iwidGl0bGUiOiIyMDIzMDQyNF8xOTAwNTgiLCJjYXB0aW9uIjoiIiwiYWx0IjoiIiwiZGVzY3J
 pcHRpb24iOiIifQ==\,eyJ1cmwiOiJodHRwczpcL1wvd3d3LmtqdWMuc2lcL3dwLWNvbnRlbnR
 cL3VwbG9hZHNcLzIwMjNcLzA0XC8yMDIzMDQyNF8xODU5NDguanBnIiwidGl0bGUiOiIyMDIzM
 DQyNF8xODU5NDgiLCJjYXB0aW9uIjoiIiwiYWx0IjoiIiwiZGVzY3JpcHRpb24iOiIifQ=="]\
 n\n&nbsp\;
ATTACH;FMTTYPE=image/jpeg:https://www.kjuc.si/wp-content/uploads/2025/03/v
 abilo_TD-Rakek-page-001.jpg
CATEGORIES:Predavanja,Prireditev,Razno
LOCATION:Enota Ivana Matičiča Rakek\, Partizanska cesta 8a\, Rakek\, Slov
 enia
GEO:45.8127;14.319238
X-APPLE-STRUCTURED-LOCATION;VALUE=URI;X-ADDRESS=Partizanska cesta 8a\, Rake
 k\, Slovenia;X-APPLE-RADIUS=100;X-TITLE=Enota Ivana Matičiča Rakek:geo:4
 5.8127,14.319238
END:VEVENT
BEGIN:VTIMEZONE
TZID:Europe/Ljubljana
X-LIC-LOCATION:Europe/Ljubljana
BEGIN:DAYLIGHT
DTSTART:20230326T030000
TZOFFSETFROM:+0100
TZOFFSETTO:+0200
TZNAME:CEST
END:DAYLIGHT
END:VTIMEZONE
END:VCALENDAR