BEGIN:VCALENDAR
VERSION:2.0
PRODID:-//wp-events-plugin.com//7.2.3.1//EN
TZID:Europe/Ljubljana
X-WR-TIMEZONE:Europe/Ljubljana
BEGIN:VEVENT
UID:1490@kjuc.si
DTSTART;TZID=Europe/Ljubljana:20230512T190000
DTEND;TZID=Europe/Ljubljana:20230512T200000
DTSTAMP:20250331T104231Z
URL:https://www.kjuc.si/dogodki/dusan-baraga-tanja-ozbolt-kosmrlj-in-natas
 a-vampelj-suhadolnik-predstavitev-krajev-in-skupnosti-ob-jezeru-bunyony-v-
 ugandi/
SUMMARY:Dušan Baraga\, Tanja Ožbolt Košmrlj in Nataša Vampelj Suhadolni
 k - predstavitev krajev in skupnosti ob jezeru Bunyony v Ugandi
DESCRIPTION:\n\nUganda. vabilo.21.4.
ATTACH;FMTTYPE=image/jpeg:https://www.kjuc.si/wp-content/uploads/2025/03/U
 ganda.-vabilo.21.4.-page-001.jpg
CATEGORIES:Predavanja,Prireditev,Razno
LOCATION:Enota Maričke Žnidaršič Stari trg\, Cesta Notranjskega odreda 
 32\, Stari trg pri Ložu\, Slovenia
GEO:45.712702;14.472784
X-APPLE-STRUCTURED-LOCATION;VALUE=URI;X-ADDRESS=Cesta Notranjskega odreda 3
 2\, Stari trg pri Ložu\, Slovenia;X-APPLE-RADIUS=100;X-TITLE=Enota Marič
 ke Žnidaršič Stari trg:geo:45.712702,14.472784
END:VEVENT
BEGIN:VTIMEZONE
TZID:Europe/Ljubljana
X-LIC-LOCATION:Europe/Ljubljana
BEGIN:DAYLIGHT
DTSTART:20230326T030000
TZOFFSETFROM:+0100
TZOFFSETTO:+0200
TZNAME:CEST
END:DAYLIGHT
END:VTIMEZONE
END:VCALENDAR