BEGIN:VCALENDAR
VERSION:2.0
PRODID:-//wp-events-plugin.com//7.2.3.1//EN
TZID:Europe/Ljubljana
X-WR-TIMEZONE:Europe/Ljubljana
BEGIN:VEVENT
UID:486@kjuc.si
DTSTART;TZID=Europe/Ljubljana:20170605T180000
DTEND;TZID=Europe/Ljubljana:20170605T190000
DTSTAMP:20250331T101011Z
URL:https://www.kjuc.si/dogodki/dve-poletji-pravljicna-urica-z-ustvarjalno
 -delavnico/
SUMMARY:Butalski zajec - pravljična urica z ustvarjalno delavnico
DESCRIPTION:\n\nVabilo\n\n[gallery link="file" size="medium" ids="eyJ1cmwiO
 iJodHRwczpcL1wvd3d3LmtqdWMuc2lcL3dwLWNvbnRlbnRcL3VwbG9hZHNcLzIwMTdcLzA1XC9
 JTUdfMjAxNzA2MDVfMTkxMTAzLmpwZyIsInRpdGxlIjoiSU1HXzIwMTcwNjA1XzE5MTEwMyIsI
 mNhcHRpb24iOiIiLCJhbHQiOiIiLCJkZXNjcmlwdGlvbiI6IiJ9\,eyJ1cmwiOiJodHRwczpcL
 1wvd3d3LmtqdWMuc2lcL3dwLWNvbnRlbnRcL3VwbG9hZHNcLzIwMTdcLzA1XC9JTUdfMjAxNzA
 2MDVfMTkxMTM4LmpwZyIsInRpdGxlIjoiSU1HXzIwMTcwNjA1XzE5MTEzOCIsImNhcHRpb24iO
 iIiLCJhbHQiOiIiLCJkZXNjcmlwdGlvbiI6IiJ9\,eyJ1cmwiOiJodHRwczpcL1wvd3d3Lmtqd
 WMuc2lcL3dwLWNvbnRlbnRcL3VwbG9hZHNcLzIwMTdcLzA1XC9JTUdfMjAxNzA2MDVfMTkxNTA
 4LmpwZyIsInRpdGxlIjoiSU1HXzIwMTcwNjA1XzE5MTUwOCIsImNhcHRpb24iOiIiLCJhbHQiO
 iIiLCJkZXNjcmlwdGlvbiI6IiJ9\,eyJ1cmwiOiJodHRwczpcL1wvd3d3LmtqdWMuc2lcL3dwL
 WNvbnRlbnRcL3VwbG9hZHNcLzIwMTdcLzA1XC9JTUdfMjAxNzA2MDVfMTkyMDM0LmpwZyIsInR
 pdGxlIjoiSU1HXzIwMTcwNjA1XzE5MjAzNCIsImNhcHRpb24iOiIiLCJhbHQiOiIiLCJkZXNjc
 mlwdGlvbiI6IiJ9"]\n\n&nbsp\;
ATTACH;FMTTYPE=image/jpeg:https://www.kjuc.si/wp-content/uploads/2025/03/z
 ajc.jpg
CATEGORIES:Za otroke
LOCATION:Enota Maričke Žnidaršič Stari trg\, Cesta Notranjskega odreda 
 32\, Stari trg pri Ložu\, Slovenia
GEO:45.712702;14.472784
X-APPLE-STRUCTURED-LOCATION;VALUE=URI;X-ADDRESS=Cesta Notranjskega odreda 3
 2\, Stari trg pri Ložu\, Slovenia;X-APPLE-RADIUS=100;X-TITLE=Enota Marič
 ke Žnidaršič Stari trg:geo:45.712702,14.472784
END:VEVENT
BEGIN:VTIMEZONE
TZID:Europe/Ljubljana
X-LIC-LOCATION:Europe/Ljubljana
BEGIN:DAYLIGHT
DTSTART:20170326T030000
TZOFFSETFROM:+0100
TZOFFSETTO:+0200
TZNAME:CEST
END:DAYLIGHT
END:VTIMEZONE
END:VCALENDAR