BEGIN:VCALENDAR
VERSION:2.0
PRODID:-//wp-events-plugin.com//7.2.3.1//EN
TZID:Europe/Ljubljana
X-WR-TIMEZONE:Europe/Ljubljana
BEGIN:VEVENT
UID:1185@kjuc.si
DTSTART;TZID=Europe/Ljubljana;VALUE=DATE:20211215
DTEND;TZID=Europe/Ljubljana;VALUE=DATE:20220201
DTSTAMP:20250331T103729Z
URL:https://www.kjuc.si/dogodki/elena-meden-razstava-lutk-v-rocno-izdelani
 h-oblacilih-2/
SUMMARY:Elena Meden - razstava lutk v ročno izdelanih oblačilih
DESCRIPTION:\n\nElena Meden\n\n[gallery link="none" columns="2" size="full"
  ids="eyJ1cmwiOiJodHRwczpcL1wvd3d3LmtqdWMuc2lcL3dwLWNvbnRlbnRcL3VwbG9hZHNc
 LzIwMjFcLzEyXC8yMDIxMTIxM18xMDI3MTUuanBnIiwidGl0bGUiOiIyMDIxMTIxM18xMDI3MT
 UiLCJjYXB0aW9uIjoiIiwiYWx0IjoiIiwiZGVzY3JpcHRpb24iOiIifQ==\,eyJ1cmwiOiJodH
 RwczpcL1wvd3d3LmtqdWMuc2lcL3dwLWNvbnRlbnRcL3VwbG9hZHNcLzIwMjFcLzEyXC8yMDIx
 MTIxM18xMTA5MjUuanBnIiwidGl0bGUiOiIyMDIxMTIxM18xMTA5MjUiLCJjYXB0aW9uIjoiIi
 wiYWx0IjoiIiwiZGVzY3JpcHRpb24iOiIifQ==\,eyJ1cmwiOiJodHRwczpcL1wvd3d3LmtqdW
 Muc2lcL3dwLWNvbnRlbnRcL3VwbG9hZHNcLzIwMjFcLzEyXC8yMDIxMTIxM18xMTEwMDcuanBn
 IiwidGl0bGUiOiIyMDIxMTIxM18xMTEwMDciLCJjYXB0aW9uIjoiIiwiYWx0IjoiIiwiZGVzY3
 JpcHRpb24iOiIifQ==\,eyJ1cmwiOiJodHRwczpcL1wvd3d3LmtqdWMuc2lcL3dwLWNvbnRlbn
 RcL3VwbG9hZHNcLzIwMjFcLzEyXC8yMDIxMTIxM18xMTEwMTIuanBnIiwidGl0bGUiOiIyMDIx
 MTIxM18xMTEwMTIiLCJjYXB0aW9uIjoiIiwiYWx0IjoiIiwiZGVzY3JpcHRpb24iOiIifQ==\,
 eyJ1cmwiOiJodHRwczpcL1wvd3d3LmtqdWMuc2lcL3dwLWNvbnRlbnRcL3VwbG9hZHNcLzIwMj
 FcLzEyXC8yMDIxMTIxM18xMTEwMjkuanBnIiwidGl0bGUiOiIyMDIxMTIxM18xMTEwMjkiLCJj
 YXB0aW9uIjoiIiwiYWx0IjoiIiwiZGVzY3JpcHRpb24iOiIifQ==\,eyJ1cmwiOiJodHRwczpc
 L1wvd3d3LmtqdWMuc2lcL3dwLWNvbnRlbnRcL3VwbG9hZHNcLzIwMjFcLzEyXC8yMDIxMTIxM1
 8xMTEwMzMuanBnIiwidGl0bGUiOiIyMDIxMTIxM18xMTEwMzMiLCJjYXB0aW9uIjoiIiwiYWx0
 IjoiIiwiZGVzY3JpcHRpb24iOiIifQ=="]
ATTACH;FMTTYPE=image/jpeg:https://www.kjuc.si/wp-content/uploads/2025/03/c
 over-1024x680-1.jpg
CATEGORIES:Razstave,Za otroke
LOCATION:Enota Ivana Matičiča Rakek\, Partizanska cesta 8a\, Rakek\, Slov
 enia
GEO:45.8127;14.319238
X-APPLE-STRUCTURED-LOCATION;VALUE=URI;X-ADDRESS=Partizanska cesta 8a\, Rake
 k\, Slovenia;X-APPLE-RADIUS=100;X-TITLE=Enota Ivana Matičiča Rakek:geo:4
 5.8127,14.319238
END:VEVENT
BEGIN:VTIMEZONE
TZID:Europe/Ljubljana
X-LIC-LOCATION:Europe/Ljubljana
BEGIN:STANDARD
DTSTART:20211031T020000
TZOFFSETFROM:+0200
TZOFFSETTO:+0100
TZNAME:CET
END:STANDARD
END:VTIMEZONE
END:VCALENDAR