BEGIN:VCALENDAR
VERSION:2.0
PRODID:-//wp-events-plugin.com//7.2.3.1//EN
TZID:Europe/Ljubljana
X-WR-TIMEZONE:Europe/Ljubljana
BEGIN:VEVENT
UID:678@kjuc.si
DTSTART;TZID=Europe/Ljubljana:20180614T170000
DTEND;TZID=Europe/Ljubljana:20180614T180000
DTSTAMP:20250331T102956Z
URL:https://www.kjuc.si/dogodki/ena-modra-pravljicna-urica-z-ustvarjalno-d
 elavnico-za-otroke-od-4-leta-dalje-2/
SUMMARY:Ena modra pravljična urica z ustvarjalno delavnico za otroke od 4.
  leta dalje
DESCRIPTION:\n\n[gallery link="file" columns="2" size="full" ids="eyJ1cmwiO
 iJodHRwczpcL1wvd3d3LmtqdWMuc2lcL3dwLWNvbnRlbnRcL3VwbG9hZHNcLzIwMThcLzA2XC9
 JTUdfMjAxODA2MTRfMTcwODMyLmpwZyIsInRpdGxlIjoiSU1HXzIwMTgwNjE0XzE3MDgzMiIsI
 mNhcHRpb24iOiIiLCJhbHQiOiIiLCJkZXNjcmlwdGlvbiI6IiJ9\,eyJ1cmwiOiJodHRwczpcL
 1wvd3d3LmtqdWMuc2lcL3dwLWNvbnRlbnRcL3VwbG9hZHNcLzIwMThcLzA2XC9JTUdfMjAxODA
 2MTRfMTcxMDE0LmpwZyIsInRpdGxlIjoiSU1HXzIwMTgwNjE0XzE3MTAxNCIsImNhcHRpb24iO
 iIiLCJhbHQiOiIiLCJkZXNjcmlwdGlvbiI6IiJ9\,eyJ1cmwiOiJodHRwczpcL1wvd3d3Lmtqd
 WMuc2lcL3dwLWNvbnRlbnRcL3VwbG9hZHNcLzIwMThcLzA2XC9JTUdfMjAxODA2MTRfMTcxMDI
 wLmpwZyIsInRpdGxlIjoiSU1HXzIwMTgwNjE0XzE3MTAyMCIsImNhcHRpb24iOiIiLCJhbHQiO
 iIiLCJkZXNjcmlwdGlvbiI6IiJ9\,eyJ1cmwiOiJodHRwczpcL1wvd3d3LmtqdWMuc2lcL3dwL
 WNvbnRlbnRcL3VwbG9hZHNcLzIwMThcLzA2XC9JTUdfMjAxODA2MTRfMTcxMDIyXzEuanBnIiw
 idGl0bGUiOiJJTUdfMjAxODA2MTRfMTcxMDIyXzEiLCJjYXB0aW9uIjoiIiwiYWx0IjoiIiwiZ
 GVzY3JpcHRpb24iOiIifQ==\,eyJ1cmwiOiJodHRwczpcL1wvd3d3LmtqdWMuc2lcL3dwLWNvb
 nRlbnRcL3VwbG9hZHNcLzIwMThcLzA2XC9JTUdfMjAxODA2MTRfMTc0ODA5LmpwZyIsInRpdGx
 lIjoiSU1HXzIwMTgwNjE0XzE3NDgwOSIsImNhcHRpb24iOiIiLCJhbHQiOiIiLCJkZXNjcmlwd
 GlvbiI6IiJ9\,eyJ1cmwiOiJodHRwczpcL1wvd3d3LmtqdWMuc2lcL3dwLWNvbnRlbnRcL3Vwb
 G9hZHNcLzIwMThcLzA2XC9JTUdfMjAxODA2MTRfMTc1NzExLmpwZyIsInRpdGxlIjoiSU1HXzI
 wMTgwNjE0XzE3NTcxMSIsImNhcHRpb24iOiIiLCJhbHQiOiIiLCJkZXNjcmlwdGlvbiI6IiJ9\
 ,eyJ1cmwiOiJodHRwczpcL1wvd3d3LmtqdWMuc2lcL3dwLWNvbnRlbnRcL3VwbG9hZHNcLzIwM
 ThcLzA2XC9JTUdfMjAxODA2MTRfMTgwNDUyXzEuanBnIiwidGl0bGUiOiJJTUdfMjAxODA2MTR
 fMTgwNDUyXzEiLCJjYXB0aW9uIjoiIiwiYWx0IjoiIiwiZGVzY3JpcHRpb24iOiIifQ==\,eyJ
 1cmwiOiJodHRwczpcL1wvd3d3LmtqdWMuc2lcL3dwLWNvbnRlbnRcL3VwbG9hZHNcLzIwMThcL
 zA2XC9JTUdfMjAxODA2MTRfMTgwNTU5LmpwZyIsInRpdGxlIjoiSU1HXzIwMTgwNjE0XzE4MDU
 1OSIsImNhcHRpb24iOiIiLCJhbHQiOiIiLCJkZXNjcmlwdGlvbiI6IiJ9\,eyJ1cmwiOiJodHR
 wczpcL1wvd3d3LmtqdWMuc2lcL3dwLWNvbnRlbnRcL3VwbG9hZHNcLzIwMThcLzA2XC9JTUdfM
 jAxODA2MTRfMTgwNzE2XzEuanBnIiwidGl0bGUiOiJJTUdfMjAxODA2MTRfMTgwNzE2XzEiLCJ
 jYXB0aW9uIjoiIiwiYWx0IjoiIiwiZGVzY3JpcHRpb24iOiIifQ==\,eyJ1cmwiOiJodHRwczp
 cL1wvd3d3LmtqdWMuc2lcL3dwLWNvbnRlbnRcL3VwbG9hZHNcLzIwMThcLzA2XC9JTUdfMjAxO
 DA2MTRfMTgwOTMzLmpwZyIsInRpdGxlIjoiSU1HXzIwMTgwNjE0XzE4MDkzMyIsImNhcHRpb24
 iOiIiLCJhbHQiOiIiLCJkZXNjcmlwdGlvbiI6IiJ9\,eyJ1cmwiOiJodHRwczpcL1wvd3d3Lmt
 qdWMuc2lcL3dwLWNvbnRlbnRcL3VwbG9hZHNcLzIwMThcLzA2XC9JTUdfMjAxODA2MTRfMTgxM
 DM4LmpwZyIsInRpdGxlIjoiSU1HXzIwMTgwNjE0XzE4MTAzOCIsImNhcHRpb24iOiIiLCJhbHQ
 iOiIiLCJkZXNjcmlwdGlvbiI6IiJ9\,eyJ1cmwiOiJodHRwczpcL1wvd3d3LmtqdWMuc2lcL3d
 wLWNvbnRlbnRcL3VwbG9hZHNcLzIwMThcLzA2XC9JTUdfMjAxODA2MTRfMTgxMjU3LmpwZyIsI
 nRpdGxlIjoiSU1HXzIwMTgwNjE0XzE4MTI1NyIsImNhcHRpb24iOiIiLCJhbHQiOiIiLCJkZXN
 jcmlwdGlvbiI6IiJ9"]
ATTACH;FMTTYPE=image/jpeg:https://www.kjuc.si/wp-content/uploads/2025/03/c
 over-31.jpg
CATEGORIES:Za otroke
LOCATION:Knjižnica Jožeta Udoviča Cerknica\, Partizanska cesta 22\, Cerk
 nica\, Slovenia
GEO:45.795484;14.362483
X-APPLE-STRUCTURED-LOCATION;VALUE=URI;X-ADDRESS=Partizanska cesta 22\, Cerk
 nica\, Slovenia;X-APPLE-RADIUS=100;X-TITLE=Knjižnica Jožeta Udoviča Cer
 knica:geo:45.795484,14.362483
END:VEVENT
BEGIN:VTIMEZONE
TZID:Europe/Ljubljana
X-LIC-LOCATION:Europe/Ljubljana
BEGIN:DAYLIGHT
DTSTART:20180325T030000
TZOFFSETFROM:+0100
TZOFFSETTO:+0200
TZNAME:CEST
END:DAYLIGHT
END:VTIMEZONE
END:VCALENDAR