BEGIN:VCALENDAR
VERSION:2.0
PRODID:-//wp-events-plugin.com//7.2.3.1//EN
TZID:Europe/Ljubljana
X-WR-TIMEZONE:Europe/Ljubljana
BEGIN:VEVENT
UID:567@kjuc.si
DTSTART;TZID=Europe/Ljubljana:20180212T170000
DTEND;TZID=Europe/Ljubljana:20180212T180000
DTSTAMP:20250331T102630Z
URL:https://www.kjuc.si/dogodki/ena-okrogla-pravljicna-urica-z-ustvarjalno
 -delavnico-za-otroke-od-4-leta-dalje-3/
SUMMARY:Ena okrogla pravljična urica z ustvarjalno delavnico za otroke od 
 4. leta dalje
DESCRIPTION:\n\n[gallery link="file" columns="2" size="full" ids="eyJ1cmwiO
 iJodHRwczpcL1wvd3d3LmtqdWMuc2lcL3dwLWNvbnRlbnRcL3VwbG9hZHNcLzIwMThcLzAxXC9
 JTUdfMjAxODAyMTJfMTcwOTI1LmpwZyIsInRpdGxlIjoiSU1HXzIwMTgwMjEyXzE3MDkyNSIsI
 mNhcHRpb24iOiIiLCJhbHQiOiIiLCJkZXNjcmlwdGlvbiI6IiJ9\,eyJ1cmwiOiJodHRwczpcL
 1wvd3d3LmtqdWMuc2lcL3dwLWNvbnRlbnRcL3VwbG9hZHNcLzIwMThcLzAxXC9JTUdfMjAxODA
 yMTJfMTcwOTU0LmpwZyIsInRpdGxlIjoiSU1HXzIwMTgwMjEyXzE3MDk1NCIsImNhcHRpb24iO
 iIiLCJhbHQiOiIiLCJkZXNjcmlwdGlvbiI6IiJ9\,eyJ1cmwiOiJodHRwczpcL1wvd3d3Lmtqd
 WMuc2lcL3dwLWNvbnRlbnRcL3VwbG9hZHNcLzIwMThcLzAxXC9JTUdfMjAxODAyMTJfMTc1MTA
 1LmpwZyIsInRpdGxlIjoiSU1HXzIwMTgwMjEyXzE3NTEwNSIsImNhcHRpb24iOiIiLCJhbHQiO
 iIiLCJkZXNjcmlwdGlvbiI6IiJ9\,eyJ1cmwiOiJodHRwczpcL1wvd3d3LmtqdWMuc2lcL3dwL
 WNvbnRlbnRcL3VwbG9hZHNcLzIwMThcLzAxXC9JTUdfMjAxODAyMTJfMTc1MTEyLmpwZyIsInR
 pdGxlIjoiSU1HXzIwMTgwMjEyXzE3NTExMiIsImNhcHRpb24iOiIiLCJhbHQiOiIiLCJkZXNjc
 mlwdGlvbiI6IiJ9\,eyJ1cmwiOiJodHRwczpcL1wvd3d3LmtqdWMuc2lcL3dwLWNvbnRlbnRcL
 3VwbG9hZHNcLzIwMThcLzAxXC9JTUdfMjAxODAyMTJfMTgwMjA4LmpwZyIsInRpdGxlIjoiSU1
 HXzIwMTgwMjEyXzE4MDIwOCIsImNhcHRpb24iOiIiLCJhbHQiOiIiLCJkZXNjcmlwdGlvbiI6I
 iJ9\,eyJ1cmwiOiJodHRwczpcL1wvd3d3LmtqdWMuc2lcL3dwLWNvbnRlbnRcL3VwbG9hZHNcL
 zIwMThcLzAxXC9JTUdfMjAxODAyMTJfMTgwNDQ2LmpwZyIsInRpdGxlIjoiSU1HXzIwMTgwMjE
 yXzE4MDQ0NiIsImNhcHRpb24iOiIiLCJhbHQiOiIiLCJkZXNjcmlwdGlvbiI6IiJ9\,eyJ1cmw
 iOiJodHRwczpcL1wvd3d3LmtqdWMuc2lcL3dwLWNvbnRlbnRcL3VwbG9hZHNcLzIwMThcLzAxX
 C9JTUdfMjAxODAyMTJfMTgwNDUxLmpwZyIsInRpdGxlIjoiSU1HXzIwMTgwMjEyXzE4MDQ1MSI
 sImNhcHRpb24iOiIiLCJhbHQiOiIiLCJkZXNjcmlwdGlvbiI6IiJ9\,eyJ1cmwiOiJodHRwczp
 cL1wvd3d3LmtqdWMuc2lcL3dwLWNvbnRlbnRcL3VwbG9hZHNcLzIwMThcLzAxXC9JTUdfMjAxO
 DAyMTJfMTgwNjMyLmpwZyIsInRpdGxlIjoiSU1HXzIwMTgwMjEyXzE4MDYzMiIsImNhcHRpb24
 iOiIiLCJhbHQiOiIiLCJkZXNjcmlwdGlvbiI6IiJ9\,eyJ1cmwiOiJodHRwczpcL1wvd3d3Lmt
 qdWMuc2lcL3dwLWNvbnRlbnRcL3VwbG9hZHNcLzIwMThcLzAxXC9JTUdfMjAxODAyMTJfMTgwN
 zQ5LmpwZyIsInRpdGxlIjoiSU1HXzIwMTgwMjEyXzE4MDc0OSIsImNhcHRpb24iOiIiLCJhbHQ
 iOiIiLCJkZXNjcmlwdGlvbiI6IiJ9\,eyJ1cmwiOiJodHRwczpcL1wvd3d3LmtqdWMuc2lcL3d
 wLWNvbnRlbnRcL3VwbG9hZHNcLzIwMThcLzAxXC9JTUdfMjAxODAyMTJfMTgxMDAwLmpwZyIsI
 nRpdGxlIjoiSU1HXzIwMTgwMjEyXzE4MTAwMCIsImNhcHRpb24iOiIiLCJhbHQiOiIiLCJkZXN
 jcmlwdGlvbiI6IiJ9\,eyJ1cmwiOiJodHRwczpcL1wvd3d3LmtqdWMuc2lcL3dwLWNvbnRlbnR
 cL3VwbG9hZHNcLzIwMThcLzAxXC9JTUdfMjAxODAyMTJfMTgxMTUzLmpwZyIsInRpdGxlIjoiS
 U1HXzIwMTgwMjEyXzE4MTE1MyIsImNhcHRpb24iOiIiLCJhbHQiOiIiLCJkZXNjcmlwdGlvbiI
 6IiJ9\,eyJ1cmwiOiJodHRwczpcL1wvd3d3LmtqdWMuc2lcL3dwLWNvbnRlbnRcL3VwbG9hZHN
 cLzIwMThcLzAxXC9JTUdfMjAxODAyMTJfMTgxMzIwLmpwZyIsInRpdGxlIjoiSU1HXzIwMTgwM
 jEyXzE4MTMyMCIsImNhcHRpb24iOiIiLCJhbHQiOiIiLCJkZXNjcmlwdGlvbiI6IiJ9\,eyJ1c
 mwiOiJodHRwczpcL1wvd3d3LmtqdWMuc2lcL3dwLWNvbnRlbnRcL3VwbG9hZHNcLzIwMThcLzA
 xXC9JTUdfMjAxODAyMTJfMTgxNDEyLmpwZyIsInRpdGxlIjoiSU1HXzIwMTgwMjEyXzE4MTQxM
 iIsImNhcHRpb24iOiIiLCJhbHQiOiIiLCJkZXNjcmlwdGlvbiI6IiJ9\,eyJ1cmwiOiJodHRwc
 zpcL1wvd3d3LmtqdWMuc2lcL3dwLWNvbnRlbnRcL3VwbG9hZHNcLzIwMThcLzAxXC9JTUdfMjA
 xODAyMTJfMTgxNjE3LmpwZyIsInRpdGxlIjoiSU1HXzIwMTgwMjEyXzE4MTYxNyIsImNhcHRpb
 24iOiIiLCJhbHQiOiIiLCJkZXNjcmlwdGlvbiI6IiJ9\,eyJ1cmwiOiJodHRwczpcL1wvd3d3L
 mtqdWMuc2lcL3dwLWNvbnRlbnRcL3VwbG9hZHNcLzIwMThcLzAxXC9JTUdfMjAxODAyMTJfMTg
 xNzE2LmpwZyIsInRpdGxlIjoiSU1HXzIwMTgwMjEyXzE4MTcxNiIsImNhcHRpb24iOiIiLCJhb
 HQiOiIiLCJkZXNjcmlwdGlvbiI6IiJ9\,eyJ1cmwiOiJodHRwczpcL1wvd3d3LmtqdWMuc2lcL
 3dwLWNvbnRlbnRcL3VwbG9hZHNcLzIwMThcLzAxXC9JTUdfMjAxODAyMTJfMTgxODMyLmpwZyI
 sInRpdGxlIjoiSU1HXzIwMTgwMjEyXzE4MTgzMiIsImNhcHRpb24iOiIiLCJhbHQiOiIiLCJkZ
 XNjcmlwdGlvbiI6IiJ9"]
ATTACH;FMTTYPE=image/jpeg:https://www.kjuc.si/wp-content/uploads/2025/03/c
 over-13-1.jpg
CATEGORIES:Za otroke
LOCATION:Knjižnica Jožeta Udoviča Cerknica\, Partizanska cesta 22\, Cerk
 nica\, Slovenia
GEO:45.795484;14.362483
X-APPLE-STRUCTURED-LOCATION;VALUE=URI;X-ADDRESS=Partizanska cesta 22\, Cerk
 nica\, Slovenia;X-APPLE-RADIUS=100;X-TITLE=Knjižnica Jožeta Udoviča Cer
 knica:geo:45.795484,14.362483
END:VEVENT
BEGIN:VTIMEZONE
TZID:Europe/Ljubljana
X-LIC-LOCATION:Europe/Ljubljana
BEGIN:STANDARD
DTSTART:20171029T020000
TZOFFSETFROM:+0200
TZOFFSETTO:+0100
TZNAME:CET
END:STANDARD
END:VTIMEZONE
END:VCALENDAR