BEGIN:VCALENDAR
VERSION:2.0
PRODID:-//wp-events-plugin.com//7.2.3.1//EN
TZID:Europe/Ljubljana
X-WR-TIMEZONE:Europe/Ljubljana
BEGIN:VEVENT
UID:789@kjuc.si
DTSTART;TZID=Europe/Ljubljana:20190122T000000
DTEND;TZID=Europe/Ljubljana:20190302T000000
DTSTAMP:20250331T103219Z
URL:https://www.kjuc.si/dogodki/erika-felicijan-patsy-razstava-fotografij-
 in-unikatnih-izdelkov/
SUMMARY:Erika Felicijan – Patsy – razstava fotografij in unikatnih izde
 lkov
DESCRIPTION:\n\nErika Felicijan - vabilo\n\n\n\npatsy.patsolina@gmail.com\n
 \nIG: @Patsy_Patsolina\n\nFB: www.facebook.com/patsy.si\n\n\n
ATTACH;FMTTYPE=image/jpeg:https://www.kjuc.si/wp-content/uploads/2025/03/E
 rika-Felicijan-1024x662-1.jpg
CATEGORIES:Razstave
LOCATION:Knjižnica Jožeta Udoviča Cerknica\, Partizanska cesta 22\, Cerk
 nica\, Slovenia
GEO:45.795484;14.362483
X-APPLE-STRUCTURED-LOCATION;VALUE=URI;X-ADDRESS=Partizanska cesta 22\, Cerk
 nica\, Slovenia;X-APPLE-RADIUS=100;X-TITLE=Knjižnica Jožeta Udoviča Cer
 knica:geo:45.795484,14.362483
END:VEVENT
BEGIN:VTIMEZONE
TZID:Europe/Ljubljana
X-LIC-LOCATION:Europe/Ljubljana
BEGIN:STANDARD
DTSTART:20181028T020000
TZOFFSETFROM:+0200
TZOFFSETTO:+0100
TZNAME:CET
END:STANDARD
END:VTIMEZONE
END:VCALENDAR