BEGIN:VCALENDAR
VERSION:2.0
PRODID:-//wp-events-plugin.com//7.2.3.1//EN
TZID:Europe/Ljubljana
X-WR-TIMEZONE:Europe/Ljubljana
BEGIN:VEVENT
UID:1673@kjuc.si
DTSTART;TZID=Europe/Ljubljana;VALUE=DATE:20240212
DTEND;TZID=Europe/Ljubljana;VALUE=DATE:20240309
DTSTAMP:20250331T104500Z
URL:https://www.kjuc.si/dogodki/handmade-razstava-mateje-stembal/
SUMMARY:Handmade - razstava Mateje Štembal
DESCRIPTION:&nbsp\;\n\nvabilo_handmade\n\n[gallery link="none" size="full" 
 ids="eyJ1cmwiOiJodHRwczpcL1wvd3d3LmtqdWMuc2lcL3dwLWNvbnRlbnRcL3VwbG9hZHNcL
 zIwMjRcLzAyXC8yMDI0MDIxNF8xMTExNTMuanBnIiwidGl0bGUiOiIyMDI0MDIxNF8xMTExNTM
 iLCJjYXB0aW9uIjoiIiwiYWx0IjoiIiwiZGVzY3JpcHRpb24iOiIifQ==\,eyJ1cmwiOiJodHR
 wczpcL1wvd3d3LmtqdWMuc2lcL3dwLWNvbnRlbnRcL3VwbG9hZHNcLzIwMjRcLzAyXC8yMDI0M
 DIxNF8xMTA3NDAuanBnIiwidGl0bGUiOiIyMDI0MDIxNF8xMTA3NDAiLCJjYXB0aW9uIjoiIiw
 iYWx0IjoiIiwiZGVzY3JpcHRpb24iOiIifQ==\,eyJ1cmwiOiJodHRwczpcL1wvd3d3LmtqdWM
 uc2lcL3dwLWNvbnRlbnRcL3VwbG9hZHNcLzIwMjRcLzAyXC8yMDI0MDIxNF8xMTA3NTEuanBnI
 iwidGl0bGUiOiIyMDI0MDIxNF8xMTA3NTEiLCJjYXB0aW9uIjoiIiwiYWx0IjoiIiwiZGVzY3J
 pcHRpb24iOiIifQ==\,eyJ1cmwiOiJodHRwczpcL1wvd3d3LmtqdWMuc2lcL3dwLWNvbnRlbnR
 cL3VwbG9hZHNcLzIwMjRcLzAyXC8yMDI0MDIxNF8xMTA3NTkuanBnIiwidGl0bGUiOiIyMDI0M
 DIxNF8xMTA3NTkiLCJjYXB0aW9uIjoiIiwiYWx0IjoiIiwiZGVzY3JpcHRpb24iOiIifQ=="]
ATTACH;FMTTYPE=image/jpeg:https://www.kjuc.si/wp-content/uploads/2025/03/v
 abilo_handmade-page-001.jpg
CATEGORIES:Razstave
LOCATION:Enota Ivana Matičiča Rakek\, Partizanska cesta 8a\, Rakek\, Slov
 enia
GEO:45.8127;14.319238
X-APPLE-STRUCTURED-LOCATION;VALUE=URI;X-ADDRESS=Partizanska cesta 8a\, Rake
 k\, Slovenia;X-APPLE-RADIUS=100;X-TITLE=Enota Ivana Matičiča Rakek:geo:4
 5.8127,14.319238
END:VEVENT
BEGIN:VTIMEZONE
TZID:Europe/Ljubljana
X-LIC-LOCATION:Europe/Ljubljana
BEGIN:STANDARD
DTSTART:20231029T020000
TZOFFSETFROM:+0200
TZOFFSETTO:+0100
TZNAME:CET
END:STANDARD
END:VTIMEZONE
END:VCALENDAR