BEGIN:VCALENDAR
VERSION:2.0
PRODID:-//wp-events-plugin.com//7.2.3.1//EN
TZID:Europe/Ljubljana
X-WR-TIMEZONE:Europe/Ljubljana
BEGIN:VEVENT
UID:2217@kjuc.si
DTSTART;TZID=Europe/Ljubljana;VALUE=DATE:20260421
DTEND;TZID=Europe/Ljubljana;VALUE=DATE:20260516
DTSTAMP:20260421T152728Z
URL:https://www.kjuc.si/dogodki/ivan-tavcar-fotografska-razstava/
SUMMARY:Ivan Tavčar - fotografska razstava
DESCRIPTION:Razstava je na ogled do 15. maja 2026.\n\n[gallery link="none" 
 columns="2" size="full" ids="27545"]\n\nVABILO_FOTOGRAFSKA RAZSTAVAIVAN TA
 VČAR_2026
ATTACH;FMTTYPE=image/jpeg:https://www.kjuc.si/wp-content/uploads/2026/04/u
 ndefined-.jpeg
CATEGORIES:Razstave
LOCATION:Knjižnica Jožeta Udoviča Cerknica\, Partizanska cesta 22\, Cerk
 nica\, Slovenia
GEO:45.795484;14.362483
X-APPLE-STRUCTURED-LOCATION;VALUE=URI;X-ADDRESS=Partizanska cesta 22\, Cerk
 nica\, Slovenia;X-APPLE-RADIUS=100;X-TITLE=Knjižnica Jožeta Udoviča Cer
 knica:geo:45.795484,14.362483
END:VEVENT
BEGIN:VTIMEZONE
TZID:Europe/Ljubljana
X-LIC-LOCATION:Europe/Ljubljana
BEGIN:DAYLIGHT
DTSTART:20260329T030000
TZOFFSETFROM:+0100
TZOFFSETTO:+0200
TZNAME:CEST
END:DAYLIGHT
END:VTIMEZONE
END:VCALENDAR