BEGIN:VCALENDAR
VERSION:2.0
PRODID:-//wp-events-plugin.com//7.2.3.1//EN
TZID:Europe/Ljubljana
X-WR-TIMEZONE:Europe/Ljubljana
BEGIN:VEVENT
UID:332@kjuc.si
DTSTART;TZID=Europe/Ljubljana:20161125T180000
DTEND;TZID=Europe/Ljubljana:20161125T190000
DTSTAMP:20250331T100333Z
URL:https://www.kjuc.si/dogodki/jana-slavec-otvoritev-razstave-likovnih-de
 l/
SUMMARY:Jana Slavec - otvoritev razstave likovnih del
DESCRIPTION:\n\nVabilo\n\n[gallery link="file" columns="5" size="medium" id
 s="eyJ1cmwiOiJodHRwczpcL1wvd3d3LmtqdWMuc2lcL3dwLWNvbnRlbnRcL3VwbG9hZHNcLzI
 wMTZcLzExXC9JTUdfMzg3MS5qcGciLCJ0aXRsZSI6ImltZ18zODcxIiwiY2FwdGlvbiI6IiIsI
 mFsdCI6IiIsImRlc2NyaXB0aW9uIjoiIn0=\,eyJ1cmwiOiJodHRwczpcL1wvd3d3LmtqdWMuc
 2lcL3dwLWNvbnRlbnRcL3VwbG9hZHNcLzIwMTZcLzExXC9JTUdfMzg3Mi5qcGciLCJ0aXRsZSI
 6ImltZ18zODcyIiwiY2FwdGlvbiI6IiIsImFsdCI6IiIsImRlc2NyaXB0aW9uIjoiIn0=\,eyJ
 1cmwiOiJodHRwczpcL1wvd3d3LmtqdWMuc2lcL3dwLWNvbnRlbnRcL3VwbG9hZHNcLzIwMTZcL
 zExXC9JTUdfMzg3My5qcGciLCJ0aXRsZSI6ImltZ18zODczIiwiY2FwdGlvbiI6IiIsImFsdCI
 6IiIsImRlc2NyaXB0aW9uIjoiIn0=\,eyJ1cmwiOiJodHRwczpcL1wvd3d3LmtqdWMuc2lcL3d
 wLWNvbnRlbnRcL3VwbG9hZHNcLzIwMTZcLzExXC9JTUdfMzg3NC5qcGciLCJ0aXRsZSI6ImltZ
 18zODc0IiwiY2FwdGlvbiI6IiIsImFsdCI6IiIsImRlc2NyaXB0aW9uIjoiIn0=\,eyJ1cmwiO
 iJodHRwczpcL1wvd3d3LmtqdWMuc2lcL3dwLWNvbnRlbnRcL3VwbG9hZHNcLzIwMTZcLzExXC9
 JTUdfMzg3NS5qcGciLCJ0aXRsZSI6ImltZ18zODc1IiwiY2FwdGlvbiI6IiIsImFsdCI6IiIsI
 mRlc2NyaXB0aW9uIjoiIn0=\,eyJ1cmwiOiJodHRwczpcL1wvd3d3LmtqdWMuc2lcL3dwLWNvb
 nRlbnRcL3VwbG9hZHNcLzIwMTZcLzExXC9JTUdfMzg3Ni5qcGciLCJ0aXRsZSI6ImltZ18zODc
 2IiwiY2FwdGlvbiI6IiIsImFsdCI6IiIsImRlc2NyaXB0aW9uIjoiIn0=\,eyJ1cmwiOiJodHR
 wczpcL1wvd3d3LmtqdWMuc2lcL3dwLWNvbnRlbnRcL3VwbG9hZHNcLzIwMTZcLzExXC9JTUdfM
 zg3Ny5qcGciLCJ0aXRsZSI6ImltZ18zODc3IiwiY2FwdGlvbiI6IiIsImFsdCI6IiIsImRlc2N
 yaXB0aW9uIjoiIn0=\,eyJ1cmwiOiJodHRwczpcL1wvd3d3LmtqdWMuc2lcL3dwLWNvbnRlbnR
 cL3VwbG9hZHNcLzIwMTZcLzExXC9JTUdfMzg3OC5qcGciLCJ0aXRsZSI6ImltZ18zODc4IiwiY
 2FwdGlvbiI6IiIsImFsdCI6IiIsImRlc2NyaXB0aW9uIjoiIn0=\,eyJ1cmwiOiJodHRwczpcL
 1wvd3d3LmtqdWMuc2lcL3dwLWNvbnRlbnRcL3VwbG9hZHNcLzIwMTZcLzExXC9JTUdfMzg3OS5
 qcGciLCJ0aXRsZSI6ImltZ18zODc5IiwiY2FwdGlvbiI6IiIsImFsdCI6IiIsImRlc2NyaXB0a
 W9uIjoiIn0=\,eyJ1cmwiOiJodHRwczpcL1wvd3d3LmtqdWMuc2lcL3dwLWNvbnRlbnRcL3Vwb
 G9hZHNcLzIwMTZcLzExXC9JTUdfMzg4MC5qcGciLCJ0aXRsZSI6ImltZ18zODgwIiwiY2FwdGl
 vbiI6IiIsImFsdCI6IiIsImRlc2NyaXB0aW9uIjoiIn0=\,eyJ1cmwiOiJodHRwczpcL1wvd3d
 3LmtqdWMuc2lcL3dwLWNvbnRlbnRcL3VwbG9hZHNcLzIwMTZcLzExXC9JTUdfMzg4MS5qcGciL
 CJ0aXRsZSI6ImltZ18zODgxIiwiY2FwdGlvbiI6IiIsImFsdCI6IiIsImRlc2NyaXB0aW9uIjo
 iIn0=\,eyJ1cmwiOiJodHRwczpcL1wvd3d3LmtqdWMuc2lcL3dwLWNvbnRlbnRcL3VwbG9hZHN
 cLzIwMTZcLzExXC9JTUdfMzg4Mi5qcGciLCJ0aXRsZSI6ImltZ18zODgyIiwiY2FwdGlvbiI6I
 iIsImFsdCI6IiIsImRlc2NyaXB0aW9uIjoiIn0=\,eyJ1cmwiOiJodHRwczpcL1wvd3d3Lmtqd
 WMuc2lcL3dwLWNvbnRlbnRcL3VwbG9hZHNcLzIwMTZcLzExXC9JTUdfMzg4My5qcGciLCJ0aXR
 sZSI6ImltZ18zODgzIiwiY2FwdGlvbiI6IiIsImFsdCI6IiIsImRlc2NyaXB0aW9uIjoiIn0=\
 ,eyJ1cmwiOiJodHRwczpcL1wvd3d3LmtqdWMuc2lcL3dwLWNvbnRlbnRcL3VwbG9hZHNcLzIwM
 TZcLzExXC9JTUdfMzg4NC5qcGciLCJ0aXRsZSI6ImltZ18zODg0IiwiY2FwdGlvbiI6IiIsImF
 sdCI6IiIsImRlc2NyaXB0aW9uIjoiIn0=\,eyJ1cmwiOiJodHRwczpcL1wvd3d3LmtqdWMuc2l
 cL3dwLWNvbnRlbnRcL3VwbG9hZHNcLzIwMTZcLzExXC9JTUdfMzg4NS5qcGciLCJ0aXRsZSI6I
 mltZ18zODg1IiwiY2FwdGlvbiI6IiIsImFsdCI6IiIsImRlc2NyaXB0aW9uIjoiIn0=\,eyJ1c
 mwiOiJodHRwczpcL1wvd3d3LmtqdWMuc2lcL3dwLWNvbnRlbnRcL3VwbG9hZHNcLzIwMTZcLzE
 xXC9JTUdfMzg4Ni5qcGciLCJ0aXRsZSI6ImltZ18zODg2IiwiY2FwdGlvbiI6IiIsImFsdCI6I
 iIsImRlc2NyaXB0aW9uIjoiIn0=\,eyJ1cmwiOiJodHRwczpcL1wvd3d3LmtqdWMuc2lcL3dwL
 WNvbnRlbnRcL3VwbG9hZHNcLzIwMTZcLzExXC9JTUdfMzg4Ny5qcGciLCJ0aXRsZSI6ImltZ18
 zODg3IiwiY2FwdGlvbiI6IiIsImFsdCI6IiIsImRlc2NyaXB0aW9uIjoiIn0=\,eyJ1cmwiOiJ
 odHRwczpcL1wvd3d3LmtqdWMuc2lcL3dwLWNvbnRlbnRcL3VwbG9hZHNcLzIwMTZcLzExXC9JT
 UdfMzg4OC5qcGciLCJ0aXRsZSI6ImltZ18zODg4IiwiY2FwdGlvbiI6IiIsImFsdCI6IiIsImR
 lc2NyaXB0aW9uIjoiIn0=\,eyJ1cmwiOiJodHRwczpcL1wvd3d3LmtqdWMuc2lcL3dwLWNvbnR
 lbnRcL3VwbG9hZHNcLzIwMTZcLzExXC9JTUdfMzg4OS5qcGciLCJ0aXRsZSI6ImltZ18zODg5I
 iwiY2FwdGlvbiI6IiIsImFsdCI6IiIsImRlc2NyaXB0aW9uIjoiIn0=\,eyJ1cmwiOiJodHRwc
 zpcL1wvd3d3LmtqdWMuc2lcL3dwLWNvbnRlbnRcL3VwbG9hZHNcLzIwMTZcLzExXC9JTUdfMzg
 5MC5qcGciLCJ0aXRsZSI6ImltZ18zODkwIiwiY2FwdGlvbiI6IiIsImFsdCI6IiIsImRlc2Nya
 XB0aW9uIjoiIn0=\,eyJ1cmwiOiJodHRwczpcL1wvd3d3LmtqdWMuc2lcL3dwLWNvbnRlbnRcL
 3VwbG9hZHNcLzIwMTZcLzExXC9JTUdfMzg5MS5qcGciLCJ0aXRsZSI6ImltZ18zODkxIiwiY2F
 wdGlvbiI6IiIsImFsdCI6IiIsImRlc2NyaXB0aW9uIjoiIn0=\,eyJ1cmwiOiJodHRwczpcL1w
 vd3d3LmtqdWMuc2lcL3dwLWNvbnRlbnRcL3VwbG9hZHNcLzIwMTZcLzExXC9JTUdfMzg5Mi5qc
 GciLCJ0aXRsZSI6ImltZ18zODkyIiwiY2FwdGlvbiI6IiIsImFsdCI6IiIsImRlc2NyaXB0aW9
 uIjoiIn0=\,eyJ1cmwiOiJodHRwczpcL1wvd3d3LmtqdWMuc2lcL3dwLWNvbnRlbnRcL3VwbG9
 hZHNcLzIwMTZcLzExXC9JTUdfMzg5My5qcGciLCJ0aXRsZSI6ImltZ18zODkzIiwiY2FwdGlvb
 iI6IiIsImFsdCI6IiIsImRlc2NyaXB0aW9uIjoiIn0=\,eyJ1cmwiOiJodHRwczpcL1wvd3d3L
 mtqdWMuc2lcL3dwLWNvbnRlbnRcL3VwbG9hZHNcLzIwMTZcLzExXC9JTUdfMzg5NC5qcGciLCJ
 0aXRsZSI6ImltZ18zODk0IiwiY2FwdGlvbiI6IiIsImFsdCI6IiIsImRlc2NyaXB0aW9uIjoiI
 n0=\,eyJ1cmwiOiJodHRwczpcL1wvd3d3LmtqdWMuc2lcL3dwLWNvbnRlbnRcL3VwbG9hZHNcL
 zIwMTZcLzExXC9JTUdfMzg5NS5qcGciLCJ0aXRsZSI6ImltZ18zODk1IiwiY2FwdGlvbiI6IiI
 sImFsdCI6IiIsImRlc2NyaXB0aW9uIjoiIn0=\,eyJ1cmwiOiJodHRwczpcL1wvd3d3LmtqdWM
 uc2lcL3dwLWNvbnRlbnRcL3VwbG9hZHNcLzIwMTZcLzExXC9JTUdfMzg5Ni5qcGciLCJ0aXRsZ
 SI6ImltZ18zODk2IiwiY2FwdGlvbiI6IiIsImFsdCI6IiIsImRlc2NyaXB0aW9uIjoiIn0=\,e
 yJ1cmwiOiJodHRwczpcL1wvd3d3LmtqdWMuc2lcL3dwLWNvbnRlbnRcL3VwbG9hZHNcLzIwMTZ
 cLzExXC9JTUdfMzg5Ny5qcGciLCJ0aXRsZSI6ImltZ18zODk3IiwiY2FwdGlvbiI6IiIsImFsd
 CI6IiIsImRlc2NyaXB0aW9uIjoiIn0=\,eyJ1cmwiOiJodHRwczpcL1wvd3d3LmtqdWMuc2lcL
 3dwLWNvbnRlbnRcL3VwbG9hZHNcLzIwMTZcLzExXC9JTUdfMzg5OC5qcGciLCJ0aXRsZSI6Iml
 tZ18zODk4IiwiY2FwdGlvbiI6IiIsImFsdCI6IiIsImRlc2NyaXB0aW9uIjoiIn0=\,eyJ1cmw
 iOiJodHRwczpcL1wvd3d3LmtqdWMuc2lcL3dwLWNvbnRlbnRcL3VwbG9hZHNcLzIwMTZcLzExX
 C9JTUdfMzg5OS5qcGciLCJ0aXRsZSI6ImltZ18zODk5IiwiY2FwdGlvbiI6IiIsImFsdCI6IiI
 sImRlc2NyaXB0aW9uIjoiIn0=\,eyJ1cmwiOiJodHRwczpcL1wvd3d3LmtqdWMuc2lcL3dwLWN
 vbnRlbnRcL3VwbG9hZHNcLzIwMTZcLzExXC9JTUdfMzkwMC5qcGciLCJ0aXRsZSI6ImltZ18zO
 TAwIiwiY2FwdGlvbiI6IiIsImFsdCI6IiIsImRlc2NyaXB0aW9uIjoiIn0=\,eyJ1cmwiOiJod
 HRwczpcL1wvd3d3LmtqdWMuc2lcL3dwLWNvbnRlbnRcL3VwbG9hZHNcLzIwMTZcLzExXC9JTUd
 fMzkwMS5qcGciLCJ0aXRsZSI6ImltZ18zOTAxIiwiY2FwdGlvbiI6IiIsImFsdCI6IiIsImRlc
 2NyaXB0aW9uIjoiIn0=\,eyJ1cmwiOiJodHRwczpcL1wvd3d3LmtqdWMuc2lcL3dwLWNvbnRlb
 nRcL3VwbG9hZHNcLzIwMTZcLzExXC9JTUdfMzkwMi5qcGciLCJ0aXRsZSI6ImltZ18zOTAyIiw
 iY2FwdGlvbiI6IiIsImFsdCI6IiIsImRlc2NyaXB0aW9uIjoiIn0=\,eyJ1cmwiOiJodHRwczp
 cL1wvd3d3LmtqdWMuc2lcL3dwLWNvbnRlbnRcL3VwbG9hZHNcLzIwMTZcLzExXC9JTUdfMzkwM
 y5qcGciLCJ0aXRsZSI6ImltZ18zOTAzIiwiY2FwdGlvbiI6IiIsImFsdCI6IiIsImRlc2NyaXB
 0aW9uIjoiIn0=\,eyJ1cmwiOiJodHRwczpcL1wvd3d3LmtqdWMuc2lcL3dwLWNvbnRlbnRcL3V
 wbG9hZHNcLzIwMTZcLzExXC9JTUdfMzkwNC5qcGciLCJ0aXRsZSI6ImltZ18zOTA0IiwiY2Fwd
 GlvbiI6IiIsImFsdCI6IiIsImRlc2NyaXB0aW9uIjoiIn0=\,eyJ1cmwiOiJodHRwczpcL1wvd
 3d3LmtqdWMuc2lcL3dwLWNvbnRlbnRcL3VwbG9hZHNcLzIwMTZcLzExXC9JTUdfMzkwNS5qcGc
 iLCJ0aXRsZSI6ImltZ18zOTA1IiwiY2FwdGlvbiI6IiIsImFsdCI6IiIsImRlc2NyaXB0aW9uI
 joiIn0="]
ATTACH;FMTTYPE=image/jpeg:https://www.kjuc.si/wp-content/uploads/2025/03/I
 MG_1048-1.jpg
CATEGORIES:Prireditev
LOCATION:Enota Ivana Čampa Nova vas\, Nova vas 4a\, Nova vas\, Slovenia
GEO:45.363149;13.640599
X-APPLE-STRUCTURED-LOCATION;VALUE=URI;X-ADDRESS=Nova vas 4a\, Nova vas\, Sl
 ovenia;X-APPLE-RADIUS=100;X-TITLE=Enota Ivana Čampa Nova vas:geo:45.36314
 9,13.640599
END:VEVENT
BEGIN:VTIMEZONE
TZID:Europe/Ljubljana
X-LIC-LOCATION:Europe/Ljubljana
BEGIN:STANDARD
DTSTART:20161030T020000
TZOFFSETFROM:+0200
TZOFFSETTO:+0100
TZNAME:CET
END:STANDARD
END:VTIMEZONE
END:VCALENDAR