BEGIN:VCALENDAR
VERSION:2.0
PRODID:-//wp-events-plugin.com//7.2.3.1//EN
TZID:Europe/Ljubljana
X-WR-TIMEZONE:Europe/Ljubljana
BEGIN:VEVENT
UID:1639@kjuc.si
DTSTART;TZID=Europe/Ljubljana:20240117T180000
DTEND;TZID=Europe/Ljubljana:20240117T200000
DTSTAMP:20250331T104427Z
URL:https://www.kjuc.si/dogodki/jernej-scek-kavarna-italija-pogovor-in-pre
 dstavitev-knjige/
SUMMARY:Jernej Šček: Kavarna Italija - pogovor in predstavitev knjige
DESCRIPTION:\n\nJernej Šček
ATTACH;FMTTYPE=image/jpeg:https://www.kjuc.si/wp-content/uploads/2025/03/J
 ernej-Scek-page-001-vabilo.jpg
CATEGORIES:Predavanja,Predstavitve,Prireditev
LOCATION:Knjižnica Jožeta Udoviča Cerknica\, Partizanska cesta 22\, Cerk
 nica\, Slovenia
GEO:45.795484;14.362483
X-APPLE-STRUCTURED-LOCATION;VALUE=URI;X-ADDRESS=Partizanska cesta 22\, Cerk
 nica\, Slovenia;X-APPLE-RADIUS=100;X-TITLE=Knjižnica Jožeta Udoviča Cer
 knica:geo:45.795484,14.362483
END:VEVENT
BEGIN:VTIMEZONE
TZID:Europe/Ljubljana
X-LIC-LOCATION:Europe/Ljubljana
BEGIN:STANDARD
DTSTART:20231029T020000
TZOFFSETFROM:+0200
TZOFFSETTO:+0100
TZNAME:CET
END:STANDARD
END:VTIMEZONE
END:VCALENDAR