BEGIN:VCALENDAR
VERSION:2.0
PRODID:-//wp-events-plugin.com//7.2.3.1//EN
TZID:Europe/Ljubljana
X-WR-TIMEZONE:Europe/Ljubljana
BEGIN:VEVENT
UID:1816@kjuc.si
DTSTART;TZID=Europe/Ljubljana:20241017T170000
DTEND;TZID=Europe/Ljubljana:20241017T180000
DTSTAMP:20250331T104643Z
URL:https://www.kjuc.si/dogodki/jesenska-pravljica-pravljicna-urica-z-ustv
 arjalno-delavnico-za-otroke-od-4-leta-dalje-2/
SUMMARY:Jesenska pravljica – pravljična urica z ustvarjalno delavnico za
  otroke od 4. leta dalje
DESCRIPTION:
ATTACH;FMTTYPE=image/jpeg:https://www.kjuc.si/wp-content/uploads/2025/03/J
 ESENSKA-PRAVLJICA-a-page-001.jpg
CATEGORIES:Prireditev,Za otroke
LOCATION:Knjižnica Jožeta Udoviča Cerknica\, Partizanska cesta 22\, Cerk
 nica\, Slovenia
GEO:45.795484;14.362483
X-APPLE-STRUCTURED-LOCATION;VALUE=URI;X-ADDRESS=Partizanska cesta 22\, Cerk
 nica\, Slovenia;X-APPLE-RADIUS=100;X-TITLE=Knjižnica Jožeta Udoviča Cer
 knica:geo:45.795484,14.362483
END:VEVENT
BEGIN:VTIMEZONE
TZID:Europe/Ljubljana
X-LIC-LOCATION:Europe/Ljubljana
BEGIN:DAYLIGHT
DTSTART:20240331T030000
TZOFFSETFROM:+0100
TZOFFSETTO:+0200
TZNAME:CEST
END:DAYLIGHT
END:VTIMEZONE
END:VCALENDAR