BEGIN:VCALENDAR
VERSION:2.0
PRODID:-//wp-events-plugin.com//7.2.3.1//EN
TZID:Europe/Ljubljana
X-WR-TIMEZONE:Europe/Ljubljana
BEGIN:VEVENT
UID:939@kjuc.si
DTSTART;TZID=Europe/Ljubljana:20191115T190000
DTEND;TZID=Europe/Ljubljana:20191115T210000
DTSTAMP:20250331T103433Z
URL:https://www.kjuc.si/dogodki/joze-matevzic-zgodovina-cabra-in-babnega-p
 olja/
SUMMARY:Jože Matevžič: Zgodovina Čabra in Babnega Polja
DESCRIPTION:\n\nVabilo\n\nJože Matevžič\, zgodovinar in član Domoznansk
 e skupine\, ki deluje v okviru Knjižnice Jožeta Udoviča Cerknica\, je v
  starotrški knjižnici predstavil zgodovinsko obdobje\, ko je na gradu Sn
 ežnik služboval Henrik pl. Schollmayer-Lichtenberg\, kranjski gozdarski 
 strokovnjak\, gospodarstvenik in politik\, oziroma 16. st. in 17. stoletje
 \, ko je bil Čabarski okraj del Kranjske in je pripadal gospostvoma Lož 
 ter Kočevje\, poseljen pa je bil s slovensko govorečim prebivalstvom že
  pred odprtjem železarne\, ko je Peter Zrinjski za potrebe topilnice žel
 ezove rude\, pozneje kovnice in rudnika\, naseljeval izučeno delovno silo
  predvsem iz Kranjske. V skoraj triurnem predavanju je podrobno predstavil
  gospodarske\, demografske in politične razmere\, ki so posledično vpliv
 ale na pripadnost obmejnega območja. \n&nbsp\;\n&nbsp\;\n\n\n\n[gallery l
 ink="file" columns="2" size="full" ids="eyJ1cmwiOiJodHRwczpcL1wvd3d3LmtqdW
 Muc2lcL3dwLWNvbnRlbnRcL3VwbG9hZHNcLzIwMTlcLzExXC9NYXRldlx1MDE3ZWlcdTAxMGQu
 anBnIiwidGl0bGUiOiJNYXRldlx1MDE3ZWlcdTAxMGQiLCJjYXB0aW9uIjoiIiwiYWx0IjoiIi
 wiZGVzY3JpcHRpb24iOiIifQ==\,eyJ1cmwiOiJodHRwczpcL1wvd3d3LmtqdWMuc2lcL3dwLW
 NvbnRlbnRcL3VwbG9hZHNcLzIwMTlcLzExXC9NYXRldlx1MDE3ZWlcdTAxMGQyLmpwZyIsInRp
 dGxlIjoiTWF0ZXZcdTAxN2VpXHUwMTBkMiIsImNhcHRpb24iOiIiLCJhbHQiOiIiLCJkZXNjcm
 lwdGlvbiI6IiJ9"]\n\n\n
ATTACH;FMTTYPE=image/jpeg:https://www.kjuc.si/wp-content/uploads/2025/03/M
 atevzic-nov-2018-772x1024-1.jpg
CATEGORIES:Predavanja,Predstavitve,Prireditev
LOCATION:Enota Maričke Žnidaršič Stari trg\, Cesta Notranjskega odreda 
 32\, Stari trg pri Ložu\, Slovenia
GEO:45.712702;14.472784
X-APPLE-STRUCTURED-LOCATION;VALUE=URI;X-ADDRESS=Cesta Notranjskega odreda 3
 2\, Stari trg pri Ložu\, Slovenia;X-APPLE-RADIUS=100;X-TITLE=Enota Marič
 ke Žnidaršič Stari trg:geo:45.712702,14.472784
END:VEVENT
BEGIN:VTIMEZONE
TZID:Europe/Ljubljana
X-LIC-LOCATION:Europe/Ljubljana
BEGIN:STANDARD
DTSTART:20191027T020000
TZOFFSETFROM:+0200
TZOFFSETTO:+0100
TZNAME:CET
END:STANDARD
END:VTIMEZONE
END:VCALENDAR