BEGIN:VCALENDAR
VERSION:2.0
PRODID:-//wp-events-plugin.com//7.2.3.1//EN
TZID:Europe/Ljubljana
X-WR-TIMEZONE:Europe/Ljubljana
BEGIN:VEVENT
UID:1640@kjuc.si
DTSTART;TZID=Europe/Ljubljana;VALUE=DATE:20240108
DTEND;TZID=Europe/Ljubljana;VALUE=DATE:20240229
DTSTAMP:20250331T104428Z
URL:https://www.kjuc.si/dogodki/katja-vrenkova-vbod-hipnosti-razstava-lutk
 ovnih-ilustracij-iz-avtorske-knjige-vbod-hipnosti-2/
SUMMARY:Katja Vrenkova: Vbod hipnosti – razstava lutkovnih ilustracij iz 
 avtorske knjige Vbod hipnosti
DESCRIPTION:\n\nVabilo\nKatja Vrenko je za magistrsko delo z naslovom Dojem
 anje smrti in posmrtnega skozi lutkovno ilustracijo na AGRFT-ju oblikovala
  tudi avtorsko knjigo Vbod hipnosti. Na razstavi so prikazane lutke\, ki j
 ih je uporabila za lutkovno-fotografsko ilustracijo kratke zgodbe.\n[galle
 ry link="none" size="full" ids="eyJ1cmwiOiJodHRwczpcL1wvd3d3LmtqdWMuc2lcL3
 dwLWNvbnRlbnRcL3VwbG9hZHNcLzIwMjRcLzAxXC8yMDI0MDEyNF8xODU0MDguanBnIiwidGl0
 bGUiOiIyMDI0MDEyNF8xODU0MDgiLCJjYXB0aW9uIjoiIiwiYWx0IjoiIiwiZGVzY3JpcHRpb2
 4iOiIifQ==\,eyJ1cmwiOiJodHRwczpcL1wvd3d3LmtqdWMuc2lcL3dwLWNvbnRlbnRcL3VwbG
 9hZHNcLzIwMjRcLzAxXC8yMDI0MDEyNF8xODUzMjUuanBnIiwidGl0bGUiOiIyMDI0MDEyNF8x
 ODUzMjUiLCJjYXB0aW9uIjoiIiwiYWx0IjoiIiwiZGVzY3JpcHRpb24iOiIifQ==\,eyJ1cmwi
 OiJodHRwczpcL1wvd3d3LmtqdWMuc2lcL3dwLWNvbnRlbnRcL3VwbG9hZHNcLzIwMjRcLzAxXC
 8yMDI0MDEyNF8xODUxMDEuanBnIiwidGl0bGUiOiIyMDI0MDEyNF8xODUxMDEiLCJjYXB0aW9u
 IjoiIiwiYWx0IjoiIiwiZGVzY3JpcHRpb24iOiIifQ==\,eyJ1cmwiOiJodHRwczpcL1wvd3d3
 LmtqdWMuc2lcL3dwLWNvbnRlbnRcL3VwbG9hZHNcLzIwMjRcLzAxXC8yMDI0MDEyNF8xODUzMj
 AuanBnIiwidGl0bGUiOiIyMDI0MDEyNF8xODUzMjAiLCJjYXB0aW9uIjoiIiwiYWx0IjoiIiwi
 ZGVzY3JpcHRpb24iOiIifQ==\,eyJ1cmwiOiJodHRwczpcL1wvd3d3LmtqdWMuc2lcL3dwLWNv
 bnRlbnRcL3VwbG9hZHNcLzIwMjRcLzAxXC8yMDI0MDEyNF8xODUwNTEuanBnIiwidGl0bGUiOi
 IyMDI0MDEyNF8xODUwNTEiLCJjYXB0aW9uIjoiIiwiYWx0IjoiIiwiZGVzY3JpcHRpb24iOiIi
 fQ==\,eyJ1cmwiOiJodHRwczpcL1wvd3d3LmtqdWMuc2lcL3dwLWNvbnRlbnRcL3VwbG9hZHNc
 LzIwMjRcLzAxXC8yMDI0MDEyNF8xODUwNDMuanBnIiwidGl0bGUiOiIyMDI0MDEyNF8xODUwND
 MiLCJjYXB0aW9uIjoiIiwiYWx0IjoiIiwiZGVzY3JpcHRpb24iOiIifQ=="]
ATTACH;FMTTYPE=image/jpeg:https://www.kjuc.si/wp-content/uploads/2025/03/f
 b-event-Rakek.jpg
CATEGORIES:Razstave
LOCATION:Enota Ivana Matičiča Rakek\, Partizanska cesta 8a\, Rakek\, Slov
 enia
GEO:45.8127;14.319238
X-APPLE-STRUCTURED-LOCATION;VALUE=URI;X-ADDRESS=Partizanska cesta 8a\, Rake
 k\, Slovenia;X-APPLE-RADIUS=100;X-TITLE=Enota Ivana Matičiča Rakek:geo:4
 5.8127,14.319238
END:VEVENT
BEGIN:VTIMEZONE
TZID:Europe/Ljubljana
X-LIC-LOCATION:Europe/Ljubljana
BEGIN:STANDARD
DTSTART:20231029T020000
TZOFFSETFROM:+0200
TZOFFSETTO:+0100
TZNAME:CET
END:STANDARD
END:VTIMEZONE
END:VCALENDAR