BEGIN:VCALENDAR
VERSION:2.0
PRODID:-//wp-events-plugin.com//7.2.3.1//EN
TZID:Europe/Ljubljana
X-WR-TIMEZONE:Europe/Ljubljana
BEGIN:VEVENT
UID:1741@kjuc.si
DTSTART;TZID=Europe/Ljubljana;VALUE=DATE:20240515
DTEND;TZID=Europe/Ljubljana;VALUE=DATE:20240619
DTSTAMP:20250331T104556Z
URL:https://www.kjuc.si/dogodki/katja-vrenkova-vbod-hipnosti-razstava-lutk
 ovnih-ilustracij-iz-avtorske-knjige/
SUMMARY:Katja Vrenkova: Vbod hipnosti - razstava lutkovnih ilustracij iz av
 torske knjige
DESCRIPTION:
ATTACH;FMTTYPE=image/jpeg:https://www.kjuc.si/wp-content/uploads/2025/03/k
 atja-vrenko.jpg
CATEGORIES:Razstave
LOCATION:Enota Ivana Čampa Nova vas\, Nova vas 4a\, Nova vas\, Slovenia
GEO:45.363149;13.640599
X-APPLE-STRUCTURED-LOCATION;VALUE=URI;X-ADDRESS=Nova vas 4a\, Nova vas\, Sl
 ovenia;X-APPLE-RADIUS=100;X-TITLE=Enota Ivana Čampa Nova vas:geo:45.36314
 9,13.640599
END:VEVENT
BEGIN:VTIMEZONE
TZID:Europe/Ljubljana
X-LIC-LOCATION:Europe/Ljubljana
BEGIN:DAYLIGHT
DTSTART:20240331T030000
TZOFFSETFROM:+0100
TZOFFSETTO:+0200
TZNAME:CEST
END:DAYLIGHT
END:VTIMEZONE
END:VCALENDAR