BEGIN:VCALENDAR
VERSION:2.0
PRODID:-//wp-events-plugin.com//7.2.3.1//EN
TZID:Europe/Ljubljana
X-WR-TIMEZONE:Europe/Ljubljana
BEGIN:VEVENT
UID:638@kjuc.si
DTSTART;TZID=Europe/Ljubljana:20180507T190000
DTEND;TZID=Europe/Ljubljana:20180507T200000
DTSTAMP:20250331T102843Z
URL:https://www.kjuc.si/dogodki/knjiga-ne-grize-a-camus-tujec/
SUMMARY:Knjiga ne grize: A. Camus - Tujec
DESCRIPTION:\n\nCamusov Tujec pripoveduje o uradniku Mersaultu\, ki pasivno
  vdano sprejema svet in dogodke okrog sebe in šele v zaporu\, kamor je vr
 žen zaradi umora Arabca\, doživi preobrazbo\, ko se upre religioznemu in
  pravnemu sistemu. V soočenju s skorajšnjo smrtjo se učloveči\, postan
 e absurdni\, lucidni junak\, ki je pripravljen plačati za svoj zločin\, 
 ne da pa duše. Alenka Sottler je z enostavnimi\, fotografsko bežnimi čr
 no belimi ilustracijami pričarala eksistencialnega duha romana in prav so
 zvočje teksta in ilustracije odlikuje pričujočo izdajo. (Vir: Dobreknji
 ge.si)
ATTACH;FMTTYPE=image/jpeg:https://www.kjuc.si/wp-content/uploads/2025/03/c
 over-3-18.jpg
CATEGORIES:Bralni klub
LOCATION:Knjižnica Jožeta Udoviča Cerknica\, Partizanska cesta 22\, Cerk
 nica\, Slovenia
GEO:45.795484;14.362483
X-APPLE-STRUCTURED-LOCATION;VALUE=URI;X-ADDRESS=Partizanska cesta 22\, Cerk
 nica\, Slovenia;X-APPLE-RADIUS=100;X-TITLE=Knjižnica Jožeta Udoviča Cer
 knica:geo:45.795484,14.362483
END:VEVENT
BEGIN:VTIMEZONE
TZID:Europe/Ljubljana
X-LIC-LOCATION:Europe/Ljubljana
BEGIN:DAYLIGHT
DTSTART:20180325T030000
TZOFFSETFROM:+0100
TZOFFSETTO:+0200
TZNAME:CEST
END:DAYLIGHT
END:VTIMEZONE
END:VCALENDAR