BEGIN:VCALENDAR
VERSION:2.0
PRODID:-//wp-events-plugin.com//7.2.3.1//EN
TZID:Europe/Ljubljana
X-WR-TIMEZONE:Europe/Ljubljana
BEGIN:VEVENT
UID:1000@kjuc.si
DTSTART;TZID=Europe/Ljubljana;VALUE=DATE:20200123
DTEND;TZID=Europe/Ljubljana;VALUE=DATE:20200222
DTSTAMP:20250331T103513Z
URL:https://www.kjuc.si/dogodki/likovna-razstava-janeza-ovsca/
SUMMARY:Likovna razstava Janeza Ovsca
DESCRIPTION:\n\n[gallery link="file" columns="2" size="full" ids="eyJ1cmwiO
 iJodHRwczpcL1wvd3d3LmtqdWMuc2lcL3dwLWNvbnRlbnRcL3VwbG9hZHNcLzIwMjBcLzAxXC8
 yMDIwMDEyMl8xODQzMTQuanBnIiwidGl0bGUiOiIyMDIwMDEyMl8xODQzMTQiLCJjYXB0aW9uI
 joiIiwiYWx0IjoiIiwiZGVzY3JpcHRpb24iOiIifQ==\,eyJ1cmwiOiJodHRwczpcL1wvd3d3L
 mtqdWMuc2lcL3dwLWNvbnRlbnRcL3VwbG9hZHNcLzIwMjBcLzAxXC8yMDIwMDEyMl8xODQzNDk
 uanBnIiwidGl0bGUiOiIyMDIwMDEyMl8xODQzNDkiLCJjYXB0aW9uIjoiIiwiYWx0IjoiIiwiZ
 GVzY3JpcHRpb24iOiIifQ==\,eyJ1cmwiOiJodHRwczpcL1wvd3d3LmtqdWMuc2lcL3dwLWNvb
 nRlbnRcL3VwbG9hZHNcLzIwMjBcLzAxXC8yMDIwMDEyMl8xODQzNTUuanBnIiwidGl0bGUiOiI
 yMDIwMDEyMl8xODQzNTUiLCJjYXB0aW9uIjoiIiwiYWx0IjoiIiwiZGVzY3JpcHRpb24iOiIif
 Q==\,eyJ1cmwiOiJodHRwczpcL1wvd3d3LmtqdWMuc2lcL3dwLWNvbnRlbnRcL3VwbG9hZHNcL
 zIwMjBcLzAxXC8yMDIwMDEyMl8xODQ0MDYuanBnIiwidGl0bGUiOiIyMDIwMDEyMl8xODQ0MDY
 iLCJjYXB0aW9uIjoiIiwiYWx0IjoiIiwiZGVzY3JpcHRpb24iOiIifQ==\,eyJ1cmwiOiJodHR
 wczpcL1wvd3d3LmtqdWMuc2lcL3dwLWNvbnRlbnRcL3VwbG9hZHNcLzIwMjBcLzAxXC8yMDIwM
 DEyMl8xODQ0MTIuanBnIiwidGl0bGUiOiIyMDIwMDEyMl8xODQ0MTIiLCJjYXB0aW9uIjoiIiw
 iYWx0IjoiIiwiZGVzY3JpcHRpb24iOiIifQ==\,eyJ1cmwiOiJodHRwczpcL1wvd3d3LmtqdWM
 uc2lcL3dwLWNvbnRlbnRcL3VwbG9hZHNcLzIwMjBcLzAxXC8yMDIwMDEyMl8xODQ0MjEuanBnI
 iwidGl0bGUiOiIyMDIwMDEyMl8xODQ0MjEiLCJjYXB0aW9uIjoiIiwiYWx0IjoiIiwiZGVzY3J
 pcHRpb24iOiIifQ=="]
ATTACH;FMTTYPE=image/jpeg:https://www.kjuc.si/wp-content/uploads/2025/03/c
 over-4-28.jpg
CATEGORIES:Razstave
LOCATION:Enota Ivana Matičiča Rakek\, Partizanska cesta 8a\, Rakek\, Slov
 enia
GEO:45.8127;14.319238
X-APPLE-STRUCTURED-LOCATION;VALUE=URI;X-ADDRESS=Partizanska cesta 8a\, Rake
 k\, Slovenia;X-APPLE-RADIUS=100;X-TITLE=Enota Ivana Matičiča Rakek:geo:4
 5.8127,14.319238
END:VEVENT
BEGIN:VTIMEZONE
TZID:Europe/Ljubljana
X-LIC-LOCATION:Europe/Ljubljana
BEGIN:STANDARD
DTSTART:20191027T020000
TZOFFSETFROM:+0200
TZOFFSETTO:+0100
TZNAME:CET
END:STANDARD
END:VTIMEZONE
END:VCALENDAR