BEGIN:VCALENDAR
VERSION:2.0
PRODID:-//wp-events-plugin.com//7.2.3.1//EN
TZID:Europe/Ljubljana
X-WR-TIMEZONE:Europe/Ljubljana
BEGIN:VEVENT
UID:1985@kjuc.si
DTSTART;TZID=Europe/Ljubljana:20250606T180000
DTEND;TZID=Europe/Ljubljana:20250606T200000
DTSTAMP:20250606T060126Z
URL:https://www.kjuc.si/dogodki/lili-knafelc-prebujena-v-novo-zivljenje/
SUMMARY:ODPOVEDANO - Lili Knafelc: Prebujena v novo življenje
DESCRIPTION:Prireditev je zaradi nepredvidenih okoliščin odpovedana.\n\nH
 vala za razumevanje.\n\n\n\nLili Knafelc
ATTACH;FMTTYPE=image/jpeg:https://www.kjuc.si/wp-content/uploads/2025/05/L
 ili-Knafelc-page-001.jpg
CATEGORIES:Bralni klub,Prireditev
LOCATION:Knjižnica Jožeta Udoviča Cerknica\, Partizanska cesta 22\, Cerk
 nica\, Slovenia
GEO:45.795484;14.362483
X-APPLE-STRUCTURED-LOCATION;VALUE=URI;X-ADDRESS=Partizanska cesta 22\, Cerk
 nica\, Slovenia;X-APPLE-RADIUS=100;X-TITLE=Knjižnica Jožeta Udoviča Cer
 knica:geo:45.795484,14.362483
END:VEVENT
BEGIN:VTIMEZONE
TZID:Europe/Ljubljana
X-LIC-LOCATION:Europe/Ljubljana
BEGIN:DAYLIGHT
DTSTART:20250330T030000
TZOFFSETFROM:+0100
TZOFFSETTO:+0200
TZNAME:CEST
END:DAYLIGHT
END:VTIMEZONE
END:VCALENDAR