BEGIN:VCALENDAR
VERSION:2.0
PRODID:-//wp-events-plugin.com//7.2.3.1//EN
TZID:Europe/Ljubljana
X-WR-TIMEZONE:Europe/Ljubljana
BEGIN:VEVENT
UID:1832@kjuc.si
DTSTART;TZID=Europe/Ljubljana:20241108T180000
DTEND;TZID=Europe/Ljubljana:20241108T200000
DTSTAMP:20250331T104701Z
URL:https://www.kjuc.si/dogodki/literarni-vecer-ob-110-letnici-rojstva-pes
 nika-pisatelja-in-prevajalca-ivana-campa/
SUMMARY:Literarni večer ob 110-letnici rojstva pesnika\, pisatelja in prev
 ajalca Ivana Čampa
DESCRIPTION:\n\nIvan Čampa\n\n[gallery link="none" size="full" ids="eyJ1cm
 wiOiJodHRwczpcL1wvd3d3LmtqdWMuc2lcL3dwLWNvbnRlbnRcL3VwbG9hZHNcLzIwMjRcLzEx
 XC9JTUdfMjAyNDExMDhfMTgyMDA0LmpwZyIsInRpdGxlIjoiSU1HXzIwMjQxMTA4XzE4MjAwNC
 IsImNhcHRpb24iOiIiLCJhbHQiOiIiLCJkZXNjcmlwdGlvbiI6IiJ9\,eyJ1cmwiOiJodHRwcz
 pcL1wvd3d3LmtqdWMuc2lcL3dwLWNvbnRlbnRcL3VwbG9hZHNcLzIwMjRcLzExXC9JTUdfMjAy
 NDExMDhfMTgyMDU2LmpwZyIsInRpdGxlIjoiSU1HXzIwMjQxMTA4XzE4MjA1NiIsImNhcHRpb2
 4iOiIiLCJhbHQiOiIiLCJkZXNjcmlwdGlvbiI6IiJ9\,eyJ1cmwiOiJodHRwczpcL1wvd3d3Lm
 tqdWMuc2lcL3dwLWNvbnRlbnRcL3VwbG9hZHNcLzIwMjRcLzExXC9JTUdfMjAyNDExMDhfMTgy
 NjM5LmpwZyIsInRpdGxlIjoiSU1HXzIwMjQxMTA4XzE4MjYzOSIsImNhcHRpb24iOiIiLCJhbH
 QiOiIiLCJkZXNjcmlwdGlvbiI6IiJ9\,eyJ1cmwiOiJodHRwczpcL1wvd3d3LmtqdWMuc2lcL3
 dwLWNvbnRlbnRcL3VwbG9hZHNcLzIwMjRcLzExXC9JTUdfMjAyNDExMDhfMTgzMDM5LmpwZyIs
 InRpdGxlIjoiSU1HXzIwMjQxMTA4XzE4MzAzOSIsImNhcHRpb24iOiIiLCJhbHQiOiIiLCJkZX
 NjcmlwdGlvbiI6IiJ9\,eyJ1cmwiOiJodHRwczpcL1wvd3d3LmtqdWMuc2lcL3dwLWNvbnRlbn
 RcL3VwbG9hZHNcLzIwMjRcLzExXC9JTUdfMjAyNDExMDhfMTgzMTM3LmpwZyIsInRpdGxlIjoi
 SU1HXzIwMjQxMTA4XzE4MzEzNyIsImNhcHRpb24iOiIiLCJhbHQiOiIiLCJkZXNjcmlwdGlvbi
 I6IiJ9\,eyJ1cmwiOiJodHRwczpcL1wvd3d3LmtqdWMuc2lcL3dwLWNvbnRlbnRcL3VwbG9hZH
 NcLzIwMjRcLzExXC9JTUdfMjAyNDExMDhfMTgzMTU5LmpwZyIsInRpdGxlIjoiSU1HXzIwMjQx
 MTA4XzE4MzE1OSIsImNhcHRpb24iOiIiLCJhbHQiOiIiLCJkZXNjcmlwdGlvbiI6IiJ9"]\n\n
ATTACH;FMTTYPE=image/jpeg:https://www.kjuc.si/wp-content/uploads/2025/03/I
 van-Campa.-vabilo-page-001.jpg
CATEGORIES:Predstavitve,Prireditev,Razno
LOCATION:Enota Ivana Čampa Nova vas\, Nova vas 4a\, Nova vas\, Slovenia
GEO:45.363149;13.640599
X-APPLE-STRUCTURED-LOCATION;VALUE=URI;X-ADDRESS=Nova vas 4a\, Nova vas\, Sl
 ovenia;X-APPLE-RADIUS=100;X-TITLE=Enota Ivana Čampa Nova vas:geo:45.36314
 9,13.640599
END:VEVENT
BEGIN:VTIMEZONE
TZID:Europe/Ljubljana
X-LIC-LOCATION:Europe/Ljubljana
BEGIN:STANDARD
DTSTART:20241027T020000
TZOFFSETFROM:+0200
TZOFFSETTO:+0100
TZNAME:CET
END:STANDARD
END:VTIMEZONE
END:VCALENDAR