BEGIN:VCALENDAR
VERSION:2.0
PRODID:-//wp-events-plugin.com//7.2.3.1//EN
TZID:Europe/Ljubljana
X-WR-TIMEZONE:Europe/Ljubljana
BEGIN:VEVENT
UID:645@kjuc.si
DTSTART;TZID=Europe/Ljubljana:20180515T190000
DTEND;TZID=Europe/Ljubljana:20180515T200000
DTSTAMP:20250331T102855Z
URL:https://www.kjuc.si/dogodki/literarni-vecer-z-mileno-miklavcic-2/
SUMMARY:Literarni večer z Mileno Miklavčič
DESCRIPTION:\n\nVabilo\n\nLiterarni večer z Mileno Miklavčič\n\nPisatelj
 ica\, pravljičarka\, publicistka\, novinarka in raziskovalka preteklosti 
 Milena Miklavčič je 15. maja gostovala v knjižnici na Rakeku.\n\nLitera
 rni večer je minil v znamenju njene uspešnice Ogenj\, rit in hlače niso
  za igrače\, ki je tako kot po vsej Sloveniji tudi v naši knjižnici nal
 etela na izredno pozitiven odziv bralcev. V knjigi najdemo intimne zgodbe\
 , ki pričajo o medsebojnih odnosih naših prednikov.\n\nLansko leto je iz
 šel drugi del knjige\, ki se osredotoča bolj na ženske zgodbe\, zgodbe 
 babic\, hčera in vnukinj\, avtorica pa pripravlja tudi tretji del knjige\
 , ki bo namenjen moškim izpovedim.\n\nNevena Savić\n\n[gallery link="fil
 e" columns="2" size="full" ids="eyJ1cmwiOiJodHRwczpcL1wvd3d3LmtqdWMuc2lcL3
 dwLWNvbnRlbnRcL3VwbG9hZHNcLzIwMThcLzA0XC8yMDE4MDUxNV8xOTAwMDMuanBnIiwidGl0
 bGUiOiIyMDE4MDUxNV8xOTAwMDMiLCJjYXB0aW9uIjoiIiwiYWx0IjoiIiwiZGVzY3JpcHRpb2
 4iOiIifQ==\,eyJ1cmwiOiJodHRwczpcL1wvd3d3LmtqdWMuc2lcL3dwLWNvbnRlbnRcL3VwbG
 9hZHNcLzIwMThcLzA0XC8yMDE4MDUxNV8xOTA3MTYuanBnIiwidGl0bGUiOiIyMDE4MDUxNV8x
 OTA3MTYiLCJjYXB0aW9uIjoiIiwiYWx0IjoiIiwiZGVzY3JpcHRpb24iOiIifQ==\,eyJ1cmwi
 OiJodHRwczpcL1wvd3d3LmtqdWMuc2lcL3dwLWNvbnRlbnRcL3VwbG9hZHNcLzIwMThcLzA0XC
 8yMDE4MDUxNV8xOTA3MzEuanBnIiwidGl0bGUiOiIyMDE4MDUxNV8xOTA3MzEiLCJjYXB0aW9u
 IjoiIiwiYWx0IjoiIiwiZGVzY3JpcHRpb24iOiIifQ==\,eyJ1cmwiOiJodHRwczpcL1wvd3d3
 LmtqdWMuc2lcL3dwLWNvbnRlbnRcL3VwbG9hZHNcLzIwMThcLzA0XC8yMDE4MDUxNV8xOTA3Mz
 cuanBnIiwidGl0bGUiOiIyMDE4MDUxNV8xOTA3MzciLCJjYXB0aW9uIjoiIiwiYWx0IjoiIiwi
 ZGVzY3JpcHRpb24iOiIifQ==\,eyJ1cmwiOiJodHRwczpcL1wvd3d3LmtqdWMuc2lcL3dwLWNv
 bnRlbnRcL3VwbG9hZHNcLzIwMThcLzA0XC8yMDE4MDUxNV8xOTA4MDYuanBnIiwidGl0bGUiOi
 IyMDE4MDUxNV8xOTA4MDYiLCJjYXB0aW9uIjoiIiwiYWx0IjoiIiwiZGVzY3JpcHRpb24iOiIi
 fQ==\,eyJ1cmwiOiJodHRwczpcL1wvd3d3LmtqdWMuc2lcL3dwLWNvbnRlbnRcL3VwbG9hZHNc
 LzIwMThcLzA0XC8yMDE4MDUxNV8xOTA4MjEuanBnIiwidGl0bGUiOiIyMDE4MDUxNV8xOTA4Mj
 EiLCJjYXB0aW9uIjoiIiwiYWx0IjoiIiwiZGVzY3JpcHRpb24iOiIifQ==\,eyJ1cmwiOiJodH
 RwczpcL1wvd3d3LmtqdWMuc2lcL3dwLWNvbnRlbnRcL3VwbG9hZHNcLzIwMThcLzA0XC8yMDE4
 MDUxNV8xOTA4MjguanBnIiwidGl0bGUiOiIyMDE4MDUxNV8xOTA4MjgiLCJjYXB0aW9uIjoiIi
 wiYWx0IjoiIiwiZGVzY3JpcHRpb24iOiIifQ=="]
ATTACH;FMTTYPE=image/jpeg:https://www.kjuc.si/wp-content/uploads/2025/03/c
 over-5-10.jpg
CATEGORIES:Predavanja,Predstavitve,Prireditev
LOCATION:Enota Ivana Matičiča Rakek\, Partizanska cesta 8a\, Rakek\, Slov
 enia
GEO:45.8127;14.319238
X-APPLE-STRUCTURED-LOCATION;VALUE=URI;X-ADDRESS=Partizanska cesta 8a\, Rake
 k\, Slovenia;X-APPLE-RADIUS=100;X-TITLE=Enota Ivana Matičiča Rakek:geo:4
 5.8127,14.319238
END:VEVENT
BEGIN:VTIMEZONE
TZID:Europe/Ljubljana
X-LIC-LOCATION:Europe/Ljubljana
BEGIN:DAYLIGHT
DTSTART:20180325T030000
TZOFFSETFROM:+0100
TZOFFSETTO:+0200
TZNAME:CEST
END:DAYLIGHT
END:VTIMEZONE
END:VCALENDAR