BEGIN:VCALENDAR
VERSION:2.0
PRODID:-//wp-events-plugin.com//7.2.3.1//EN
TZID:Europe/Ljubljana
X-WR-TIMEZONE:Europe/Ljubljana
BEGIN:VEVENT
UID:1190@kjuc.si
DTSTART;TZID=Europe/Ljubljana;VALUE=DATE:20220108
DTEND;TZID=Europe/Ljubljana;VALUE=DATE:20220205
DTSTAMP:20250331T103731Z
URL:https://www.kjuc.si/dogodki/luisi-meri-lu-pot-boris-kocevar-razstava-u
 nikatnih-izdelkov/
SUMMARY:Luisi • Meri-lu-pot • Boris Kočevar - razstava unikatnih izdel
 kov
DESCRIPTION:\n\nVabilo
ATTACH;FMTTYPE=image/jpeg:https://www.kjuc.si/wp-content/uploads/2025/03/V
 abilo-page-001-1024x724-1.jpg
CATEGORIES:Razstave
LOCATION:Knjižnica Jožeta Udoviča Cerknica\, Partizanska cesta 22\, Cerk
 nica\, Slovenia
GEO:45.795484;14.362483
X-APPLE-STRUCTURED-LOCATION;VALUE=URI;X-ADDRESS=Partizanska cesta 22\, Cerk
 nica\, Slovenia;X-APPLE-RADIUS=100;X-TITLE=Knjižnica Jožeta Udoviča Cer
 knica:geo:45.795484,14.362483
END:VEVENT
BEGIN:VTIMEZONE
TZID:Europe/Ljubljana
X-LIC-LOCATION:Europe/Ljubljana
BEGIN:STANDARD
DTSTART:20211031T020000
TZOFFSETFROM:+0200
TZOFFSETTO:+0100
TZNAME:CET
END:STANDARD
END:VTIMEZONE
END:VCALENDAR