BEGIN:VCALENDAR
VERSION:2.0
PRODID:-//wp-events-plugin.com//7.2.3.1//EN
TZID:Europe/Ljubljana
X-WR-TIMEZONE:Europe/Ljubljana
BEGIN:VEVENT
UID:566@kjuc.si
DTSTART;TZID=Europe/Ljubljana:20180201T180000
DTEND;TZID=Europe/Ljubljana:20180201T200000
DTSTAMP:20250331T102629Z
URL:https://www.kjuc.si/dogodki/maja-artenjak-drustvo-kneipp-vrhnika-zivet
 i-po-kneippu/
SUMMARY:Maja Artenjak: Živeti po Kneippu
DESCRIPTION:\n\nVabilo\n\n[gallery link="file" columns="2" size="medium" id
 s="eyJ1cmwiOiJodHRwczpcL1wvd3d3LmtqdWMuc2lcL3dwLWNvbnRlbnRcL3VwbG9hZHNcLzI
 wMThcLzAxXC9JTUdfMjAxODAyMDFfMTg1NzIwLmpwZyIsInRpdGxlIjoiSU1HXzIwMTgwMjAxX
 zE4NTcyMCIsImNhcHRpb24iOiIiLCJhbHQiOiIiLCJkZXNjcmlwdGlvbiI6IiJ9\,eyJ1cmwiO
 iJodHRwczpcL1wvd3d3LmtqdWMuc2lcL3dwLWNvbnRlbnRcL3VwbG9hZHNcLzIwMThcLzAxXC9
 JTUdfMjAxODAyMDFfMTkwNTQ3LmpwZyIsInRpdGxlIjoiSU1HXzIwMTgwMjAxXzE5MDU0NyIsI
 mNhcHRpb24iOiIiLCJhbHQiOiIiLCJkZXNjcmlwdGlvbiI6IiJ9"]
ATTACH;FMTTYPE=image/jpeg:https://www.kjuc.si/wp-content/uploads/2025/03/v
 abilo-copy.jpg
CATEGORIES:Predstavitve,Prireditev
LOCATION:Enota Maričke Žnidaršič Stari trg\, Cesta Notranjskega odreda 
 32\, Stari trg pri Ložu\, Slovenia
GEO:45.712702;14.472784
X-APPLE-STRUCTURED-LOCATION;VALUE=URI;X-ADDRESS=Cesta Notranjskega odreda 3
 2\, Stari trg pri Ložu\, Slovenia;X-APPLE-RADIUS=100;X-TITLE=Enota Marič
 ke Žnidaršič Stari trg:geo:45.712702,14.472784
END:VEVENT
BEGIN:VTIMEZONE
TZID:Europe/Ljubljana
X-LIC-LOCATION:Europe/Ljubljana
BEGIN:STANDARD
DTSTART:20171029T020000
TZOFFSETFROM:+0200
TZOFFSETTO:+0100
TZNAME:CET
END:STANDARD
END:VTIMEZONE
END:VCALENDAR