BEGIN:VCALENDAR
VERSION:2.0
PRODID:-//wp-events-plugin.com//7.2.3.1//EN
TZID:Europe/Ljubljana
X-WR-TIMEZONE:Europe/Ljubljana
BEGIN:VEVENT
UID:1213@kjuc.si
DTSTART;TZID=Europe/Ljubljana:20220316T180000
DTEND;TZID=Europe/Ljubljana:20220316T190000
DTSTAMP:20250331T103746Z
URL:https://www.kjuc.si/dogodki/maksim-gaspari-iz-naroda-za-narod-avtor-ra
 zstave-robert-kuznik-studio-zibka-cerknica-2/
SUMMARY:Robert Kužnik: Maksim Gaspari - Iz naroda za narod - predavanje
DESCRIPTION:\n\n[gallery link="none" size="full" ids="eyJ1cmwiOiJodHRwczpcL
 1wvd3d3LmtqdWMuc2lcL3dwLWNvbnRlbnRcL3VwbG9hZHNcLzIwMjJcLzAyXC9EU0MwODUyOV9
 yZXNpemUuanBnIiwidGl0bGUiOiJEU0MwODUyOV9yZXNpemUiLCJjYXB0aW9uIjoiIiwiYWx0I
 joiIiwiZGVzY3JpcHRpb24iOiIifQ==\,eyJ1cmwiOiJodHRwczpcL1wvd3d3LmtqdWMuc2lcL
 3dwLWNvbnRlbnRcL3VwbG9hZHNcLzIwMjJcLzAyXC9EU0MwODUzMF9yZXNpemUuanBnIiwidGl
 0bGUiOiJEU0MwODUzMF9yZXNpemUiLCJjYXB0aW9uIjoiIiwiYWx0IjoiIiwiZGVzY3JpcHRpb
 24iOiIifQ==\,eyJ1cmwiOiJodHRwczpcL1wvd3d3LmtqdWMuc2lcL3dwLWNvbnRlbnRcL3Vwb
 G9hZHNcLzIwMjJcLzAyXC9EU0MwODUzMl9yZXNpemUuanBnIiwidGl0bGUiOiJEU0MwODUzMl9
 yZXNpemUiLCJjYXB0aW9uIjoiIiwiYWx0IjoiIiwiZGVzY3JpcHRpb24iOiIifQ==\,eyJ1cmw
 iOiJodHRwczpcL1wvd3d3LmtqdWMuc2lcL3dwLWNvbnRlbnRcL3VwbG9hZHNcLzIwMjJcLzAyX
 C9EU0MwODU1NV9yZXNpemUuanBnIiwidGl0bGUiOiJEU0MwODU1NV9yZXNpemUiLCJjYXB0aW9
 uIjoiIiwiYWx0IjoiIiwiZGVzY3JpcHRpb24iOiIifQ==\,eyJ1cmwiOiJodHRwczpcL1wvd3d
 3LmtqdWMuc2lcL3dwLWNvbnRlbnRcL3VwbG9hZHNcLzIwMjJcLzAyXC9EU0MwODY3OF9yZXNpe
 mUuanBnIiwidGl0bGUiOiJEU0MwODY3OF9yZXNpemUiLCJjYXB0aW9uIjoiIiwiYWx0IjoiIiw
 iZGVzY3JpcHRpb24iOiIifQ==\,eyJ1cmwiOiJodHRwczpcL1wvd3d3LmtqdWMuc2lcL3dwLWN
 vbnRlbnRcL3VwbG9hZHNcLzIwMjJcLzAyXC9EU0MwODY3Nl9yZXNpemUuanBnIiwidGl0bGUiO
 iJEU0MwODY3Nl9yZXNpemUiLCJjYXB0aW9uIjoiIiwiYWx0IjoiIiwiZGVzY3JpcHRpb24iOiI
 ifQ==\,eyJ1cmwiOiJodHRwczpcL1wvd3d3LmtqdWMuc2lcL3dwLWNvbnRlbnRcL3VwbG9hZHN
 cLzIwMjJcLzAyXC9EU0MwODY2Nl9yZXNpemUuanBnIiwidGl0bGUiOiJEU0MwODY2Nl9yZXNpe
 mUiLCJjYXB0aW9uIjoiIiwiYWx0IjoiIiwiZGVzY3JpcHRpb24iOiIifQ==\,eyJ1cmwiOiJod
 HRwczpcL1wvd3d3LmtqdWMuc2lcL3dwLWNvbnRlbnRcL3VwbG9hZHNcLzIwMjJcLzAyXC9EU0M
 wODY0M19yZXNpemUuanBnIiwidGl0bGUiOiJEU0MwODY0M19yZXNpemUiLCJjYXB0aW9uIjoiI
 iwiYWx0IjoiIiwiZGVzY3JpcHRpb24iOiIifQ==\,eyJ1cmwiOiJodHRwczpcL1wvd3d3Lmtqd
 WMuc2lcL3dwLWNvbnRlbnRcL3VwbG9hZHNcLzIwMjJcLzAyXC9EU0MwODYzOV9yZXNpemUuanB
 nIiwidGl0bGUiOiJEU0MwODYzOV9yZXNpemUiLCJjYXB0aW9uIjoiIiwiYWx0IjoiIiwiZGVzY
 3JpcHRpb24iOiIifQ==\,eyJ1cmwiOiJodHRwczpcL1wvd3d3LmtqdWMuc2lcL3dwLWNvbnRlb
 nRcL3VwbG9hZHNcLzIwMjJcLzAyXC9EU0MwODYxNl9yZXNpemUuanBnIiwidGl0bGUiOiJEU0M
 wODYxNl9yZXNpemUiLCJjYXB0aW9uIjoiIiwiYWx0IjoiIiwiZGVzY3JpcHRpb24iOiIifQ==\
 ,eyJ1cmwiOiJodHRwczpcL1wvd3d3LmtqdWMuc2lcL3dwLWNvbnRlbnRcL3VwbG9hZHNcLzIwM
 jJcLzAyXC9EU0MwODYxMF9yZXNpemUuanBnIiwidGl0bGUiOiJEU0MwODYxMF9yZXNpemUiLCJ
 jYXB0aW9uIjoiIiwiYWx0IjoiIiwiZGVzY3JpcHRpb24iOiIifQ==\,eyJ1cmwiOiJodHRwczp
 cL1wvd3d3LmtqdWMuc2lcL3dwLWNvbnRlbnRcL3VwbG9hZHNcLzIwMjJcLzAyXC9EU0MwODYwM
 F9yZXNpemUuanBnIiwidGl0bGUiOiJEU0MwODYwMF9yZXNpemUiLCJjYXB0aW9uIjoiIiwiYWx
 0IjoiIiwiZGVzY3JpcHRpb24iOiIifQ==\,eyJ1cmwiOiJodHRwczpcL1wvd3d3LmtqdWMuc2l
 cL3dwLWNvbnRlbnRcL3VwbG9hZHNcLzIwMjJcLzAyXC9EU0MwODU2MV9yZXNpemUuanBnIiwid
 Gl0bGUiOiJEU0MwODU2MV9yZXNpemUiLCJjYXB0aW9uIjoiIiwiYWx0IjoiIiwiZGVzY3JpcHR
 pb24iOiIifQ=="]
ATTACH;FMTTYPE=image/jpeg:https://www.kjuc.si/wp-content/uploads/2025/03/w
 wwRazstava-MG-KJUC-Robert-Kuznik-724x1024-1.jpg
CATEGORIES:Predavanja,Prireditev
LOCATION:Knjižnica Jožeta Udoviča Cerknica\, Partizanska cesta 22\, Cerk
 nica\, Slovenia
GEO:45.795484;14.362483
X-APPLE-STRUCTURED-LOCATION;VALUE=URI;X-ADDRESS=Partizanska cesta 22\, Cerk
 nica\, Slovenia;X-APPLE-RADIUS=100;X-TITLE=Knjižnica Jožeta Udoviča Cer
 knica:geo:45.795484,14.362483
END:VEVENT
BEGIN:VTIMEZONE
TZID:Europe/Ljubljana
X-LIC-LOCATION:Europe/Ljubljana
BEGIN:STANDARD
DTSTART:20211031T020000
TZOFFSETFROM:+0200
TZOFFSETTO:+0100
TZNAME:CET
END:STANDARD
END:VTIMEZONE
END:VCALENDAR