BEGIN:VCALENDAR
VERSION:2.0
PRODID:-//wp-events-plugin.com//7.2.3.1//EN
TZID:Europe/Ljubljana
X-WR-TIMEZONE:Europe/Ljubljana
BEGIN:VEVENT
UID:2176@kjuc.si
DTSTART;TZID=Europe/Ljubljana:20260320T180000
DTEND;TZID=Europe/Ljubljana:20260320T200000
DTSTAMP:20260303T081607Z
URL:https://www.kjuc.si/dogodki/marjan-humar-obcutena-krajina-odprtje-foto
 grafske-razstave/
SUMMARY:Marjan Humar: Občutena krajina - odprtje fotografske razstave
DESCRIPTION:\n\nMarjan Humar Občutena krajina
ATTACH;FMTTYPE=image/jpeg:https://www.kjuc.si/wp-content/uploads/2026/03/H
 umar-1.jpg
CATEGORIES:Prireditev
LOCATION:Knjižnica Jožeta Udoviča Cerknica\, Partizanska cesta 22\, Cerk
 nica\, Slovenia
GEO:45.795484;14.362483
X-APPLE-STRUCTURED-LOCATION;VALUE=URI;X-ADDRESS=Partizanska cesta 22\, Cerk
 nica\, Slovenia;X-APPLE-RADIUS=100;X-TITLE=Knjižnica Jožeta Udoviča Cer
 knica:geo:45.795484,14.362483
END:VEVENT
BEGIN:VTIMEZONE
TZID:Europe/Ljubljana
X-LIC-LOCATION:Europe/Ljubljana
BEGIN:STANDARD
DTSTART:20251026T020000
TZOFFSETFROM:+0200
TZOFFSETTO:+0100
TZNAME:CET
END:STANDARD
END:VTIMEZONE
END:VCALENDAR