BEGIN:VCALENDAR
VERSION:2.0
PRODID:-//wp-events-plugin.com//7.2.3.1//EN
TZID:Europe/Ljubljana
X-WR-TIMEZONE:Europe/Ljubljana
BEGIN:VEVENT
UID:581@kjuc.si
DTSTART;TZID=Europe/Ljubljana:20180126T180000
DTEND;TZID=Europe/Ljubljana:20180126T200000
DTSTAMP:20250331T102608Z
URL:https://www.kjuc.si/dogodki/marjan-mancek-otvoritev-razstave-ob-umetni
 kovem-70-jubileju/
SUMMARY:Marjan Manček - otvoritev razstave ob 70. jubileju
DESCRIPTION: \n\nVabilo\n\nFoto: Tine Šubic\n\n[gallery link="file" column
 s="4" size="medium" ids="eyJ1cmwiOiJodHRwczpcL1wvd3d3LmtqdWMuc2lcL3dwLWNvb
 nRlbnRcL3VwbG9hZHNcLzIwMThcLzAxXC9EU0MwNDgxNC5qcGciLCJ0aXRsZSI6IkRTQzA0ODE
 0IiwiY2FwdGlvbiI6IiIsImFsdCI6IiIsImRlc2NyaXB0aW9uIjoiIn0=\,eyJ1cmwiOiJodHR
 wczpcL1wvd3d3LmtqdWMuc2lcL3dwLWNvbnRlbnRcL3VwbG9hZHNcLzIwMThcLzAxXC9EU0MwN
 TEyOC5qcGciLCJ0aXRsZSI6IkRTQzA1MTI4IiwiY2FwdGlvbiI6IiIsImFsdCI6IiIsImRlc2N
 yaXB0aW9uIjoiIn0=\,eyJ1cmwiOiJodHRwczpcL1wvd3d3LmtqdWMuc2lcL3dwLWNvbnRlbnR
 cL3VwbG9hZHNcLzIwMThcLzAxXC9EU0MwNTEyOS5qcGciLCJ0aXRsZSI6IkRTQzA1MTI5IiwiY
 2FwdGlvbiI6IiIsImFsdCI6IiIsImRlc2NyaXB0aW9uIjoiIn0=\,eyJ1cmwiOiJodHRwczpcL
 1wvd3d3LmtqdWMuc2lcL3dwLWNvbnRlbnRcL3VwbG9hZHNcLzIwMThcLzAxXC9EU0MwNTEzMC5
 qcGciLCJ0aXRsZSI6IkRTQzA1MTMwIiwiY2FwdGlvbiI6IiIsImFsdCI6IiIsImRlc2NyaXB0a
 W9uIjoiIn0=\,eyJ1cmwiOiJodHRwczpcL1wvd3d3LmtqdWMuc2lcL3dwLWNvbnRlbnRcL3Vwb
 G9hZHNcLzIwMThcLzAxXC9EU0MwNTEzMS5qcGciLCJ0aXRsZSI6IkRTQzA1MTMxIiwiY2FwdGl
 vbiI6IiIsImFsdCI6IiIsImRlc2NyaXB0aW9uIjoiIn0=\,eyJ1cmwiOiJodHRwczpcL1wvd3d
 3LmtqdWMuc2lcL3dwLWNvbnRlbnRcL3VwbG9hZHNcLzIwMThcLzAxXC9EU0MwNTEzNi5qcGciL
 CJ0aXRsZSI6IkRTQzA1MTM2IiwiY2FwdGlvbiI6IiIsImFsdCI6IiIsImRlc2NyaXB0aW9uIjo
 iIn0=\,eyJ1cmwiOiJodHRwczpcL1wvd3d3LmtqdWMuc2lcL3dwLWNvbnRlbnRcL3VwbG9hZHN
 cLzIwMThcLzAxXC9EU0MwNTEzOC5qcGciLCJ0aXRsZSI6IkRTQzA1MTM4IiwiY2FwdGlvbiI6I
 iIsImFsdCI6IiIsImRlc2NyaXB0aW9uIjoiIn0=\,eyJ1cmwiOiJodHRwczpcL1wvd3d3Lmtqd
 WMuc2lcL3dwLWNvbnRlbnRcL3VwbG9hZHNcLzIwMThcLzAxXC9EU0MwNTE0NC5qcGciLCJ0aXR
 sZSI6IkRTQzA1MTQ0IiwiY2FwdGlvbiI6IiIsImFsdCI6IiIsImRlc2NyaXB0aW9uIjoiIn0=\
 ,eyJ1cmwiOiJodHRwczpcL1wvd3d3LmtqdWMuc2lcL3dwLWNvbnRlbnRcL3VwbG9hZHNcLzIwM
 ThcLzAxXC9EU0MwNTE0NS5qcGciLCJ0aXRsZSI6IkRTQzA1MTQ1IiwiY2FwdGlvbiI6IiIsImF
 sdCI6IiIsImRlc2NyaXB0aW9uIjoiIn0=\,eyJ1cmwiOiJodHRwczpcL1wvd3d3LmtqdWMuc2l
 cL3dwLWNvbnRlbnRcL3VwbG9hZHNcLzIwMThcLzAxXC9EU0MwNTE0Ni5qcGciLCJ0aXRsZSI6I
 kRTQzA1MTQ2IiwiY2FwdGlvbiI6IiIsImFsdCI6IiIsImRlc2NyaXB0aW9uIjoiIn0=\,eyJ1c
 mwiOiJodHRwczpcL1wvd3d3LmtqdWMuc2lcL3dwLWNvbnRlbnRcL3VwbG9hZHNcLzIwMThcLzA
 xXC9EU0MwNTE1NC5qcGciLCJ0aXRsZSI6IkRTQzA1MTU0IiwiY2FwdGlvbiI6IiIsImFsdCI6I
 iIsImRlc2NyaXB0aW9uIjoiIn0=\,eyJ1cmwiOiJodHRwczpcL1wvd3d3LmtqdWMuc2lcL3dwL
 WNvbnRlbnRcL3VwbG9hZHNcLzIwMThcLzAxXC9EU0MwNTE3Mi5qcGciLCJ0aXRsZSI6IkRTQzA
 1MTcyIiwiY2FwdGlvbiI6IiIsImFsdCI6IiIsImRlc2NyaXB0aW9uIjoiIn0=\,eyJ1cmwiOiJ
 odHRwczpcL1wvd3d3LmtqdWMuc2lcL3dwLWNvbnRlbnRcL3VwbG9hZHNcLzIwMThcLzAxXC9EU
 0MwNTE3OS5qcGciLCJ0aXRsZSI6IkRTQzA1MTc5IiwiY2FwdGlvbiI6IiIsImFsdCI6IiIsImR
 lc2NyaXB0aW9uIjoiIn0=\,eyJ1cmwiOiJodHRwczpcL1wvd3d3LmtqdWMuc2lcL3dwLWNvbnR
 lbnRcL3VwbG9hZHNcLzIwMThcLzAxXC9EU0MwNTE4Mi5qcGciLCJ0aXRsZSI6IkRTQzA1MTgyI
 iwiY2FwdGlvbiI6IiIsImFsdCI6IiIsImRlc2NyaXB0aW9uIjoiIn0=\,eyJ1cmwiOiJodHRwc
 zpcL1wvd3d3LmtqdWMuc2lcL3dwLWNvbnRlbnRcL3VwbG9hZHNcLzIwMThcLzAxXC9EU0MwNTE
 4Ni5qcGciLCJ0aXRsZSI6IkRTQzA1MTg2IiwiY2FwdGlvbiI6IiIsImFsdCI6IiIsImRlc2Nya
 XB0aW9uIjoiIn0=\,eyJ1cmwiOiJodHRwczpcL1wvd3d3LmtqdWMuc2lcL3dwLWNvbnRlbnRcL
 3VwbG9hZHNcLzIwMThcLzAxXC9EU0MwNTE5My5qcGciLCJ0aXRsZSI6IkRTQzA1MTkzIiwiY2F
 wdGlvbiI6IiIsImFsdCI6IiIsImRlc2NyaXB0aW9uIjoiIn0=\,eyJ1cmwiOiJodHRwczpcL1w
 vd3d3LmtqdWMuc2lcL3dwLWNvbnRlbnRcL3VwbG9hZHNcLzIwMThcLzAxXC9EU0MwNTE5Ni5qc
 GciLCJ0aXRsZSI6IkRTQzA1MTk2IiwiY2FwdGlvbiI6IiIsImFsdCI6IiIsImRlc2NyaXB0aW9
 uIjoiIn0=\,eyJ1cmwiOiJodHRwczpcL1wvd3d3LmtqdWMuc2lcL3dwLWNvbnRlbnRcL3VwbG9
 hZHNcLzIwMThcLzAxXC9EU0MwNTE5OC5qcGciLCJ0aXRsZSI6IkRTQzA1MTk4IiwiY2FwdGlvb
 iI6IiIsImFsdCI6IiIsImRlc2NyaXB0aW9uIjoiIn0=\,eyJ1cmwiOiJodHRwczpcL1wvd3d3L
 mtqdWMuc2lcL3dwLWNvbnRlbnRcL3VwbG9hZHNcLzIwMThcLzAxXC9EU0MwNTIwMS5qcGciLCJ
 0aXRsZSI6IkRTQzA1MjAxIiwiY2FwdGlvbiI6IiIsImFsdCI6IiIsImRlc2NyaXB0aW9uIjoiI
 n0=\,eyJ1cmwiOiJodHRwczpcL1wvd3d3LmtqdWMuc2lcL3dwLWNvbnRlbnRcL3VwbG9hZHNcL
 zIwMThcLzAxXC9EU0MwNTIwOS5qcGciLCJ0aXRsZSI6IkRTQzA1MjA5IiwiY2FwdGlvbiI6IiI
 sImFsdCI6IiIsImRlc2NyaXB0aW9uIjoiIn0=\,eyJ1cmwiOiJodHRwczpcL1wvd3d3LmtqdWM
 uc2lcL3dwLWNvbnRlbnRcL3VwbG9hZHNcLzIwMThcLzAxXC9EU0MwNTIxNS5qcGciLCJ0aXRsZ
 SI6IkRTQzA1MjE1IiwiY2FwdGlvbiI6IiIsImFsdCI6IiIsImRlc2NyaXB0aW9uIjoiIn0=\,e
 yJ1cmwiOiJodHRwczpcL1wvd3d3LmtqdWMuc2lcL3dwLWNvbnRlbnRcL3VwbG9hZHNcLzIwMTh
 cLzAxXC9EU0MwNTIyMC5qcGciLCJ0aXRsZSI6IkRTQzA1MjIwIiwiY2FwdGlvbiI6IiIsImFsd
 CI6IiIsImRlc2NyaXB0aW9uIjoiIn0=\,eyJ1cmwiOiJodHRwczpcL1wvd3d3LmtqdWMuc2lcL
 3dwLWNvbnRlbnRcL3VwbG9hZHNcLzIwMThcLzAxXC9EU0MwNTIzMy5qcGciLCJ0aXRsZSI6IkR
 TQzA1MjMzIiwiY2FwdGlvbiI6IiIsImFsdCI6IiIsImRlc2NyaXB0aW9uIjoiIn0=\,eyJ1cmw
 iOiJodHRwczpcL1wvd3d3LmtqdWMuc2lcL3dwLWNvbnRlbnRcL3VwbG9hZHNcLzIwMThcLzAxX
 C9EU0MwNTIzOC5qcGciLCJ0aXRsZSI6IkRTQzA1MjM4IiwiY2FwdGlvbiI6IiIsImFsdCI6IiI
 sImRlc2NyaXB0aW9uIjoiIn0=\,eyJ1cmwiOiJodHRwczpcL1wvd3d3LmtqdWMuc2lcL3dwLWN
 vbnRlbnRcL3VwbG9hZHNcLzIwMThcLzAxXC9EU0MwNTI0MC5qcGciLCJ0aXRsZSI6IkRTQzA1M
 jQwIiwiY2FwdGlvbiI6IiIsImFsdCI6IiIsImRlc2NyaXB0aW9uIjoiIn0=\,eyJ1cmwiOiJod
 HRwczpcL1wvd3d3LmtqdWMuc2lcL3dwLWNvbnRlbnRcL3VwbG9hZHNcLzIwMThcLzAxXC9EU0M
 wNTI0NC5qcGciLCJ0aXRsZSI6IkRTQzA1MjQ0IiwiY2FwdGlvbiI6IiIsImFsdCI6IiIsImRlc
 2NyaXB0aW9uIjoiIn0=\,eyJ1cmwiOiJodHRwczpcL1wvd3d3LmtqdWMuc2lcL3dwLWNvbnRlb
 nRcL3VwbG9hZHNcLzIwMThcLzAxXC9EU0MwNTI0Ni5qcGciLCJ0aXRsZSI6IkRTQzA1MjQ2Iiw
 iY2FwdGlvbiI6IiIsImFsdCI6IiIsImRlc2NyaXB0aW9uIjoiIn0=\,eyJ1cmwiOiJodHRwczp
 cL1wvd3d3LmtqdWMuc2lcL3dwLWNvbnRlbnRcL3VwbG9hZHNcLzIwMThcLzAxXC9EU0MwNTI0N
 y5qcGciLCJ0aXRsZSI6IkRTQzA1MjQ3IiwiY2FwdGlvbiI6IiIsImFsdCI6IiIsImRlc2NyaXB
 0aW9uIjoiIn0=\,eyJ1cmwiOiJodHRwczpcL1wvd3d3LmtqdWMuc2lcL3dwLWNvbnRlbnRcL3V
 wbG9hZHNcLzIwMThcLzAxXC9EU0MwNTI1NC5qcGciLCJ0aXRsZSI6IkRTQzA1MjU0IiwiY2Fwd
 GlvbiI6IiIsImFsdCI6IiIsImRlc2NyaXB0aW9uIjoiIn0=\,eyJ1cmwiOiJodHRwczpcL1wvd
 3d3LmtqdWMuc2lcL3dwLWNvbnRlbnRcL3VwbG9hZHNcLzIwMThcLzAxXC9EU0MwNTI2My5qcGc
 iLCJ0aXRsZSI6IkRTQzA1MjYzIiwiY2FwdGlvbiI6IiIsImFsdCI6IiIsImRlc2NyaXB0aW9uI
 joiIn0=\,eyJ1cmwiOiJodHRwczpcL1wvd3d3LmtqdWMuc2lcL3dwLWNvbnRlbnRcL3VwbG9hZ
 HNcLzIwMThcLzAxXC9EU0MwNTI2OC5qcGciLCJ0aXRsZSI6IkRTQzA1MjY4IiwiY2FwdGlvbiI
 6IiIsImFsdCI6IiIsImRlc2NyaXB0aW9uIjoiIn0=\,eyJ1cmwiOiJodHRwczpcL1wvd3d3Lmt
 qdWMuc2lcL3dwLWNvbnRlbnRcL3VwbG9hZHNcLzIwMThcLzAxXC9EU0MwNTI3NC5qcGciLCJ0a
 XRsZSI6IkRTQzA1Mjc0IiwiY2FwdGlvbiI6IiIsImFsdCI6IiIsImRlc2NyaXB0aW9uIjoiIn0
 =\,eyJ1cmwiOiJodHRwczpcL1wvd3d3LmtqdWMuc2lcL3dwLWNvbnRlbnRcL3VwbG9hZHNcLzI
 wMThcLzAxXC9EU0MwNTI3NS5qcGciLCJ0aXRsZSI6IkRTQzA1Mjc1IiwiY2FwdGlvbiI6IiIsI
 mFsdCI6IiIsImRlc2NyaXB0aW9uIjoiIn0=\,eyJ1cmwiOiJodHRwczpcL1wvd3d3LmtqdWMuc
 2lcL3dwLWNvbnRlbnRcL3VwbG9hZHNcLzIwMThcLzAxXC9EU0MwNTI3Ny5qcGciLCJ0aXRsZSI
 6IkRTQzA1Mjc3IiwiY2FwdGlvbiI6IiIsImFsdCI6IiIsImRlc2NyaXB0aW9uIjoiIn0=\,eyJ
 1cmwiOiJodHRwczpcL1wvd3d3LmtqdWMuc2lcL3dwLWNvbnRlbnRcL3VwbG9hZHNcLzIwMThcL
 zAxXC9EU0MwNTI3OC5qcGciLCJ0aXRsZSI6IkRTQzA1Mjc4IiwiY2FwdGlvbiI6IiIsImFsdCI
 6IiIsImRlc2NyaXB0aW9uIjoiIn0=\,eyJ1cmwiOiJodHRwczpcL1wvd3d3LmtqdWMuc2lcL3d
 wLWNvbnRlbnRcL3VwbG9hZHNcLzIwMThcLzAxXC9EU0MwNTI3OS5qcGciLCJ0aXRsZSI6IkRTQ
 zA1Mjc5IiwiY2FwdGlvbiI6IiIsImFsdCI6IiIsImRlc2NyaXB0aW9uIjoiIn0=\,eyJ1cmwiO
 iJodHRwczpcL1wvd3d3LmtqdWMuc2lcL3dwLWNvbnRlbnRcL3VwbG9hZHNcLzIwMThcLzAxXC9
 EU0MwNTI4MC5qcGciLCJ0aXRsZSI6IkRTQzA1MjgwIiwiY2FwdGlvbiI6IiIsImFsdCI6IiIsI
 mRlc2NyaXB0aW9uIjoiIn0=\,eyJ1cmwiOiJodHRwczpcL1wvd3d3LmtqdWMuc2lcL3dwLWNvb
 nRlbnRcL3VwbG9hZHNcLzIwMThcLzAxXC9EU0MwNTI5MS5qcGciLCJ0aXRsZSI6IkRTQzA1Mjk
 xIiwiY2FwdGlvbiI6IiIsImFsdCI6IiIsImRlc2NyaXB0aW9uIjoiIn0="]\n\nFoto: Ljubo
  Vukelić\n\n[gallery link="file" columns="4" size="medium" ids="eyJ1cmwiO
 iJodHRwczpcL1wvd3d3LmtqdWMuc2lcL3dwLWNvbnRlbnRcL3VwbG9hZHNcLzIwMThcLzAxXC9
 SQVpTVEFWQS1NQVJKQU4tTUFOXHUwMTBjRUstMDEtRk9UTy1MSlVCTy1WVUtFTElcdTAxMGMua
 nBnIiwidGl0bGUiOiJSQVpTVEFWQSBNQVJKQU4gTUFOXHUwMTBjRUsgMDEgRk9UTyBMSlVCTyB
 WVUtFTElcdTAxMGMiLCJjYXB0aW9uIjoiIiwiYWx0IjoiIiwiZGVzY3JpcHRpb24iOiIifQ==\
 ,eyJ1cmwiOiJodHRwczpcL1wvd3d3LmtqdWMuc2lcL3dwLWNvbnRlbnRcL3VwbG9hZHNcLzIwM
 ThcLzAxXC9SQVpTVEFWQS1NQVJKQU4tTUFOXHUwMTBjRUstMDItRk9UTy1MSlVCTy1WVUtFTEl
 cdTAxMGMuanBnIiwidGl0bGUiOiJSQVpTVEFWQSBNQVJKQU4gTUFOXHUwMTBjRUsgMDIgRk9UT
 yBMSlVCTyBWVUtFTElcdTAxMGMiLCJjYXB0aW9uIjoiIiwiYWx0IjoiIiwiZGVzY3JpcHRpb24
 iOiIifQ==\,eyJ1cmwiOiJodHRwczpcL1wvd3d3LmtqdWMuc2lcL3dwLWNvbnRlbnRcL3VwbG9
 hZHNcLzIwMThcLzAxXC9SQVpTVEFWQS1NQVJKQU4tTUFOXHUwMTBjRUstMDMtRk9UTy1MSlVCT
 y1WVUtFTElcdTAxMGMuanBnIiwidGl0bGUiOiJSQVpTVEFWQSBNQVJKQU4gTUFOXHUwMTBjRUs
 gMDMgRk9UTyBMSlVCTyBWVUtFTElcdTAxMGMiLCJjYXB0aW9uIjoiIiwiYWx0IjoiIiwiZGVzY
 3JpcHRpb24iOiIifQ==\,eyJ1cmwiOiJodHRwczpcL1wvd3d3LmtqdWMuc2lcL3dwLWNvbnRlb
 nRcL3VwbG9hZHNcLzIwMThcLzAxXC9SQVpTVEFWQS1NQVJKQU4tTUFOXHUwMTBjRUstMDQtRk9
 UTy1MSlVCTy1WVUtFTElcdTAxMGMuanBnIiwidGl0bGUiOiJSQVpTVEFWQSBNQVJKQU4gTUFOX
 HUwMTBjRUsgMDQgRk9UTyBMSlVCTyBWVUtFTElcdTAxMGMiLCJjYXB0aW9uIjoiIiwiYWx0Ijo
 iIiwiZGVzY3JpcHRpb24iOiIifQ==\,eyJ1cmwiOiJodHRwczpcL1wvd3d3LmtqdWMuc2lcL3d
 wLWNvbnRlbnRcL3VwbG9hZHNcLzIwMThcLzAxXC9SQVpTVEFWQS1NQVJKQU4tTUFOXHUwMTBjR
 UstMDUtRk9UTy1MSlVCTy1WVUtFTElcdTAxMGMuanBnIiwidGl0bGUiOiJSQVpTVEFWQSBNQVJ
 KQU4gTUFOXHUwMTBjRUsgMDUgRk9UTyBMSlVCTyBWVUtFTElcdTAxMGMiLCJjYXB0aW9uIjoiI
 iwiYWx0IjoiIiwiZGVzY3JpcHRpb24iOiIifQ==\,eyJ1cmwiOiJodHRwczpcL1wvd3d3Lmtqd
 WMuc2lcL3dwLWNvbnRlbnRcL3VwbG9hZHNcLzIwMThcLzAxXC9SQVpTVEFWQS1NQVJKQU4tTUF
 OXHUwMTBjRUstMDYtRk9UTy1MSlVCTy1WVUtFTElcdTAxMGMuanBnIiwidGl0bGUiOiJSQVpTV
 EFWQSBNQVJKQU4gTUFOXHUwMTBjRUsgMDYgRk9UTyBMSlVCTyBWVUtFTElcdTAxMGMiLCJjYXB
 0aW9uIjoiIiwiYWx0IjoiIiwiZGVzY3JpcHRpb24iOiIifQ==\,eyJ1cmwiOiJodHRwczpcL1w
 vd3d3LmtqdWMuc2lcL3dwLWNvbnRlbnRcL3VwbG9hZHNcLzIwMThcLzAxXC9SQVpTVEFWQS1NQ
 VJKQU4tTUFOXHUwMTBjRUstMDgtRk9UTy1MSlVCTy1WVUtFTElcdTAxMGMuanBnIiwidGl0bGU
 iOiJSQVpTVEFWQSBNQVJKQU4gTUFOXHUwMTBjRUsgMDggRk9UTyBMSlVCTyBWVUtFTElcdTAxM
 GMiLCJjYXB0aW9uIjoiIiwiYWx0IjoiIiwiZGVzY3JpcHRpb24iOiIifQ==\,eyJ1cmwiOiJod
 HRwczpcL1wvd3d3LmtqdWMuc2lcL3dwLWNvbnRlbnRcL3VwbG9hZHNcLzIwMThcLzAxXC9SQVp
 TVEFWQS1NQVJKQU4tTUFOXHUwMTBjRUstMDktRk9UTy1MSlVCTy1WVUtFTElcdTAxMGMuanBnI
 iwidGl0bGUiOiJSQVpTVEFWQSBNQVJKQU4gTUFOXHUwMTBjRUsgMDkgRk9UTyBMSlVCTyBWVUt
 FTElcdTAxMGMiLCJjYXB0aW9uIjoiIiwiYWx0IjoiIiwiZGVzY3JpcHRpb24iOiIifQ==\,eyJ
 1cmwiOiJodHRwczpcL1wvd3d3LmtqdWMuc2lcL3dwLWNvbnRlbnRcL3VwbG9hZHNcLzIwMThcL
 zAxXC9SQVpTVEFWQS1NQVJKQU4tTUFOXHUwMTBjRUstMTAtRk9UTy1MSlVCTy1WVUtFTElcdTA
 xMGMuanBnIiwidGl0bGUiOiJSQVpTVEFWQSBNQVJKQU4gTUFOXHUwMTBjRUsgMTAgRk9UTyBMS
 lVCTyBWVUtFTElcdTAxMGMiLCJjYXB0aW9uIjoiIiwiYWx0IjoiIiwiZGVzY3JpcHRpb24iOiI
 ifQ==\,eyJ1cmwiOiJodHRwczpcL1wvd3d3LmtqdWMuc2lcL3dwLWNvbnRlbnRcL3VwbG9hZHN
 cLzIwMThcLzAxXC9SQVpTVEFWQS1NQVJKQU4tTUFOXHUwMTBjRUstMTEtRk9UTy1MSlVCTy1WV
 UtFTElcdTAxMGMuanBnIiwidGl0bGUiOiJSQVpTVEFWQSBNQVJKQU4gTUFOXHUwMTBjRUsgMTE
 gRk9UTyBMSlVCTyBWVUtFTElcdTAxMGMiLCJjYXB0aW9uIjoiIiwiYWx0IjoiIiwiZGVzY3Jpc
 HRpb24iOiIifQ==\,eyJ1cmwiOiJodHRwczpcL1wvd3d3LmtqdWMuc2lcL3dwLWNvbnRlbnRcL
 3VwbG9hZHNcLzIwMThcLzAxXC9SQVpTVEFWQS1NQVJKQU4tTUFOXHUwMTBjRUstMTItRk9UTy1
 MSlVCTy1WVUtFTElcdTAxMGMuanBnIiwidGl0bGUiOiJSQVpTVEFWQSBNQVJKQU4gTUFOXHUwM
 TBjRUsgMTIgRk9UTyBMSlVCTyBWVUtFTElcdTAxMGMiLCJjYXB0aW9uIjoiIiwiYWx0IjoiIiw
 iZGVzY3JpcHRpb24iOiIifQ==\,eyJ1cmwiOiJodHRwczpcL1wvd3d3LmtqdWMuc2lcL3dwLWN
 vbnRlbnRcL3VwbG9hZHNcLzIwMThcLzAxXC9SQVpTVEFWQS1NQVJKQU4tTUFOXHUwMTBjRUstM
 TMtRk9UTy1MSlVCTy1WVUtFTElcdTAxMGMuanBnIiwidGl0bGUiOiJSQVpTVEFWQSBNQVJKQU4
 gTUFOXHUwMTBjRUsgMTMgRk9UTyBMSlVCTyBWVUtFTElcdTAxMGMiLCJjYXB0aW9uIjoiIiwiY
 Wx0IjoiIiwiZGVzY3JpcHRpb24iOiIifQ==\,eyJ1cmwiOiJodHRwczpcL1wvd3d3LmtqdWMuc
 2lcL3dwLWNvbnRlbnRcL3VwbG9hZHNcLzIwMThcLzAxXC9SQVpTVEFWQS1NQVJKQU4tTUFOXHU
 wMTBjRUstMTQtRk9UTy1MSlVCTy1WVUtFTElcdTAxMGMuanBnIiwidGl0bGUiOiJSQVpTVEFWQ
 SBNQVJKQU4gTUFOXHUwMTBjRUsgMTQgRk9UTyBMSlVCTyBWVUtFTElcdTAxMGMiLCJjYXB0aW9
 uIjoiIiwiYWx0IjoiIiwiZGVzY3JpcHRpb24iOiIifQ==\,eyJ1cmwiOiJodHRwczpcL1wvd3d
 3LmtqdWMuc2lcL3dwLWNvbnRlbnRcL3VwbG9hZHNcLzIwMThcLzAxXC9SQVpTVEFWQS1NQVJKQ
 U4tTUFOXHUwMTBjRUstMTUtRk9UTy1MSlVCTy1WVUtFTElcdTAxMGMuanBnIiwidGl0bGUiOiJ
 SQVpTVEFWQSBNQVJKQU4gTUFOXHUwMTBjRUsgMTUgRk9UTyBMSlVCTyBWVUtFTElcdTAxMGMiL
 CJjYXB0aW9uIjoiIiwiYWx0IjoiIiwiZGVzY3JpcHRpb24iOiIifQ==\,eyJ1cmwiOiJodHRwc
 zpcL1wvd3d3LmtqdWMuc2lcL3dwLWNvbnRlbnRcL3VwbG9hZHNcLzIwMThcLzAxXC9SQVpTVEF
 WQS1NQVJKQU4tTUFOXHUwMTBjRUstMTYtRk9UTy1MSlVCTy1WVUtFTElcdTAxMGMuanBnIiwid
 Gl0bGUiOiJSQVpTVEFWQSBNQVJKQU4gTUFOXHUwMTBjRUsgMTYgRk9UTyBMSlVCTyBWVUtFTEl
 cdTAxMGMiLCJjYXB0aW9uIjoiIiwiYWx0IjoiIiwiZGVzY3JpcHRpb24iOiIifQ==\,eyJ1cmw
 iOiJodHRwczpcL1wvd3d3LmtqdWMuc2lcL3dwLWNvbnRlbnRcL3VwbG9hZHNcLzIwMThcLzAxX
 C9SQVpTVEFWQS1NQVJKQU4tTUFOXHUwMTBjRUstMTctRk9UTy1MSlVCTy1WVUtFTElcdTAxMGM
 uanBnIiwidGl0bGUiOiJSQVpTVEFWQSBNQVJKQU4gTUFOXHUwMTBjRUsgMTcgRk9UTyBMSlVCT
 yBWVUtFTElcdTAxMGMiLCJjYXB0aW9uIjoiIiwiYWx0IjoiIiwiZGVzY3JpcHRpb24iOiIifQ=
 =\,eyJ1cmwiOiJodHRwczpcL1wvd3d3LmtqdWMuc2lcL3dwLWNvbnRlbnRcL3VwbG9hZHNcLzI
 wMThcLzAxXC9SQVpTVEFWQS1NQVJKQU4tTUFOXHUwMTBjRUstMTgtRk9UTy1MSlVCTy1WVUtFT
 ElcdTAxMGMuanBnIiwidGl0bGUiOiJSQVpTVEFWQSBNQVJKQU4gTUFOXHUwMTBjRUsgMTggRk9
 UTyBMSlVCTyBWVUtFTElcdTAxMGMiLCJjYXB0aW9uIjoiIiwiYWx0IjoiIiwiZGVzY3JpcHRpb
 24iOiIifQ==\,eyJ1cmwiOiJodHRwczpcL1wvd3d3LmtqdWMuc2lcL3dwLWNvbnRlbnRcL3Vwb
 G9hZHNcLzIwMThcLzAxXC9SQVpTVEFWQS1NQVJKQU4tTUFOXHUwMTBjRUstMTktRk9UTy1MSlV
 CTy1WVUtFTElcdTAxMGMuanBnIiwidGl0bGUiOiJSQVpTVEFWQSBNQVJKQU4gTUFOXHUwMTBjR
 UsgMTkgRk9UTyBMSlVCTyBWVUtFTElcdTAxMGMiLCJjYXB0aW9uIjoiIiwiYWx0IjoiIiwiZGV
 zY3JpcHRpb24iOiIifQ==\,eyJ1cmwiOiJodHRwczpcL1wvd3d3LmtqdWMuc2lcL3dwLWNvbnR
 lbnRcL3VwbG9hZHNcLzIwMThcLzAxXC9SQVpTVEFWQS1NQVJKQU4tTUFOXHUwMTBjRUstMjAtR
 k9UTy1MSlVCTy1WVUtFTElcdTAxMGMuanBnIiwidGl0bGUiOiJSQVpTVEFWQSBNQVJKQU4gTUF
 OXHUwMTBjRUsgMjAgRk9UTyBMSlVCTyBWVUtFTElcdTAxMGMiLCJjYXB0aW9uIjoiIiwiYWx0I
 joiIiwiZGVzY3JpcHRpb24iOiIifQ==\,eyJ1cmwiOiJodHRwczpcL1wvd3d3LmtqdWMuc2lcL
 3dwLWNvbnRlbnRcL3VwbG9hZHNcLzIwMThcLzAxXC9SQVpTVEFWQS1NQVJKQU4tTUFOXHUwMTB
 jRUstMjEtRk9UTy1MSlVCTy1WVUtFTElcdTAxMGMuanBnIiwidGl0bGUiOiJSQVpTVEFWQSBNQ
 VJKQU4gTUFOXHUwMTBjRUsgMjEgRk9UTyBMSlVCTyBWVUtFTElcdTAxMGMiLCJjYXB0aW9uIjo
 iIiwiYWx0IjoiIiwiZGVzY3JpcHRpb24iOiIifQ==\,eyJ1cmwiOiJodHRwczpcL1wvd3d3Lmt
 qdWMuc2lcL3dwLWNvbnRlbnRcL3VwbG9hZHNcLzIwMThcLzAxXC9SQVpTVEFWQS1NQVJKQU4tT
 UFOXHUwMTBjRUstMjItRk9UTy1MSlVCTy1WVUtFTElcdTAxMGMuanBnIiwidGl0bGUiOiJSQVp
 TVEFWQSBNQVJKQU4gTUFOXHUwMTBjRUsgMjIgRk9UTyBMSlVCTyBWVUtFTElcdTAxMGMiLCJjY
 XB0aW9uIjoiIiwiYWx0IjoiIiwiZGVzY3JpcHRpb24iOiIifQ==\,eyJ1cmwiOiJodHRwczpcL
 1wvd3d3LmtqdWMuc2lcL3dwLWNvbnRlbnRcL3VwbG9hZHNcLzIwMThcLzAxXC9SQVpTVEFWQS1
 NQVJKQU4tTUFOXHUwMTBjRUstMjMtRk9UTy1MSlVCTy1WVUtFTElcdTAxMGMuanBnIiwidGl0b
 GUiOiJSQVpTVEFWQSBNQVJKQU4gTUFOXHUwMTBjRUsgMjMgRk9UTyBMSlVCTyBWVUtFTElcdTA
 xMGMiLCJjYXB0aW9uIjoiIiwiYWx0IjoiIiwiZGVzY3JpcHRpb24iOiIifQ==\,eyJ1cmwiOiJ
 odHRwczpcL1wvd3d3LmtqdWMuc2lcL3dwLWNvbnRlbnRcL3VwbG9hZHNcLzIwMThcLzAxXC9SQ
 VpTVEFWQS1NQVJKQU4tTUFOXHUwMTBjRUstMjQtRk9UTy1MSlVCTy1WVUtFTElcdTAxMGMuanB
 nIiwidGl0bGUiOiJSQVpTVEFWQSBNQVJKQU4gTUFOXHUwMTBjRUsgMjQgRk9UTyBMSlVCTyBWV
 UtFTElcdTAxMGMiLCJjYXB0aW9uIjoiIiwiYWx0IjoiIiwiZGVzY3JpcHRpb24iOiIifQ==\,e
 yJ1cmwiOiJodHRwczpcL1wvd3d3LmtqdWMuc2lcL3dwLWNvbnRlbnRcL3VwbG9hZHNcLzIwMTh
 cLzAxXC9SQVpTVEFWQS1NQVJKQU4tTUFOXHUwMTBjRUstMjUtRk9UTy1MSlVCTy1WVUtFTElcd
 TAxMGMuanBnIiwidGl0bGUiOiJSQVpTVEFWQSBNQVJKQU4gTUFOXHUwMTBjRUsgMjUgRk9UTyB
 MSlVCTyBWVUtFTElcdTAxMGMiLCJjYXB0aW9uIjoiIiwiYWx0IjoiIiwiZGVzY3JpcHRpb24iO
 iIifQ==\,eyJ1cmwiOiJodHRwczpcL1wvd3d3LmtqdWMuc2lcL3dwLWNvbnRlbnRcL3VwbG9hZ
 HNcLzIwMThcLzAxXC9SQVpTVEFWQS1NQVJKQU4tTUFOXHUwMTBjRUstMjYtRk9UTy1MSlVCTy1
 WVUtFTElcdTAxMGMuanBnIiwidGl0bGUiOiJSQVpTVEFWQSBNQVJKQU4gTUFOXHUwMTBjRUsgM
 jYgRk9UTyBMSlVCTyBWVUtFTElcdTAxMGMiLCJjYXB0aW9uIjoiIiwiYWx0IjoiIiwiZGVzY3J
 pcHRpb24iOiIifQ==\,eyJ1cmwiOiJodHRwczpcL1wvd3d3LmtqdWMuc2lcL3dwLWNvbnRlbnR
 cL3VwbG9hZHNcLzIwMThcLzAxXC9SQVpTVEFWQS1NQVJKQU4tTUFOXHUwMTBjRUstMjctRk9UT
 y1MSlVCTy1WVUtFTElcdTAxMGMuanBnIiwidGl0bGUiOiJSQVpTVEFWQSBNQVJKQU4gTUFOXHU
 wMTBjRUsgMjcgRk9UTyBMSlVCTyBWVUtFTElcdTAxMGMiLCJjYXB0aW9uIjoiIiwiYWx0IjoiI
 iwiZGVzY3JpcHRpb24iOiIifQ==\,eyJ1cmwiOiJodHRwczpcL1wvd3d3LmtqdWMuc2lcL3dwL
 WNvbnRlbnRcL3VwbG9hZHNcLzIwMThcLzAxXC9SQVpTVEFWQS1NQVJKQU4tTUFOXHUwMTBjRUs
 tMjgtRk9UTy1MSlVCTy1WVUtFTElcdTAxMGMuanBnIiwidGl0bGUiOiJSQVpTVEFWQSBNQVJKQ
 U4gTUFOXHUwMTBjRUsgMjggRk9UTyBMSlVCTyBWVUtFTElcdTAxMGMiLCJjYXB0aW9uIjoiIiw
 iYWx0IjoiIiwiZGVzY3JpcHRpb24iOiIifQ==\,eyJ1cmwiOiJodHRwczpcL1wvd3d3LmtqdWM
 uc2lcL3dwLWNvbnRlbnRcL3VwbG9hZHNcLzIwMThcLzAxXC9SQVpTVEFWQS1NQVJKQU4tTUFOX
 HUwMTBjRUstMjktRk9UTy1MSlVCTy1WVUtFTElcdTAxMGMuanBnIiwidGl0bGUiOiJSQVpTVEF
 WQSBNQVJKQU4gTUFOXHUwMTBjRUsgMjkgRk9UTyBMSlVCTyBWVUtFTElcdTAxMGMiLCJjYXB0a
 W9uIjoiIiwiYWx0IjoiIiwiZGVzY3JpcHRpb24iOiIifQ==\,eyJ1cmwiOiJodHRwczpcL1wvd
 3d3LmtqdWMuc2lcL3dwLWNvbnRlbnRcL3VwbG9hZHNcLzIwMThcLzAxXC9SQVpTVEFWQS1NQVJ
 KQU4tTUFOXHUwMTBjRUstMzAtRk9UTy1MSlVCTy1WVUtFTElcdTAxMGMuanBnIiwidGl0bGUiO
 iJSQVpTVEFWQSBNQVJKQU4gTUFOXHUwMTBjRUsgMzAgRk9UTyBMSlVCTyBWVUtFTElcdTAxMGM
 iLCJjYXB0aW9uIjoiIiwiYWx0IjoiIiwiZGVzY3JpcHRpb24iOiIifQ==\,eyJ1cmwiOiJodHR
 wczpcL1wvd3d3LmtqdWMuc2lcL3dwLWNvbnRlbnRcL3VwbG9hZHNcLzIwMThcLzAxXC9SQVpTV
 EFWQS1NQVJKQU4tTUFOXHUwMTBjRUstMzEtRk9UTy1MSlVCTy1WVUtFTElcdTAxMGMuanBnIiw
 idGl0bGUiOiJSQVpTVEFWQSBNQVJKQU4gTUFOXHUwMTBjRUsgMzEgRk9UTyBMSlVCTyBWVUtFT
 ElcdTAxMGMiLCJjYXB0aW9uIjoiIiwiYWx0IjoiIiwiZGVzY3JpcHRpb24iOiIifQ==\,eyJ1c
 mwiOiJodHRwczpcL1wvd3d3LmtqdWMuc2lcL3dwLWNvbnRlbnRcL3VwbG9hZHNcLzIwMThcLzA
 xXC9SQVpTVEFWQS1NQVJKQU4tTUFOXHUwMTBjRUstMzItRk9UTy1MSlVCTy1WVUtFTElcdTAxM
 GMuanBnIiwidGl0bGUiOiJSQVpTVEFWQSBNQVJKQU4gTUFOXHUwMTBjRUsgMzIgRk9UTyBMSlV
 CTyBWVUtFTElcdTAxMGMiLCJjYXB0aW9uIjoiIiwiYWx0IjoiIiwiZGVzY3JpcHRpb24iOiIif
 Q==\,eyJ1cmwiOiJodHRwczpcL1wvd3d3LmtqdWMuc2lcL3dwLWNvbnRlbnRcL3VwbG9hZHNcL
 zIwMThcLzAxXC9SQVpTVEFWQS1NQVJKQU4tTUFOXHUwMTBjRUstMzMtRk9UTy1MSlVCTy1WVUt
 FTElcdTAxMGMuanBnIiwidGl0bGUiOiJSQVpTVEFWQSBNQVJKQU4gTUFOXHUwMTBjRUsgMzMgR
 k9UTyBMSlVCTyBWVUtFTElcdTAxMGMiLCJjYXB0aW9uIjoiIiwiYWx0IjoiIiwiZGVzY3JpcHR
 pb24iOiIifQ=="]\n\nhttp://notranjskoprimorske.si/2018/01/marjan-mancek-vsi
 -liki-so-prisli-iz-srca-pa-tudi-znanja-veselja-in-vedenja-o-svetu/
ATTACH;FMTTYPE=image/jpeg:https://www.kjuc.si/wp-content/uploads/2025/03/M
 M-karikatura.jpg
LOCATION:Knjižnica Jožeta Udoviča Cerknica\, Partizanska cesta 22\, Cerk
 nica\, Slovenia
GEO:45.795484;14.362483
X-APPLE-STRUCTURED-LOCATION;VALUE=URI;X-ADDRESS=Partizanska cesta 22\, Cerk
 nica\, Slovenia;X-APPLE-RADIUS=100;X-TITLE=Knjižnica Jožeta Udoviča Cer
 knica:geo:45.795484,14.362483
END:VEVENT
BEGIN:VTIMEZONE
TZID:Europe/Ljubljana
X-LIC-LOCATION:Europe/Ljubljana
BEGIN:STANDARD
DTSTART:20171029T020000
TZOFFSETFROM:+0200
TZOFFSETTO:+0100
TZNAME:CET
END:STANDARD
END:VTIMEZONE
END:VCALENDAR