BEGIN:VCALENDAR
VERSION:2.0
PRODID:-//wp-events-plugin.com//7.2.3.1//EN
TZID:Europe/Ljubljana
X-WR-TIMEZONE:Europe/Ljubljana
BEGIN:VEVENT
UID:608@kjuc.si
DTSTART;TZID=Europe/Ljubljana;VALUE=DATE:20180309
DTEND;TZID=Europe/Ljubljana;VALUE=DATE:20180410
DTSTAMP:20250331T102752Z
URL:https://www.kjuc.si/dogodki/marjan-mancek-razstava-ob-70-jubileju-2/
SUMMARY:Marjan Manček – razstava ob 70. jubileju
DESCRIPTION:\n\nVabilo\n\n[gallery link="file" columns="2" size="full" ids=
 "eyJ1cmwiOiJodHRwczpcL1wvd3d3LmtqdWMuc2lcL3dwLWNvbnRlbnRcL3VwbG9hZHNcLzIwM
 ThcLzAzXC8yMDE4MDMyMV8xNzEwMzQuanBnIiwidGl0bGUiOiIyMDE4MDMyMV8xNzEwMzQiLCJ
 jYXB0aW9uIjoiIiwiYWx0IjoiIiwiZGVzY3JpcHRpb24iOiIifQ==\,eyJ1cmwiOiJodHRwczp
 cL1wvd3d3LmtqdWMuc2lcL3dwLWNvbnRlbnRcL3VwbG9hZHNcLzIwMThcLzAzXC8yMDE4MDMyM
 V8xNzExMjkuanBnIiwidGl0bGUiOiIyMDE4MDMyMV8xNzExMjkiLCJjYXB0aW9uIjoiIiwiYWx
 0IjoiIiwiZGVzY3JpcHRpb24iOiIifQ==\,eyJ1cmwiOiJodHRwczpcL1wvd3d3LmtqdWMuc2l
 cL3dwLWNvbnRlbnRcL3VwbG9hZHNcLzIwMThcLzAzXC8yMDE4MDMyMV8xNzExNTIuanBnIiwid
 Gl0bGUiOiIyMDE4MDMyMV8xNzExNTIiLCJjYXB0aW9uIjoiIiwiYWx0IjoiIiwiZGVzY3JpcHR
 pb24iOiIifQ==\,eyJ1cmwiOiJodHRwczpcL1wvd3d3LmtqdWMuc2lcL3dwLWNvbnRlbnRcL3V
 wbG9hZHNcLzIwMThcLzAzXC8yMDE4MDMyMV8xNzEyMDUuanBnIiwidGl0bGUiOiIyMDE4MDMyM
 V8xNzEyMDUiLCJjYXB0aW9uIjoiIiwiYWx0IjoiIiwiZGVzY3JpcHRpb24iOiIifQ==\,eyJ1c
 mwiOiJodHRwczpcL1wvd3d3LmtqdWMuc2lcL3dwLWNvbnRlbnRcL3VwbG9hZHNcLzIwMThcLzA
 zXC8yMDE4MDMyMV8xNzEyMjUuanBnIiwidGl0bGUiOiIyMDE4MDMyMV8xNzEyMjUiLCJjYXB0a
 W9uIjoiIiwiYWx0IjoiIiwiZGVzY3JpcHRpb24iOiIifQ==\,eyJ1cmwiOiJodHRwczpcL1wvd
 3d3LmtqdWMuc2lcL3dwLWNvbnRlbnRcL3VwbG9hZHNcLzIwMThcLzAzXC8yMDE4MDMyMV8xNzE
 yMzYuanBnIiwidGl0bGUiOiIyMDE4MDMyMV8xNzEyMzYiLCJjYXB0aW9uIjoiIiwiYWx0IjoiI
 iwiZGVzY3JpcHRpb24iOiIifQ==\,eyJ1cmwiOiJodHRwczpcL1wvd3d3LmtqdWMuc2lcL3dwL
 WNvbnRlbnRcL3VwbG9hZHNcLzIwMThcLzAzXC8yMDE4MDMyMV8xNzE0MTguanBnIiwidGl0bGU
 iOiIyMDE4MDMyMV8xNzE0MTgiLCJjYXB0aW9uIjoiIiwiYWx0IjoiIiwiZGVzY3JpcHRpb24iO
 iIifQ=="]
ATTACH;FMTTYPE=image/jpeg:https://www.kjuc.si/wp-content/uploads/2025/03/c
 over-1-19.jpg
CATEGORIES:Razstave
LOCATION:Enota Ivana Matičiča Rakek\, Partizanska cesta 8a\, Rakek\, Slov
 enia
GEO:45.8127;14.319238
X-APPLE-STRUCTURED-LOCATION;VALUE=URI;X-ADDRESS=Partizanska cesta 8a\, Rake
 k\, Slovenia;X-APPLE-RADIUS=100;X-TITLE=Enota Ivana Matičiča Rakek:geo:4
 5.8127,14.319238
END:VEVENT
BEGIN:VTIMEZONE
TZID:Europe/Ljubljana
X-LIC-LOCATION:Europe/Ljubljana
BEGIN:STANDARD
DTSTART:20171029T020000
TZOFFSETFROM:+0200
TZOFFSETTO:+0100
TZNAME:CET
END:STANDARD
BEGIN:DAYLIGHT
DTSTART:20180325T030000
TZOFFSETFROM:+0100
TZOFFSETTO:+0200
TZNAME:CEST
END:DAYLIGHT
END:VTIMEZONE
END:VCALENDAR