BEGIN:VCALENDAR
VERSION:2.0
PRODID:-//wp-events-plugin.com//7.2.3.1//EN
TZID:Europe/Ljubljana
X-WR-TIMEZONE:Europe/Ljubljana
BEGIN:VEVENT
UID:66@kjuc.si
DTSTART;TZID=Europe/Ljubljana:20150409T190000
DTEND;TZID=Europe/Ljubljana:20150409T210000
DTSTAMP:20250331T094714Z
URL:https://www.kjuc.si/dogodki/marjan-olenik-etiopija-potopisno-predavanj
 e/
SUMMARY:Marjan Olenik: Etiopija - potopisno predavanje
DESCRIPTION: \n\n&nbsp\;\n\n[gallery ids="eyJ1cmwiOiJodHRwczpcL1wvd3d3Lmtqd
 WMuc2lcL3dwLWNvbnRlbnRcL3VwbG9hZHNcLzIwMTVcLzA2XC84NDNfMy5qcGciLCJ0aXRsZSI
 6Ijg0M18zIiwiY2FwdGlvbiI6IiIsImFsdCI6IiIsImRlc2NyaXB0aW9uIjoiIn0=\,eyJ1cmw
 iOiJodHRwczpcL1wvd3d3LmtqdWMuc2lcL3dwLWNvbnRlbnRcL3VwbG9hZHNcLzIwMTVcLzA2X
 C84NDNfNC5qcGciLCJ0aXRsZSI6Ijg0M180IiwiY2FwdGlvbiI6IiIsImFsdCI6IiIsImRlc2N
 yaXB0aW9uIjoiIn0=\,eyJ1cmwiOiJodHRwczpcL1wvd3d3LmtqdWMuc2lcL3dwLWNvbnRlbnR
 cL3VwbG9hZHNcLzIwMTVcLzA2XC84NDNfNS5qcGciLCJ0aXRsZSI6Ijg0M181IiwiY2FwdGlvb
 iI6IiIsImFsdCI6IiIsImRlc2NyaXB0aW9uIjoiIn0=\,eyJ1cmwiOiJodHRwczpcL1wvd3d3L
 mtqdWMuc2lcL3dwLWNvbnRlbnRcL3VwbG9hZHNcLzIwMTVcLzA2XC84NDNfNi5qcGciLCJ0aXR
 sZSI6Ijg0M182IiwiY2FwdGlvbiI6IiIsImFsdCI6IiIsImRlc2NyaXB0aW9uIjoiIn0=\,eyJ
 1cmwiOiJodHRwczpcL1wvd3d3LmtqdWMuc2lcL3dwLWNvbnRlbnRcL3VwbG9hZHNcLzIwMTVcL
 zA2XC84NDNfNy5qcGciLCJ0aXRsZSI6Ijg0M183IiwiY2FwdGlvbiI6IiIsImFsdCI6IiIsImR
 lc2NyaXB0aW9uIjoiIn0=\,eyJ1cmwiOiJodHRwczpcL1wvd3d3LmtqdWMuc2lcL3dwLWNvbnR
 lbnRcL3VwbG9hZHNcLzIwMTVcLzA2XC84NDNfOC5qcGciLCJ0aXRsZSI6Ijg0M184IiwiY2Fwd
 GlvbiI6IiIsImFsdCI6IiIsImRlc2NyaXB0aW9uIjoiIn0=\,eyJ1cmwiOiJodHRwczpcL1wvd
 3d3LmtqdWMuc2lcL3dwLWNvbnRlbnRcL3VwbG9hZHNcLzIwMTVcLzA2XC84NDNfOS5qcGciLCJ
 0aXRsZSI6Ijg0M185IiwiY2FwdGlvbiI6IiIsImFsdCI6IiIsImRlc2NyaXB0aW9uIjoiIn0=\
 ,eyJ1cmwiOiJodHRwczpcL1wvd3d3LmtqdWMuc2lcL3dwLWNvbnRlbnRcL3VwbG9hZHNcLzIwM
 TVcLzA2XC84NDNfMTAuanBnIiwidGl0bGUiOiI4NDNfMTAiLCJjYXB0aW9uIjoiIiwiYWx0Ijo
 iIiwiZGVzY3JpcHRpb24iOiIifQ=="]\n\nvabilo: r_etiopija_apr2015
ATTACH;FMTTYPE=image/jpeg:https://www.kjuc.si/wp-content/uploads/2025/03/8
 43_1.jpg
CATEGORIES:Predavanja
LOCATION:Enota Ivana Matičiča Rakek\, Partizanska cesta 8a\, Rakek\, Slov
 enia
GEO:45.8127;14.319238
X-APPLE-STRUCTURED-LOCATION;VALUE=URI;X-ADDRESS=Partizanska cesta 8a\, Rake
 k\, Slovenia;X-APPLE-RADIUS=100;X-TITLE=Enota Ivana Matičiča Rakek:geo:4
 5.8127,14.319238
END:VEVENT
BEGIN:VTIMEZONE
TZID:Europe/Ljubljana
X-LIC-LOCATION:Europe/Ljubljana
BEGIN:DAYLIGHT
DTSTART:20150329T030000
TZOFFSETFROM:+0100
TZOFFSETTO:+0200
TZNAME:CEST
END:DAYLIGHT
END:VTIMEZONE
END:VCALENDAR