BEGIN:VCALENDAR
VERSION:2.0
PRODID:-//wp-events-plugin.com//7.2.3.1//EN
TZID:Europe/Ljubljana
X-WR-TIMEZONE:Europe/Ljubljana
BEGIN:VEVENT
UID:625@kjuc.si
DTSTART;TZID=Europe/Ljubljana:20180418T190000
DTEND;TZID=Europe/Ljubljana:20180418T200000
DTSTAMP:20250331T102823Z
URL:https://www.kjuc.si/dogodki/marjan-olenik-mjanmar-potopisno-predavanje
 /
SUMMARY:Marjan Olenik: Mjanmar - potopisno predavanje
DESCRIPTION:\n\nVabilo\n\nPredavanje o Mjanmaru\n\nDa bi lažje dočakali p
 očitniške dni\, smo v rakovški knjižnici 18. aprila organizirali potop
 isno predavanje. Tokrat smo se odpravili v Mjanmar (Burmo).\n\nZ nami je v
 tise delil Marjan Olenik\, izkušeni popotnik\, alpinist in fotograf. Sice
 r prihaja s sežanskega konca\, a je že nekaj let član Likovne sekcije K
 D Rak Rakek.\n\nSvoja likovna in fotografska dela razstavlja na številnih
  društvenih razstavah in samostojno. V zadnjih letih nam je predstavil ž
 e Nepal\, Etiopijo in dežele pod Himalajo.\n\nNjegova predavanja so vedno
  pestra\, saj poleg odličnih fotografij in posnetkov deli izkušnje\, do
 živete izven okvirjev klasičnega turizma.\n\n&nbsp\;\n\nNevena Savić\n\
 n[gallery link="file" columns="2" size="full" ids="eyJ1cmwiOiJodHRwczpcL1w
 vd3d3LmtqdWMuc2lcL3dwLWNvbnRlbnRcL3VwbG9hZHNcLzIwMThcLzA0XC8yMDE4MDQxOF8xO
 TAxNDkuanBnIiwidGl0bGUiOiIyMDE4MDQxOF8xOTAxNDkiLCJjYXB0aW9uIjoiIiwiYWx0Ijo
 iIiwiZGVzY3JpcHRpb24iOiIifQ==\,eyJ1cmwiOiJodHRwczpcL1wvd3d3LmtqdWMuc2lcL3d
 wLWNvbnRlbnRcL3VwbG9hZHNcLzIwMThcLzA0XC8yMDE4MDQxOF8xOTAyMDIuanBnIiwidGl0b
 GUiOiIyMDE4MDQxOF8xOTAyMDIiLCJjYXB0aW9uIjoiIiwiYWx0IjoiIiwiZGVzY3JpcHRpb24
 iOiIifQ==\,eyJ1cmwiOiJodHRwczpcL1wvd3d3LmtqdWMuc2lcL3dwLWNvbnRlbnRcL3VwbG9
 hZHNcLzIwMThcLzA0XC8yMDE4MDQxOF8xOTA2MzMuanBnIiwidGl0bGUiOiIyMDE4MDQxOF8xO
 TA2MzMiLCJjYXB0aW9uIjoiIiwiYWx0IjoiIiwiZGVzY3JpcHRpb24iOiIifQ==\,eyJ1cmwiO
 iJodHRwczpcL1wvd3d3LmtqdWMuc2lcL3dwLWNvbnRlbnRcL3VwbG9hZHNcLzIwMThcLzA0XC8
 yMDE4MDQxOF8xOTA3MDUuanBnIiwidGl0bGUiOiIyMDE4MDQxOF8xOTA3MDUiLCJjYXB0aW9uI
 joiIiwiYWx0IjoiIiwiZGVzY3JpcHRpb24iOiIifQ==\,eyJ1cmwiOiJodHRwczpcL1wvd3d3L
 mtqdWMuc2lcL3dwLWNvbnRlbnRcL3VwbG9hZHNcLzIwMThcLzA0XC8yMDE4MDQxOF8xOTMwMjE
 uanBnIiwidGl0bGUiOiIyMDE4MDQxOF8xOTMwMjEiLCJjYXB0aW9uIjoiIiwiYWx0IjoiIiwiZ
 GVzY3JpcHRpb24iOiIifQ==\,eyJ1cmwiOiJodHRwczpcL1wvd3d3LmtqdWMuc2lcL3dwLWNvb
 nRlbnRcL3VwbG9hZHNcLzIwMThcLzA0XC8yMDE4MDQxOF8xOTMwMzEuanBnIiwidGl0bGUiOiI
 yMDE4MDQxOF8xOTMwMzEiLCJjYXB0aW9uIjoiIiwiYWx0IjoiIiwiZGVzY3JpcHRpb24iOiIif
 Q==\,eyJ1cmwiOiJodHRwczpcL1wvd3d3LmtqdWMuc2lcL3dwLWNvbnRlbnRcL3VwbG9hZHNcL
 zIwMThcLzA0XC8yMDE4MDQxOF8xOTMwNDcuanBnIiwidGl0bGUiOiIyMDE4MDQxOF8xOTMwNDc
 iLCJjYXB0aW9uIjoiIiwiYWx0IjoiIiwiZGVzY3JpcHRpb24iOiIifQ=="]
ATTACH;FMTTYPE=image/jpeg:https://www.kjuc.si/wp-content/uploads/2025/03/c
 over-29.jpg
CATEGORIES:Predavanja,Prireditev
LOCATION:Enota Ivana Matičiča Rakek\, Partizanska cesta 8a\, Rakek\, Slov
 enia
GEO:45.8127;14.319238
X-APPLE-STRUCTURED-LOCATION;VALUE=URI;X-ADDRESS=Partizanska cesta 8a\, Rake
 k\, Slovenia;X-APPLE-RADIUS=100;X-TITLE=Enota Ivana Matičiča Rakek:geo:4
 5.8127,14.319238
END:VEVENT
BEGIN:VTIMEZONE
TZID:Europe/Ljubljana
X-LIC-LOCATION:Europe/Ljubljana
BEGIN:DAYLIGHT
DTSTART:20180325T030000
TZOFFSETFROM:+0100
TZOFFSETTO:+0200
TZNAME:CEST
END:DAYLIGHT
END:VTIMEZONE
END:VCALENDAR