BEGIN:VCALENDAR
VERSION:2.0
PRODID:-//wp-events-plugin.com//7.2.3.1//EN
TZID:Europe/Ljubljana
X-WR-TIMEZONE:Europe/Ljubljana
BEGIN:VEVENT
UID:1892@kjuc.si
DTSTART;TZID=Europe/Ljubljana:20250219T180000
DTEND;TZID=Europe/Ljubljana:20250219T190000
DTSTAMP:20250331T104752Z
URL:https://www.kjuc.si/dogodki/martina-mikolic-ne-zdrava-hrana-predavanje
 -2/
SUMMARY:Martina Mikolič: Ne-zdrava hrana - predavanje
DESCRIPTION: Martina Mikolič Rakk
ATTACH;FMTTYPE=image/jpeg:https://www.kjuc.si/wp-content/uploads/2025/03/M
 artina-Mikolic-Rakk.jpg
CATEGORIES:Predavanja
LOCATION:Enota Ivana Matičiča Rakek\, Partizanska cesta 8a\, Rakek\, Slov
 enia
GEO:45.8127;14.319238
X-APPLE-STRUCTURED-LOCATION;VALUE=URI;X-ADDRESS=Partizanska cesta 8a\, Rake
 k\, Slovenia;X-APPLE-RADIUS=100;X-TITLE=Enota Ivana Matičiča Rakek:geo:4
 5.8127,14.319238
END:VEVENT
BEGIN:VTIMEZONE
TZID:Europe/Ljubljana
X-LIC-LOCATION:Europe/Ljubljana
BEGIN:STANDARD
DTSTART:20241027T020000
TZOFFSETFROM:+0200
TZOFFSETTO:+0100
TZNAME:CET
END:STANDARD
END:VTIMEZONE
END:VCALENDAR