BEGIN:VCALENDAR
VERSION:2.0
PRODID:-//wp-events-plugin.com//7.2.3.1//EN
TZID:Europe/Ljubljana
X-WR-TIMEZONE:Europe/Ljubljana
BEGIN:VEVENT
UID:996@kjuc.si
DTSTART;TZID=Europe/Ljubljana;VALUE=DATE:20200115
DTEND;TZID=Europe/Ljubljana;VALUE=DATE:20200131
DTSTAMP:20250331T103511Z
URL:https://www.kjuc.si/dogodki/matija-cipuric-razstava-ilustracij-za-magi
 strsko-delo-prirocnik-za-gradnjo-in-prezidavo-gradov-in-utrdb/
SUMMARY:Matija Cipurić: razstava ilustracij za magistrsko delo Priročnik 
 za gradnjo in prezidavo gradov in utrdb
DESCRIPTION:\n\nhttps://www.kjuc.si/dogodki/matija-cipuric-odprtje-razstave
 -ilustracij-za-magistrsko-delo-prirocnik-za-gradnjo-in-prezidavo-gradov-in
 -utrdb/
ATTACH;FMTTYPE=image/jpeg:https://www.kjuc.si/wp-content/uploads/2025/03/c
 ipuric-471x1024-1.jpg
CATEGORIES:Razstave
LOCATION:Knjižnica Jožeta Udoviča Cerknica\, Partizanska cesta 22\, Cerk
 nica\, Slovenia
GEO:45.795484;14.362483
X-APPLE-STRUCTURED-LOCATION;VALUE=URI;X-ADDRESS=Partizanska cesta 22\, Cerk
 nica\, Slovenia;X-APPLE-RADIUS=100;X-TITLE=Knjižnica Jožeta Udoviča Cer
 knica:geo:45.795484,14.362483
END:VEVENT
BEGIN:VTIMEZONE
TZID:Europe/Ljubljana
X-LIC-LOCATION:Europe/Ljubljana
BEGIN:STANDARD
DTSTART:20191027T020000
TZOFFSETFROM:+0200
TZOFFSETTO:+0100
TZNAME:CET
END:STANDARD
END:VTIMEZONE
END:VCALENDAR